- using R Under development (unstable) (2024-03-15 r86142)
- using platform: x86_64-pc-linux-gnu
- R was compiled by
gcc-13 (GCC) 13.2.0
GNU Fortran (GCC) 13.2.0
- running under: Fedora Linux 36 (Workstation Edition)
- using session charset: UTF-8
- using option ‘--no-stop-on-test-error’
- checking for file ‘psychmeta/DESCRIPTION’ ... OK
- checking extension type ... Package
- this is package ‘psychmeta’ version ‘2.6.5’
- package encoding: UTF-8
- checking package namespace information ... OK
- checking package dependencies ... OK
- checking if this is a source package ... OK
- checking if there is a namespace ... OK
- checking for executable files ... OK
- checking for hidden files and directories ... OK
- checking for portable file names ... OK
- checking for sufficient/correct file permissions ... OK
- checking whether package ‘psychmeta’ can be installed ... [83s/112s] OK
See the install log for details.
- checking package directory ... OK
- checking ‘build’ directory ... OK
- checking DESCRIPTION meta-information ... OK
- checking top-level files ... OK
- checking for left-over files ... OK
- checking index information ... OK
- checking package subdirectories ... OK
- checking code files for non-ASCII characters ... OK
- checking R files for syntax errors ... OK
- checking whether the package can be loaded ... OK
- checking whether the package can be loaded with stated dependencies ... OK
- checking whether the package can be unloaded cleanly ... OK
- checking whether the namespace can be loaded with stated dependencies ... OK
- checking whether the namespace can be unloaded cleanly ... OK
- checking loading without being on the library search path ... OK
- checking whether startup messages can be suppressed ... OK
- checking use of S3 registration ... OK
- checking dependencies in R code ... OK
- checking S3 generic/method consistency ... OK
- checking replacement functions ... OK
- checking foreign function calls ... OK
- checking R code for possible problems ... [229s/381s] OK
- checking Rd files ... [6s/16s] NOTE
checkRd: (-1) compute_dmod.Rd:65-69: Lost braces in \itemize; \value handles \item{}{} directly
checkRd: (-1) compute_dmod.Rd:70-71: Lost braces in \itemize; \value handles \item{}{} directly
checkRd: (-1) compute_dmod.Rd:72-73: Lost braces in \itemize; \value handles \item{}{} directly
checkRd: (-1) compute_dmod.Rd:74-75: Lost braces in \itemize; \value handles \item{}{} directly
checkRd: (-1) compute_dmod.Rd:76-77: Lost braces in \itemize; \value handles \item{}{} directly
checkRd: (-1) conf.limits.nc.chisq.Rd:36: Lost braces in \itemize; \value handles \item{}{} directly
checkRd: (-1) conf.limits.nc.chisq.Rd:37: Lost braces in \itemize; \value handles \item{}{} directly
checkRd: (-1) conf.limits.nc.chisq.Rd:38: Lost braces in \itemize; \value handles \item{}{} directly
checkRd: (-1) conf.limits.nc.chisq.Rd:39: Lost braces in \itemize; \value handles \item{}{} directly
checkRd: (-1) control_psychmeta.Rd:67: Lost braces in \itemize; meant \describe ?
checkRd: (-1) control_psychmeta.Rd:68: Lost braces in \itemize; meant \describe ?
checkRd: (-1) control_psychmeta.Rd:69-70: Lost braces in \itemize; meant \describe ?
checkRd: (-1) control_psychmeta.Rd:71: Lost braces in \itemize; meant \describe ?
checkRd: (-1) control_psychmeta.Rd:72: Lost braces in \itemize; meant \describe ?
checkRd: (-1) control_psychmeta.Rd:73: Lost braces in \itemize; meant \describe ?
checkRd: (-1) control_psychmeta.Rd:74: Lost braces in \itemize; meant \describe ?
checkRd: (-1) control_psychmeta.Rd:75: Lost braces in \itemize; meant \describe ?
checkRd: (-1) control_psychmeta.Rd:76: Lost braces in \itemize; meant \describe ?
checkRd: (-1) control_psychmeta.Rd:77: Lost braces in \itemize; meant \describe ?
checkRd: (-1) estimate_artifacts.Rd:83: Lost braces in \itemize; meant \describe ?
checkRd: (-1) estimate_artifacts.Rd:84: Lost braces in \itemize; meant \describe ?
checkRd: (-1) estimate_artifacts.Rd:85: Lost braces in \itemize; meant \describe ?
checkRd: (-1) estimate_artifacts.Rd:86: Lost braces in \itemize; meant \describe ?
checkRd: (-1) estimate_artifacts.Rd:87: Lost braces in \itemize; meant \describe ?
checkRd: (-1) estimate_artifacts.Rd:88: Lost braces in \itemize; meant \describe ?
checkRd: (-1) estimate_artifacts.Rd:89: Lost braces in \itemize; meant \describe ?
checkRd: (-1) estimate_artifacts.Rd:90: Lost braces in \itemize; meant \describe ?
checkRd: (-1) estimate_artifacts.Rd:91: Lost braces in \itemize; meant \describe ?
checkRd: (-1) estimate_artifacts.Rd:92: Lost braces in \itemize; meant \describe ?
checkRd: (-1) estimate_prod.Rd:72: Lost braces in \itemize; meant \describe ?
checkRd: (-1) estimate_prod.Rd:73: Lost braces in \itemize; meant \describe ?
checkRd: (-1) estimate_prod.Rd:74: Lost braces in \itemize; meant \describe ?
checkRd: (-1) estimate_prod.Rd:75: Lost braces in \itemize; meant \describe ?
checkRd: (-1) estimate_var_artifacts.Rd:224: Lost braces in \itemize; meant \describe ?
checkRd: (-1) estimate_var_artifacts.Rd:225: Lost braces in \itemize; meant \describe ?
checkRd: (-1) estimate_var_artifacts.Rd:227: Lost braces in \itemize; meant \describe ?
checkRd: (-1) estimate_var_artifacts.Rd:228: Lost braces in \itemize; meant \describe ?
checkRd: (-1) estimate_var_artifacts.Rd:230: Lost braces in \itemize; meant \describe ?
checkRd: (-1) estimate_var_artifacts.Rd:231: Lost braces in \itemize; meant \describe ?
checkRd: (-1) estimate_var_artifacts.Rd:233: Lost braces in \itemize; meant \describe ?
checkRd: (-1) estimate_var_artifacts.Rd:234: Lost braces in \itemize; meant \describe ?
checkRd: (-1) estimate_var_artifacts.Rd:236: Lost braces in \itemize; meant \describe ?
checkRd: (-1) estimate_var_artifacts.Rd:237: Lost braces in \itemize; meant \describe ?
checkRd: (-1) estimate_var_rho_int.Rd:87: Lost braces in \itemize; meant \describe ?
checkRd: (-1) estimate_var_rho_int.Rd:88: Lost braces in \itemize; meant \describe ?
checkRd: (-1) estimate_var_rho_int.Rd:89: Lost braces in \itemize; meant \describe ?
checkRd: (-1) estimate_var_rho_int.Rd:90: Lost braces in \itemize; meant \describe ?
checkRd: (-1) estimate_var_rho_int.Rd:91: Lost braces in \itemize; meant \describe ?
checkRd: (-1) estimate_var_rho_int.Rd:92: Lost braces in \itemize; meant \describe ?
checkRd: (-1) estimate_var_rho_tsa.Rd:175: Lost braces in \itemize; meant \describe ?
checkRd: (-1) estimate_var_rho_tsa.Rd:176: Lost braces in \itemize; meant \describe ?
checkRd: (-1) estimate_var_rho_tsa.Rd:177: Lost braces in \itemize; meant \describe ?
checkRd: (-1) estimate_var_rho_tsa.Rd:178: Lost braces in \itemize; meant \describe ?
checkRd: (-1) estimate_var_rho_tsa.Rd:179: Lost braces in \itemize; meant \describe ?
checkRd: (-1) estimate_var_rho_tsa.Rd:180: Lost braces in \itemize; meant \describe ?
checkRd: (-1) estimate_var_rho_tsa.Rd:181: Lost braces in \itemize; meant \describe ?
checkRd: (-1) estimate_var_tsa.Rd:116: Lost braces in \itemize; meant \describe ?
checkRd: (-1) estimate_var_tsa.Rd:117: Lost braces in \itemize; meant \describe ?
checkRd: (-1) estimate_var_tsa.Rd:118: Lost braces in \itemize; meant \describe ?
checkRd: (-1) estimate_var_tsa.Rd:119: Lost braces in \itemize; meant \describe ?
checkRd: (-1) estimate_var_tsa.Rd:120: Lost braces in \itemize; meant \describe ?
checkRd: (-1) estimate_var_tsa.Rd:121: Lost braces in \itemize; meant \describe ?
checkRd: (-1) estimate_var_tsa.Rd:122: Lost braces in \itemize; meant \describe ?
checkRd: (-1) filter_ma.Rd:29: Lost braces in \itemize; meant \describe ?
checkRd: (-1) filter_ma.Rd:30-31: Lost braces in \itemize; meant \describe ?
checkRd: (-1) filter_ma.Rd:32: Lost braces in \itemize; meant \describe ?
checkRd: (-1) filter_ma.Rd:33: Lost braces in \itemize; meant \describe ?
checkRd: (-1) filter_ma.Rd:34: Lost braces in \itemize; meant \describe ?
checkRd: (-1) filter_ma.Rd:35: Lost braces in \itemize; meant \describe ?
checkRd: (-1) get_stuff.Rd:192: Lost braces in \itemize; meant \describe ?
checkRd: (-1) get_stuff.Rd:193: Lost braces in \itemize; meant \describe ?
checkRd: (-1) get_stuff.Rd:194: Lost braces in \itemize; meant \describe ?
checkRd: (-1) get_stuff.Rd:195: Lost braces in \itemize; meant \describe ?
checkRd: (-1) get_stuff.Rd:196: Lost braces in \itemize; meant \describe ?
checkRd: (-1) get_stuff.Rd:197: Lost braces in \itemize; meant \describe ?
checkRd: (-1) get_stuff.Rd:198: Lost braces in \itemize; meant \describe ?
checkRd: (-1) get_stuff.Rd:199: Lost braces in \itemize; meant \describe ?
checkRd: (-1) get_stuff.Rd:200: Lost braces in \itemize; meant \describe ?
checkRd: (-1) get_stuff.Rd:201: Lost braces in \itemize; meant \describe ?
checkRd: (-1) get_stuff.Rd:202: Lost braces in \itemize; meant \describe ?
checkRd: (-1) get_stuff.Rd:203: Lost braces in \itemize; meant \describe ?
checkRd: (-1) get_stuff.Rd:204: Lost braces in \itemize; meant \describe ?
checkRd: (-1) get_stuff.Rd:152: Lost braces in \itemize; meant \describe ?
checkRd: (-1) get_stuff.Rd:153-154: Lost braces in \itemize; meant \describe ?
checkRd: (-1) get_stuff.Rd:155: Lost braces in \itemize; meant \describe ?
checkRd: (-1) get_stuff.Rd:156: Lost braces in \itemize; meant \describe ?
checkRd: (-1) get_stuff.Rd:157: Lost braces in \itemize; meant \describe ?
checkRd: (-1) get_stuff.Rd:158: Lost braces in \itemize; meant \describe ?
checkRd: (-1) ma_d.Rd:368: Lost braces in \itemize; meant \describe ?
checkRd: (-1) ma_d.Rd:369: Lost braces in \itemize; meant \describe ?
checkRd: (-1) ma_d.Rd:370: Lost braces in \itemize; meant \describe ?
checkRd: (-1) ma_d.Rd:371: Lost braces in \itemize; meant \describe ?
checkRd: (-1) ma_d.Rd:372: Lost braces in \itemize; meant \describe ?
checkRd: (-1) ma_d.Rd:373: Lost braces in \itemize; meant \describe ?
checkRd: (-1) ma_d.Rd:374: Lost braces in \itemize; meant \describe ?
checkRd: (-1) ma_d.Rd:375: Lost braces in \itemize; meant \describe ?
checkRd: (-1) ma_d.Rd:376: Lost braces in \itemize; meant \describe ?
checkRd: (-1) ma_d.Rd:377: Lost braces in \itemize; meant \describe ?
checkRd: (-1) ma_d.Rd:378: Lost braces in \itemize; meant \describe ?
checkRd: (-1) ma_d.Rd:379: Lost braces in \itemize; meant \describe ?
checkRd: (-1) ma_d.Rd:267: Lost braces in \itemize; \value handles \item{}{} directly
checkRd: (-1) ma_d.Rd:268: Lost braces in \itemize; \value handles \item{}{} directly
checkRd: (-1) ma_d.Rd:269: Lost braces in \itemize; \value handles \item{}{} directly
checkRd: (-1) ma_d.Rd:270: Lost braces in \itemize; \value handles \item{}{} directly
checkRd: (-1) ma_d.Rd:271: Lost braces in \itemize; \value handles \item{}{} directly
checkRd: (-1) ma_d.Rd:272: Lost braces in \itemize; \value handles \item{}{} directly
checkRd: (-1) ma_d.Rd:273: Lost braces in \itemize; \value handles \item{}{} directly
checkRd: (-1) ma_d.Rd:274: Lost braces in \itemize; \value handles \item{}{} directly
checkRd: (-1) ma_d.Rd:275: Lost braces in \itemize; \value handles \item{}{} directly
checkRd: (-1) ma_d.Rd:276: Lost braces in \itemize; \value handles \item{}{} directly
checkRd: (-1) ma_d.Rd:277: Lost braces in \itemize; \value handles \item{}{} directly
checkRd: (-1) ma_d.Rd:278: Lost braces in \itemize; \value handles \item{}{} directly
checkRd: (-1) ma_d.Rd:279: Lost braces in \itemize; \value handles \item{}{} directly
checkRd: (-1) ma_d.Rd:280: Lost braces in \itemize; \value handles \item{}{} directly
checkRd: (-1) ma_d.Rd:281: Lost braces in \itemize; \value handles \item{}{} directly
checkRd: (-1) ma_d.Rd:282: Lost braces in \itemize; \value handles \item{}{} directly
checkRd: (-1) ma_d.Rd:283: Lost braces in \itemize; \value handles \item{}{} directly
checkRd: (-1) ma_d.Rd:284: Lost braces in \itemize; \value handles \item{}{} directly
checkRd: (-1) ma_d.Rd:285: Lost braces in \itemize; \value handles \item{}{} directly
checkRd: (-1) ma_d.Rd:290: Lost braces in \itemize; \value handles \item{}{} directly
checkRd: (-1) ma_d.Rd:291: Lost braces in \itemize; \value handles \item{}{} directly
checkRd: (-1) ma_d.Rd:292: Lost braces in \itemize; \value handles \item{}{} directly
checkRd: (-1) ma_d.Rd:293: Lost braces in \itemize; \value handles \item{}{} directly
checkRd: (-1) ma_d.Rd:294: Lost braces in \itemize; \value handles \item{}{} directly
checkRd: (-1) ma_d.Rd:295: Lost braces in \itemize; \value handles \item{}{} directly
checkRd: (-1) ma_d.Rd:296: Lost braces in \itemize; \value handles \item{}{} directly
checkRd: (-1) ma_d.Rd:297: Lost braces in \itemize; \value handles \item{}{} directly
checkRd: (-1) ma_d.Rd:298: Lost braces in \itemize; \value handles \item{}{} directly
checkRd: (-1) ma_d.Rd:299: Lost braces in \itemize; \value handles \item{}{} directly
checkRd: (-1) ma_d.Rd:300: Lost braces in \itemize; \value handles \item{}{} directly
checkRd: (-1) ma_d.Rd:301: Lost braces in \itemize; \value handles \item{}{} directly
checkRd: (-1) ma_d.Rd:302: Lost braces in \itemize; \value handles \item{}{} directly
checkRd: (-1) ma_d.Rd:303: Lost braces in \itemize; \value handles \item{}{} directly
checkRd: (-1) ma_d.Rd:304: Lost braces in \itemize; \value handles \item{}{} directly
checkRd: (-1) ma_d.Rd:305: Lost braces in \itemize; \value handles \item{}{} directly
checkRd: (-1) ma_d.Rd:306: Lost braces in \itemize; \value handles \item{}{} directly
checkRd: (-1) ma_d.Rd:307: Lost braces in \itemize; \value handles \item{}{} directly
checkRd: (-1) ma_d.Rd:308: Lost braces in \itemize; \value handles \item{}{} directly
checkRd: (-1) ma_d.Rd:309: Lost braces in \itemize; \value handles \item{}{} directly
checkRd: (-1) ma_d.Rd:310: Lost braces in \itemize; \value handles \item{}{} directly
checkRd: (-1) ma_d.Rd:311: Lost braces in \itemize; \value handles \item{}{} directly
checkRd: (-1) ma_d.Rd:312: Lost braces in \itemize; \value handles \item{}{} directly
checkRd: (-1) ma_d.Rd:313: Lost braces in \itemize; \value handles \item{}{} directly
checkRd: (-1) ma_d.Rd:314: Lost braces in \itemize; \value handles \item{}{} directly
checkRd: (-1) ma_d.Rd:315: Lost braces in \itemize; \value handles \item{}{} directly
checkRd: (-1) ma_d.Rd:316: Lost braces in \itemize; \value handles \item{}{} directly
checkRd: (-1) ma_d.Rd:321: Lost braces in \itemize; \value handles \item{}{} directly
checkRd: (-1) ma_d.Rd:322: Lost braces in \itemize; \value handles \item{}{} directly
checkRd: (-1) ma_d.Rd:323: Lost braces in \itemize; \value handles \item{}{} directly
checkRd: (-1) ma_d.Rd:324: Lost braces in \itemize; \value handles \item{}{} directly
checkRd: (-1) ma_d.Rd:325: Lost braces in \itemize; \value handles \item{}{} directly
checkRd: (-1) ma_d.Rd:326: Lost braces in \itemize; \value handles \item{}{} directly
checkRd: (-1) ma_d.Rd:327: Lost braces in \itemize; \value handles \item{}{} directly
checkRd: (-1) ma_d.Rd:328: Lost braces in \itemize; \value handles \item{}{} directly
checkRd: (-1) ma_d.Rd:329: Lost braces in \itemize; \value handles \item{}{} directly
checkRd: (-1) ma_d.Rd:330: Lost braces in \itemize; \value handles \item{}{} directly
checkRd: (-1) ma_d.Rd:331: Lost braces in \itemize; \value handles \item{}{} directly
checkRd: (-1) ma_d.Rd:332: Lost braces in \itemize; \value handles \item{}{} directly
checkRd: (-1) ma_d.Rd:333: Lost braces in \itemize; \value handles \item{}{} directly
checkRd: (-1) ma_d.Rd:334: Lost braces in \itemize; \value handles \item{}{} directly
checkRd: (-1) ma_d.Rd:335: Lost braces in \itemize; \value handles \item{}{} directly
checkRd: (-1) ma_d.Rd:336: Lost braces in \itemize; \value handles \item{}{} directly
checkRd: (-1) ma_d.Rd:337: Lost braces in \itemize; \value handles \item{}{} directly
checkRd: (-1) ma_d.Rd:338: Lost braces in \itemize; \value handles \item{}{} directly
checkRd: (-1) ma_d.Rd:339: Lost braces in \itemize; \value handles \item{}{} directly
checkRd: (-1) ma_d.Rd:340: Lost braces in \itemize; \value handles \item{}{} directly
checkRd: (-1) ma_d.Rd:341: Lost braces in \itemize; \value handles \item{}{} directly
checkRd: (-1) ma_d.Rd:342: Lost braces in \itemize; \value handles \item{}{} directly
checkRd: (-1) ma_d.Rd:343: Lost braces in \itemize; \value handles \item{}{} directly
checkRd: (-1) ma_d.Rd:344: Lost braces in \itemize; \value handles \item{}{} directly
checkRd: (-1) ma_d.Rd:345: Lost braces in \itemize; \value handles \item{}{} directly
checkRd: (-1) ma_d.Rd:346: Lost braces in \itemize; \value handles \item{}{} directly
checkRd: (-1) ma_d.Rd:347: Lost braces in \itemize; \value handles \item{}{} directly
checkRd: (-1) ma_d.Rd:348: Lost braces in \itemize; \value handles \item{}{} directly
checkRd: (-1) ma_d.Rd:349: Lost braces in \itemize; \value handles \item{}{} directly
checkRd: (-1) ma_d.Rd:350: Lost braces in \itemize; \value handles \item{}{} directly
checkRd: (-1) ma_d.Rd:351: Lost braces in \itemize; \value handles \item{}{} directly
checkRd: (-1) ma_d.Rd:352: Lost braces in \itemize; \value handles \item{}{} directly
checkRd: (-1) ma_d.Rd:353: Lost braces in \itemize; \value handles \item{}{} directly
checkRd: (-1) ma_d.Rd:354: Lost braces in \itemize; \value handles \item{}{} directly
checkRd: (-1) ma_d.Rd:355: Lost braces in \itemize; \value handles \item{}{} directly
checkRd: (-1) ma_r.Rd:199: Lost braces in \itemize; meant \describe ?
checkRd: (-1) ma_r.Rd:200: Lost braces in \itemize; meant \describe ?
checkRd: (-1) ma_r.Rd:201: Lost braces in \itemize; meant \describe ?
checkRd: (-1) ma_r.Rd:202: Lost braces in \itemize; meant \describe ?
checkRd: (-1) ma_r.Rd:203: Lost braces in \itemize; meant \describe ?
checkRd: (-1) ma_r.Rd:204: Lost braces in \itemize; meant \describe ?
checkRd: (-1) ma_r.Rd:205: Lost braces in \itemize; meant \describe ?
checkRd: (-1) ma_r.Rd:206: Lost braces in \itemize; meant \describe ?
checkRd: (-1) ma_r.Rd:207: Lost braces in \itemize; meant \describe ?
checkRd: (-1) ma_r.Rd:208: Lost braces in \itemize; meant \describe ?
checkRd: (-1) ma_r.Rd:209: Lost braces in \itemize; meant \describe ?
checkRd: (-1) ma_r.Rd:210: Lost braces in \itemize; meant \describe ?
checkRd: (-1) ma_r.Rd:211: Lost braces in \itemize; meant \describe ?
checkRd: (-1) ma_r.Rd:212: Lost braces in \itemize; meant \describe ?
checkRd: (-1) ma_r.Rd:213: Lost braces in \itemize; meant \describe ?
checkRd: (-1) ma_r.Rd:214: Lost braces in \itemize; meant \describe ?
checkRd: (-1) ma_r.Rd:215: Lost braces in \itemize; meant \describe ?
checkRd: (-1) ma_r.Rd:216: Lost braces in \itemize; meant \describe ?
checkRd: (-1) ma_r.Rd:217: Lost braces in \itemize; meant \describe ?
checkRd: (-1) ma_r.Rd:218: Lost braces in \itemize; meant \describe ?
checkRd: (-1) ma_r.Rd:219: Lost braces in \itemize; meant \describe ?
checkRd: (-1) ma_r.Rd:226: Lost braces
226 | \item{ryy_restricted}{Logical vector or column name determining whether each element of code{ryy} is an incumbent reliability (\code{TRUE}) or an applicant reliability (\code{FALSE}).}
| ^
checkRd: (-1) ma_r.Rd:378: Lost braces in \itemize; meant \describe ?
checkRd: (-1) ma_r.Rd:379: Lost braces in \itemize; meant \describe ?
checkRd: (-1) ma_r.Rd:380: Lost braces in \itemize; meant \describe ?
checkRd: (-1) ma_r.Rd:381: Lost braces in \itemize; meant \describe ?
checkRd: (-1) ma_r.Rd:382: Lost braces in \itemize; meant \describe ?
checkRd: (-1) ma_r.Rd:383: Lost braces in \itemize; meant \describe ?
checkRd: (-1) ma_r.Rd:384: Lost braces in \itemize; meant \describe ?
checkRd: (-1) ma_r.Rd:385: Lost braces in \itemize; meant \describe ?
checkRd: (-1) ma_r.Rd:386: Lost braces in \itemize; meant \describe ?
checkRd: (-1) ma_r.Rd:387: Lost braces in \itemize; meant \describe ?
checkRd: (-1) ma_r.Rd:388: Lost braces in \itemize; meant \describe ?
checkRd: (-1) ma_r.Rd:389: Lost braces in \itemize; meant \describe ?
checkRd: (-1) ma_r.Rd:277: Lost braces in \itemize; \value handles \item{}{} directly
checkRd: (-1) ma_r.Rd:278: Lost braces in \itemize; \value handles \item{}{} directly
checkRd: (-1) ma_r.Rd:279: Lost braces in \itemize; \value handles \item{}{} directly
checkRd: (-1) ma_r.Rd:280: Lost braces in \itemize; \value handles \item{}{} directly
checkRd: (-1) ma_r.Rd:281: Lost braces in \itemize; \value handles \item{}{} directly
checkRd: (-1) ma_r.Rd:282: Lost braces in \itemize; \value handles \item{}{} directly
checkRd: (-1) ma_r.Rd:283: Lost braces in \itemize; \value handles \item{}{} directly
checkRd: (-1) ma_r.Rd:284: Lost braces in \itemize; \value handles \item{}{} directly
checkRd: (-1) ma_r.Rd:285: Lost braces in \itemize; \value handles \item{}{} directly
checkRd: (-1) ma_r.Rd:286: Lost braces in \itemize; \value handles \item{}{} directly
checkRd: (-1) ma_r.Rd:287: Lost braces in \itemize; \value handles \item{}{} directly
checkRd: (-1) ma_r.Rd:288: Lost braces in \itemize; \value handles \item{}{} directly
checkRd: (-1) ma_r.Rd:289: Lost braces in \itemize; \value handles \item{}{} directly
checkRd: (-1) ma_r.Rd:290: Lost braces in \itemize; \value handles \item{}{} directly
checkRd: (-1) ma_r.Rd:291: Lost braces in \itemize; \value handles \item{}{} directly
checkRd: (-1) ma_r.Rd:292: Lost braces in \itemize; \value handles \item{}{} directly
checkRd: (-1) ma_r.Rd:293: Lost braces in \itemize; \value handles \item{}{} directly
checkRd: (-1) ma_r.Rd:294: Lost braces in \itemize; \value handles \item{}{} directly
checkRd: (-1) ma_r.Rd:295: Lost braces in \itemize; \value handles \item{}{} directly
checkRd: (-1) ma_r.Rd:300: Lost braces in \itemize; \value handles \item{}{} directly
checkRd: (-1) ma_r.Rd:301: Lost braces in \itemize; \value handles \item{}{} directly
checkRd: (-1) ma_r.Rd:302: Lost braces in \itemize; \value handles \item{}{} directly
checkRd: (-1) ma_r.Rd:303: Lost braces in \itemize; \value handles \item{}{} directly
checkRd: (-1) ma_r.Rd:304: Lost braces in \itemize; \value handles \item{}{} directly
checkRd: (-1) ma_r.Rd:305: Lost braces in \itemize; \value handles \item{}{} directly
checkRd: (-1) ma_r.Rd:306: Lost braces in \itemize; \value handles \item{}{} directly
checkRd: (-1) ma_r.Rd:307: Lost braces in \itemize; \value handles \item{}{} directly
checkRd: (-1) ma_r.Rd:308: Lost braces in \itemize; \value handles \item{}{} directly
checkRd: (-1) ma_r.Rd:309: Lost braces in \itemize; \value handles \item{}{} directly
checkRd: (-1) ma_r.Rd:310: Lost braces in \itemize; \value handles \item{}{} directly
checkRd: (-1) ma_r.Rd:311: Lost braces in \itemize; \value handles \item{}{} directly
checkRd: (-1) ma_r.Rd:312: Lost braces in \itemize; \value handles \item{}{} directly
checkRd: (-1) ma_r.Rd:313: Lost braces in \itemize; \value handles \item{}{} directly
checkRd: (-1) ma_r.Rd:314: Lost braces in \itemize; \value handles \item{}{} directly
checkRd: (-1) ma_r.Rd:315: Lost braces in \itemize; \value handles \item{}{} directly
checkRd: (-1) ma_r.Rd:316: Lost braces in \itemize; \value handles \item{}{} directly
checkRd: (-1) ma_r.Rd:317: Lost braces in \itemize; \value handles \item{}{} directly
checkRd: (-1) ma_r.Rd:318: Lost braces in \itemize; \value handles \item{}{} directly
checkRd: (-1) ma_r.Rd:319: Lost braces in \itemize; \value handles \item{}{} directly
checkRd: (-1) ma_r.Rd:320: Lost braces in \itemize; \value handles \item{}{} directly
checkRd: (-1) ma_r.Rd:321: Lost braces in \itemize; \value handles \item{}{} directly
checkRd: (-1) ma_r.Rd:322: Lost braces in \itemize; \value handles \item{}{} directly
checkRd: (-1) ma_r.Rd:323: Lost braces in \itemize; \value handles \item{}{} directly
checkRd: (-1) ma_r.Rd:324: Lost braces in \itemize; \value handles \item{}{} directly
checkRd: (-1) ma_r.Rd:325: Lost braces in \itemize; \value handles \item{}{} directly
checkRd: (-1) ma_r.Rd:326: Lost braces in \itemize; \value handles \item{}{} directly
checkRd: (-1) ma_r.Rd:331: Lost braces in \itemize; \value handles \item{}{} directly
checkRd: (-1) ma_r.Rd:332: Lost braces in \itemize; \value handles \item{}{} directly
checkRd: (-1) ma_r.Rd:333: Lost braces in \itemize; \value handles \item{}{} directly
checkRd: (-1) ma_r.Rd:334: Lost braces in \itemize; \value handles \item{}{} directly
checkRd: (-1) ma_r.Rd:335: Lost braces in \itemize; \value handles \item{}{} directly
checkRd: (-1) ma_r.Rd:336: Lost braces in \itemize; \value handles \item{}{} directly
checkRd: (-1) ma_r.Rd:337: Lost braces in \itemize; \value handles \item{}{} directly
checkRd: (-1) ma_r.Rd:338: Lost braces in \itemize; \value handles \item{}{} directly
checkRd: (-1) ma_r.Rd:339: Lost braces in \itemize; \value handles \item{}{} directly
checkRd: (-1) ma_r.Rd:340: Lost braces in \itemize; \value handles \item{}{} directly
checkRd: (-1) ma_r.Rd:341: Lost braces in \itemize; \value handles \item{}{} directly
checkRd: (-1) ma_r.Rd:342: Lost braces in \itemize; \value handles \item{}{} directly
checkRd: (-1) ma_r.Rd:343: Lost braces in \itemize; \value handles \item{}{} directly
checkRd: (-1) ma_r.Rd:344: Lost braces in \itemize; \value handles \item{}{} directly
checkRd: (-1) ma_r.Rd:345: Lost braces in \itemize; \value handles \item{}{} directly
checkRd: (-1) ma_r.Rd:346: Lost braces in \itemize; \value handles \item{}{} directly
checkRd: (-1) ma_r.Rd:347: Lost braces in \itemize; \value handles \item{}{} directly
checkRd: (-1) ma_r.Rd:348: Lost braces in \itemize; \value handles \item{}{} directly
checkRd: (-1) ma_r.Rd:349: Lost braces in \itemize; \value handles \item{}{} directly
checkRd: (-1) ma_r.Rd:350: Lost braces in \itemize; \value handles \item{}{} directly
checkRd: (-1) ma_r.Rd:351: Lost braces in \itemize; \value handles \item{}{} directly
checkRd: (-1) ma_r.Rd:352: Lost braces in \itemize; \value handles \item{}{} directly
checkRd: (-1) ma_r.Rd:353: Lost braces in \itemize; \value handles \item{}{} directly
checkRd: (-1) ma_r.Rd:354: Lost braces in \itemize; \value handles \item{}{} directly
checkRd: (-1) ma_r.Rd:355: Lost braces in \itemize; \value handles \item{}{} directly
checkRd: (-1) ma_r.Rd:356: Lost braces in \itemize; \value handles \item{}{} directly
checkRd: (-1) ma_r.Rd:357: Lost braces in \itemize; \value handles \item{}{} directly
checkRd: (-1) ma_r.Rd:358: Lost braces in \itemize; \value handles \item{}{} directly
checkRd: (-1) ma_r.Rd:359: Lost braces in \itemize; \value handles \item{}{} directly
checkRd: (-1) ma_r.Rd:360: Lost braces in \itemize; \value handles \item{}{} directly
checkRd: (-1) ma_r.Rd:361: Lost braces in \itemize; \value handles \item{}{} directly
checkRd: (-1) ma_r.Rd:362: Lost braces in \itemize; \value handles \item{}{} directly
checkRd: (-1) ma_r.Rd:363: Lost braces in \itemize; \value handles \item{}{} directly
checkRd: (-1) ma_r.Rd:364: Lost braces in \itemize; \value handles \item{}{} directly
checkRd: (-1) ma_r.Rd:365: Lost braces in \itemize; \value handles \item{}{} directly
checkRd: (-1) metabulate.Rd:89: Lost braces in \itemize; meant \describe ?
checkRd: (-1) metabulate.Rd:90: Lost braces in \itemize; meant \describe ?
checkRd: (-1) metabulate.Rd:91: Lost braces in \itemize; meant \describe ?
- checking Rd metadata ... OK
- checking Rd line widths ... OK
- checking Rd cross-references ... OK
- checking for missing documentation entries ... OK
- checking for code/documentation mismatches ... OK
- checking Rd \usage sections ... OK
- checking Rd contents ... OK
- checking for unstated dependencies in examples ... OK
- checking contents of ‘data’ directory ... OK
- checking data for non-ASCII characters ... OK
- checking LazyData ... OK
- checking data for ASCII and uncompressed saves ... OK
- checking installed files from ‘inst/doc’ ... OK
- checking files in ‘vignettes’ ... OK
- checking examples ... [55s/168s] OK
- checking for unstated dependencies in ‘tests’ ... OK
- checking tests ... [26s/49s] OK
Running ‘testthat.R’ [25s/47s]
- checking for unstated dependencies in vignettes ... OK
- checking package vignettes ... OK
- checking re-building of vignette outputs ... [98s/231s] OK
- checking PDF version of manual ... [24s/48s] OK
- checking HTML version of manual ... [19s/43s] OK
- checking for non-standard things in the check directory ... OK
- checking for detritus in the temp directory ... OK
- DONE
Status: 1 NOTE