- using R Under development (unstable) (2024-04-12 r86412)
- using platform: x86_64-pc-linux-gnu
- R was compiled by
clang version 18.1.2
flang-new version 18.1.2
- running under: Fedora Linux 36 (Workstation Edition)
- using session charset: UTF-8
- using option ‘--no-stop-on-test-error’
- checking for file ‘spc/DESCRIPTION’ ... OK
- this is package ‘spc’ version ‘0.6.7’
- checking package namespace information ... OK
- checking package dependencies ... OK
- checking if this is a source package ... OK
- checking if there is a namespace ... OK
- checking for executable files ... OK
- checking for hidden files and directories ... OK
- checking for portable file names ... OK
- checking for sufficient/correct file permissions ... OK
- checking whether package ‘spc’ can be installed ... [67s/86s] OK
See the install log for details.
- used C compiler: ‘clang version 18.1.2’
- checking installed package size ... OK
- checking package directory ... OK
- checking DESCRIPTION meta-information ... OK
- checking top-level files ... OK
- checking for left-over files ... OK
- checking index information ... OK
- checking package subdirectories ... OK
- checking code files for non-ASCII characters ... OK
- checking R files for syntax errors ... OK
- checking whether the package can be loaded ... OK
- checking whether the package can be loaded with stated dependencies ... OK
- checking whether the package can be unloaded cleanly ... OK
- checking whether the namespace can be loaded with stated dependencies ... OK
- checking whether the namespace can be unloaded cleanly ... OK
- checking loading without being on the library search path ... OK
- checking use of S3 registration ... OK
- checking dependencies in R code ... OK
- checking S3 generic/method consistency ... OK
- checking replacement functions ... OK
- checking foreign function calls ... OK
- checking R code for possible problems ... [27s/35s] OK
- checking Rd files ... NOTE
checkRd: (-1) dphat.Rd:25: Lost braces
25 | These results were heavily used in Krumbholz/Z\"{o}ller (1995) for Shewhart and in Knoth/Steinmetz (2013) for EWMA control charts.
| ^
checkRd: (-1) dphat.Rd:38: Lost braces
38 | W. Krumbholz and A. Z\"{o}ller (1995),
| ^
checkRd: (-1) dphat.Rd:39: Lost braces
39 | \code{p}-Karten vom Shewhartschen Typ f\"{u}r die messende Pr\"{u}fung,
| ^
checkRd: (-1) dphat.Rd:39: Lost braces
39 | \code{p}-Karten vom Shewhartschen Typ f\"{u}r die messende Pr\"{u}fung,
| ^
checkRd: (-1) xshewhartrunsrules.arl.Rd:37-38: Lost braces in \itemize; meant \describe ?
checkRd: (-1) xshewhartrunsrules.arl.Rd:39-40: Lost braces in \itemize; meant \describe ?
checkRd: (-1) xshewhartrunsrules.arl.Rd:41-42: Lost braces in \itemize; meant \describe ?
checkRd: (-1) xshewhartrunsrules.arl.Rd:43-44: Lost braces in \itemize; meant \describe ?
- checking Rd metadata ... OK
- checking Rd line widths ... NOTE
Rd file 'pois.crit.L0L1.Rd':
\examples lines wider than 100 characters:
## Not run: kh <- xcusum.crit.L0L1(La, Lr, sided="one") # instead of deploying EK1960, one could use more accurate numbers
These lines will be truncated in the PDF manual.
- checking Rd cross-references ... OK
- checking for missing documentation entries ... OK
- checking for code/documentation mismatches ... OK
- checking Rd \usage sections ... OK
- checking Rd contents ... OK
- checking for unstated dependencies in examples ... OK
- checking line endings in C/C++/Fortran sources/headers ... OK
- checking line endings in Makefiles ... OK
- checking compilation flags in Makevars ... OK
- checking for GNU extensions in Makefiles ... OK
- checking for portable use of $(BLAS_LIBS) and $(LAPACK_LIBS) ... OK
- checking use of PKG_*FLAGS in Makefiles ... OK
- checking use of SHLIB_OPENMP_*FLAGS in Makefiles ... OK
- checking pragmas in C/C++ headers and code ... OK
- checking compilation flags used ... OK
- checking compiled code ... OK
- checking examples ... [21s/27s] OK
- checking PDF version of manual ... [14s/18s] OK
- checking HTML version of manual ... [8s/13s] OK
- checking for non-standard things in the check directory ... OK
- checking for detritus in the temp directory ... OK
- DONE
Status: 2 NOTEs