- using R Under development (unstable) (2024-04-24 r86484)
- using platform: x86_64-pc-linux-gnu
- R was compiled by
gcc-13 (Debian 13.2.0-23) 13.2.0
GNU Fortran (Debian 13.2.0-23) 13.2.0
- running under: Debian GNU/Linux trixie/sid
- using session charset: UTF-8
- checking for file ‘ruminate/DESCRIPTION’ ... OK
- this is package ‘ruminate’ version ‘0.2.2’
- package encoding: UTF-8
- checking package namespace information ... OK
- checking package dependencies ... OK
- checking if this is a source package ... OK
- checking if there is a namespace ... OK
- checking for executable files ... OK
- checking for hidden files and directories ... OK
- checking for portable file names ... OK
- checking for sufficient/correct file permissions ... OK
- checking whether package ‘ruminate’ can be installed ... OK
See the install log for details.
- checking package directory ... OK
- checking for future file timestamps ... OK
- checking ‘build’ directory ... OK
- checking DESCRIPTION meta-information ... OK
- checking top-level files ... OK
- checking for left-over files ... OK
- checking index information ... OK
- checking package subdirectories ... OK
- checking code files for non-ASCII characters ... OK
- checking R files for syntax errors ... OK
- checking whether the package can be loaded ... [3s/5s] OK
- checking whether the package can be loaded with stated dependencies ... [3s/5s] OK
- checking whether the package can be unloaded cleanly ... [2s/5s] OK
- checking whether the namespace can be loaded with stated dependencies ... [2s/5s] OK
- checking whether the namespace can be unloaded cleanly ... [3s/5s] OK
- checking loading without being on the library search path ... [2s/3s] OK
- checking whether startup messages can be suppressed ... [3s/4s] OK
- checking use of S3 registration ... OK
- checking dependencies in R code ... OK
- checking S3 generic/method consistency ... OK
- checking replacement functions ... OK
- checking foreign function calls ... OK
- checking R code for possible problems ... [28s/44s] OK
- checking Rd files ... [1s/1s] OK
- checking Rd metadata ... OK
- checking Rd line widths ... OK
- checking Rd cross-references ... OK
- checking for missing documentation entries ... OK
- checking for code/documentation mismatches ... OK
- checking Rd \usage sections ... OK
- checking Rd contents ... OK
- checking for unstated dependencies in examples ... OK
- checking installed files from ‘inst/doc’ ... OK
- checking files in ‘vignettes’ ... OK
- checking examples ... [76s/121s] OK
Examples with CPU (user + system) or elapsed time > 5s
user system elapsed
run_nca_components 4.436 0.043 7.232
mk_figure_ind_obs 4.148 0.037 7.980
NCA_fetch_current_obj 3.977 0.059 6.037
NCA_append_report 3.776 0.176 5.371
mk_table_nca_params 3.850 0.056 7.336
NCA_find_col 3.762 0.036 5.938
NCA_fetch_code 3.712 0.075 5.925
NCA_fetch_ana_ds 3.597 0.128 5.207
mk_table_ind_obs 3.671 0.045 5.504
NCA_new_ana 3.662 0.048 5.812
NCA_set_current_ana 3.565 0.081 6.190
nca_builder 3.592 0.043 5.877
NCA_fetch_ds 3.581 0.054 5.192
NCA_fetch_ana_pknca 3.539 0.040 5.475
NCA_fetch_state 3.511 0.039 5.678
NCA_mkactive_ana 3.451 0.090 5.444
NCA_test_mksession 3.500 0.040 6.787
NCA_process_current_ana 3.439 0.062 5.288
- checking for unstated dependencies in ‘tests’ ... OK
- checking tests ... [21s/36s] OK
Running ‘testthat.R’ [21s/36s]
- checking for unstated dependencies in vignettes ... OK
- checking package vignettes ... OK
- checking re-building of vignette outputs ... [7s/15s] OK
- checking PDF version of manual ... [5s/12s] OK
- checking HTML version of manual ... [1s/4s] OK
- checking for non-standard things in the check directory ... OK
- DONE
Status: OK