- using R Under development (unstable) (2024-04-24 r86483)
- using platform: x86_64-pc-linux-gnu
- R was compiled by
gcc-13 (Debian 13.2.0-23) 13.2.0
GNU Fortran (Debian 13.2.0-23) 13.2.0
- running under: Debian GNU/Linux trixie/sid
- using session charset: UTF-8
- checking for file ‘netmeta/DESCRIPTION’ ... OK
- this is package ‘netmeta’ version ‘2.9-0’
- package encoding: UTF-8
- checking package namespace information ... OK
- checking package dependencies ... OK
- checking if this is a source package ... OK
- checking if there is a namespace ... OK
- checking for executable files ... OK
- checking for hidden files and directories ... OK
- checking for portable file names ... OK
- checking for sufficient/correct file permissions ... OK
- checking whether package ‘netmeta’ can be installed ... OK
See the install log for details.
- checking package directory ... OK
- checking for future file timestamps ... OK
- checking ‘build’ directory ... OK
- checking DESCRIPTION meta-information ... OK
- checking top-level files ... OK
- checking for left-over files ... OK
- checking index information ... OK
- checking package subdirectories ... OK
- checking code files for non-ASCII characters ... OK
- checking R files for syntax errors ... OK
- checking whether the package can be loaded ... [3s/4s] OK
- checking whether the package can be loaded with stated dependencies ... [3s/4s] OK
- checking whether the package can be unloaded cleanly ... [3s/4s] OK
- checking whether the namespace can be loaded with stated dependencies ... [3s/4s] OK
- checking whether the namespace can be unloaded cleanly ... [3s/4s] OK
- checking loading without being on the library search path ... [3s/5s] OK
- checking whether startup messages can be suppressed ... [3s/5s] OK
- checking use of S3 registration ... OK
- checking dependencies in R code ... OK
- checking S3 generic/method consistency ... OK
- checking replacement functions ... OK
- checking foreign function calls ... OK
- checking R code for possible problems ... [79s/114s] OK
- checking Rd files ... [2s/2s] OK
- checking Rd metadata ... OK
- checking Rd line widths ... OK
- checking Rd cross-references ... OK
- checking for missing documentation entries ... OK
- checking for code/documentation mismatches ... OK
- checking Rd \usage sections ... OK
- checking Rd contents ... OK
- checking for unstated dependencies in examples ... OK
- checking contents of ‘data’ directory ... OK
- checking data for non-ASCII characters ... [0s/0s] OK
- checking data for ASCII and uncompressed saves ... OK
- checking sizes of PDF files under ‘inst/doc’ ... OK
- checking installed files from ‘inst/doc’ ... OK
- checking files in ‘vignettes’ ... OK
- checking examples ... [262s/406s] OK
Examples with CPU (user + system) or elapsed time > 5s
user system elapsed
Gurusamy2011 8.865 0.134 13.433
Dong2013 6.852 0.091 10.594
netmetabin 6.738 0.019 9.302
netpairwise 6.410 0.028 10.492
netmeasures 6.298 0.015 10.161
plot.rankogram 6.213 0.026 9.466
forest.netmeta 6.011 0.036 11.147
netdistance 5.782 0.044 9.421
netrank 5.734 0.051 8.486
smokingcessation 5.735 0.016 9.771
summary.netmeta 5.723 0.012 8.326
invmat 5.722 0.007 8.743
netgraph.netmeta 5.627 0.062 7.711
as.data.frame.netmeta 5.590 0.087 8.047
treats 5.660 0.004 8.887
print.summary.netmeta 5.633 0.012 8.685
netmeta 5.617 0.027 7.238
netmatrix 5.589 0.008 7.070
netgraph 5.525 0.011 8.066
netbind 5.442 0.011 7.971
forest.netbind 5.286 0.054 7.126
forest.netcomparison 5.152 0.028 9.512
netcomb 5.125 0.051 8.601
forest.netcomplex 5.119 0.012 8.202
Franchini2012 4.887 0.076 7.843
netimpact 4.681 0.004 6.226
print.netimpact 4.633 0.008 7.358
netgraph.netimpact 4.630 0.004 7.011
forest.netcomb 4.528 0.020 7.013
netcontrib 4.530 0.007 5.922
summary.netcomb 4.436 0.051 8.026
netcomparison 4.428 0.000 6.513
rankogram 4.368 0.000 6.992
netcomplex 4.350 0.015 6.573
print.netcomb 4.334 0.016 7.236
dietaryfat 4.301 0.020 8.157
print.summary.netcomb 4.283 0.003 5.762
print.netbind 4.249 0.001 7.271
netgraph.netcomb 4.161 0.012 6.759
Linde2016 4.154 0.012 6.659
netheat 4.126 0.004 6.460
print.decomp.design 3.814 0.003 5.633
nettable 3.788 0.008 5.592
forest.netsplit 3.724 0.052 6.833
decomp.design 3.697 0.012 5.610
Woods2010 3.621 0.012 6.229
netleague 3.624 0.008 5.283
Stowe2010 3.519 0.035 5.696
heatplot.netmeta 3.106 0.020 5.802
heatplot 3.107 0.008 5.586
hatmatrix 3.000 0.008 5.468
- checking for unstated dependencies in vignettes ... OK
- checking package vignettes ... OK
- checking re-building of vignette outputs ... [1s/1s] OK
- checking PDF version of manual ... [12s/25s] OK
- checking HTML version of manual ... [7s/15s] OK
- checking for non-standard things in the check directory ... OK
- DONE
Status: OK