- using R Under development (unstable) (2024-04-22 r86468)
- using platform: x86_64-pc-linux-gnu
- R was compiled by
gcc-13 (Debian 13.2.0-13) 13.2.0
GNU Fortran (Debian 13.2.0-13) 13.2.0
- running under: Debian GNU/Linux trixie/sid
- using session charset: UTF-8
- checking for file ‘mlmts/DESCRIPTION’ ... OK
- checking extension type ... Package
- this is package ‘mlmts’ version ‘1.1.1’
- package encoding: UTF-8
- checking package namespace information ... OK
- checking package dependencies ... NOTE
Packages suggested but not available for checking:
'ueadata1', 'ueadata2', 'ueadata3', 'ueadata4', 'ueadata5',
'ueadata6', 'ueadata7', 'ueadata8'
- checking if this is a source package ... OK
- checking if there is a namespace ... OK
- checking for executable files ... OK
- checking for hidden files and directories ... OK
- checking for portable file names ... OK
- checking for sufficient/correct file permissions ... OK
- checking whether package ‘mlmts’ can be installed ... OK
See the install log for details.
- checking package directory ... OK
- checking for future file timestamps ... OK
- checking DESCRIPTION meta-information ... OK
- checking top-level files ... OK
- checking for left-over files ... OK
- checking index information ... OK
- checking package subdirectories ... OK
- checking code files for non-ASCII characters ... OK
- checking R files for syntax errors ... OK
- checking whether the package can be loaded ... [0s/1s] OK
- checking whether the package can be loaded with stated dependencies ... [0s/0s] OK
- checking whether the package can be unloaded cleanly ... [0s/0s] OK
- checking whether the namespace can be loaded with stated dependencies ... [0s/0s] OK
- checking whether the namespace can be unloaded cleanly ... [0s/1s] OK
- checking loading without being on the library search path ... [0s/1s] OK
- checking use of S3 registration ... OK
- checking dependencies in R code ... OK
- checking S3 generic/method consistency ... OK
- checking replacement functions ... OK
- checking foreign function calls ... OK
- checking R code for possible problems ... [10s/19s] OK
- checking Rd files ... [3s/5s] OK
- checking Rd metadata ... OK
- checking Rd line widths ... OK
- checking Rd cross-references ... OK
- checking for missing documentation entries ... OK
- checking for code/documentation mismatches ... OK
- checking Rd \usage sections ... OK
- checking Rd contents ... OK
- checking for unstated dependencies in examples ... OK
- checking contents of ‘data’ directory ... OK
- checking data for non-ASCII characters ... [1s/1s] OK
- checking LazyData ... OK
- checking data for ASCII and uncompressed saves ... OK
- checking examples ... [77s/131s] OK
Examples with CPU (user + system) or elapsed time > 5s
user system elapsed
dis_qcd 7.036 0.829 11.692
outlier_detection 6.700 0.825 13.526
plot_2d_scaling 5.692 0.525 11.842
dis_spectral 4.954 0.924 9.027
dis_dtw_2 4.361 0.888 7.362
f4_classifier 4.061 0.642 9.391
dis_frechet 3.171 0.904 7.165
dis_www 3.146 0.140 5.512
vpca_clustering 2.973 0.145 6.132
dis_zagorecki 2.759 0.294 5.088
dis_mcc 2.700 0.193 5.277
mc2pca_clustering 2.428 0.274 5.278
- checking for unstated dependencies in ‘tests’ ... OK
- checking tests ... [1s/2s] OK
Running ‘testthat.R’ [1s/2s]
- checking PDF version of manual ... [9s/22s] OK
- checking HTML version of manual ... [3s/9s] OK
- checking for non-standard things in the check directory ... OK
- DONE
Status: 1 NOTE