- using R Under development (unstable) (2024-04-24 r86483)
- using platform: x86_64-pc-linux-gnu
- R was compiled by
gcc-13 (Debian 13.2.0-23) 13.2.0
GNU Fortran (Debian 13.2.0-23) 13.2.0
- running under: Debian GNU/Linux trixie/sid
- using session charset: UTF-8
- checking for file ‘RKEEL/DESCRIPTION’ ... OK
- checking extension type ... Package
- this is package ‘RKEEL’ version ‘1.3.4’
- checking package namespace information ... OK
- checking package dependencies ... OK
- checking if this is a source package ... OK
- checking if there is a namespace ... OK
- checking for executable files ... OK
- checking for hidden files and directories ... OK
- checking for portable file names ... OK
- checking for sufficient/correct file permissions ... OK
- checking serialization versions ... OK
- checking whether package ‘RKEEL’ can be installed ... OK
See the install log for details.
- checking package directory ... OK
- checking for future file timestamps ... OK
- checking DESCRIPTION meta-information ... OK
- checking top-level files ... OK
- checking for left-over files ... OK
- checking index information ... OK
- checking package subdirectories ... OK
- checking code files for non-ASCII characters ... OK
- checking R files for syntax errors ... OK
- checking whether the package can be loaded ... [1s/1s] OK
- checking whether the package can be loaded with stated dependencies ... [1s/1s] OK
- checking whether the package can be unloaded cleanly ... [1s/1s] OK
- checking whether the namespace can be loaded with stated dependencies ... [1s/1s] OK
- checking whether the namespace can be unloaded cleanly ... [1s/1s] OK
- checking loading without being on the library search path ... [1s/1s] OK
- checking whether startup messages can be suppressed ... [1s/1s] OK
- checking use of S3 registration ... OK
- checking dependencies in R code ... OK
- checking S3 generic/method consistency ... OK
- checking replacement functions ... OK
- checking foreign function calls ... OK
- checking R code for possible problems ... [13s/19s] OK
- checking Rd files ... [1s/2s] OK
- checking Rd metadata ... OK
- checking Rd line widths ... OK
- checking Rd cross-references ... OK
- checking for missing documentation entries ... OK
- checking for code/documentation mismatches ... OK
- checking Rd \usage sections ... OK
- checking Rd contents ... OK
- checking for unstated dependencies in examples ... OK
- checking examples ... [271s/445s] OK
Examples with CPU (user + system) or elapsed time > 5s
user system elapsed
ANR-F 7.914 0.304 12.137
Alcalaetal-A 6.146 0.365 12.075
Nominal2Binary-TR 6.272 0.158 9.790
ABB-IEP-FS 5.524 0.406 9.640
CART-R 5.584 0.235 8.084
GANN-C 5.431 0.152 6.799
Bayesian-D 4.974 0.356 8.765
AllPosible-MV 4.990 0.318 8.288
SSGA-Integer-knn-FS 4.910 0.324 7.810
UniformWidth-D 4.901 0.331 7.759
UniformFrequency-D 4.826 0.326 8.338
Apriori-A 4.879 0.184 8.454
ID3-D 4.733 0.291 8.362
ZScore-TR 4.840 0.155 8.297
KNN-MV 4.854 0.111 7.420
KMeans-MV 4.793 0.154 7.306
Proportional-D 4.750 0.194 7.132
Eclat-A 4.738 0.201 7.412
Relief-FS 4.585 0.332 7.236
MostCommon-MV 4.688 0.210 7.435
CleanAttributes-TR 4.695 0.196 7.770
Ignore-MV 4.680 0.145 7.967
LVF-IEP-FS 4.646 0.149 7.593
MinMax-TR 4.632 0.150 7.947
ART-C 4.480 0.168 6.943
FuzzyApriori-A 4.353 0.265 7.841
RISE-C 4.460 0.151 5.971
FPgrowth-A 4.321 0.285 7.391
DecimalScaling-TR 4.515 0.076 7.803
GeneticFuzzyAprioriDC-A 4.327 0.240 7.200
ID3-C 4.339 0.172 5.949
GeneticFuzzyApriori-A 4.292 0.212 6.288
SFS-IEP-FS 4.026 0.271 6.921
NB-C 3.673 0.197 5.482
CMAR-C 2.898 0.335 5.330
runCV 0.443 0.008 10.252
runSequential 0.113 0.024 7.804
runParallel 0.117 0.008 5.149
- checking PDF version of manual ... [10s/19s] OK
- checking HTML version of manual ... [5s/14s] OK
- checking for non-standard things in the check directory ... OK
- DONE
Status: OK