- using R Under development (unstable) (2024-04-24 r86484)
- using platform: x86_64-pc-linux-gnu
- R was compiled by
gcc-13 (Debian 13.2.0-23) 13.2.0
GNU Fortran (Debian 13.2.0-23) 13.2.0
- running under: Debian GNU/Linux trixie/sid
- using session charset: UTF-8
- checking for file ‘AIUQ/DESCRIPTION’ ... OK
- checking extension type ... Package
- this is package ‘AIUQ’ version ‘0.5.1’
- package encoding: UTF-8
- checking package namespace information ... OK
- checking package dependencies ... OK
- checking if this is a source package ... OK
- checking if there is a namespace ... OK
- checking for executable files ... OK
- checking for hidden files and directories ... OK
- checking for portable file names ... OK
- checking for sufficient/correct file permissions ... OK
- checking serialization versions ... OK
- checking whether package ‘AIUQ’ can be installed ... OK
See the install log for details.
- checking package directory ... OK
- checking for future file timestamps ... OK
- checking DESCRIPTION meta-information ... OK
- checking top-level files ... OK
- checking for left-over files ... OK
- checking index information ... OK
- checking package subdirectories ... OK
- checking code files for non-ASCII characters ... OK
- checking R files for syntax errors ... OK
- checking whether the package can be loaded ... [0s/1s] OK
- checking whether the package can be loaded with stated dependencies ... [0s/1s] OK
- checking whether the package can be unloaded cleanly ... [0s/1s] OK
- checking whether the namespace can be loaded with stated dependencies ... [0s/1s] OK
- checking whether the namespace can be unloaded cleanly ... [0s/1s] OK
- checking loading without being on the library search path ... [0s/1s] OK
- checking use of S3 registration ... OK
- checking dependencies in R code ... OK
- checking S3 generic/method consistency ... OK
- checking replacement functions ... OK
- checking foreign function calls ... OK
- checking R code for possible problems ... [22s/37s] OK
- checking Rd files ... [1s/2s] OK
- checking Rd metadata ... OK
- checking Rd line widths ... OK
- checking Rd cross-references ... OK
- checking for missing documentation entries ... OK
- checking for code/documentation mismatches ... OK
- checking Rd \usage sections ... OK
- checking Rd contents ... OK
- checking for unstated dependencies in examples ... OK
- checking examples ... [76s/121s] OK
Examples with CPU (user + system) or elapsed time > 5s
user system elapsed
get_isf 8.361 0.350 13.262
get_dqt 8.293 0.289 13.980
SAM 8.014 0.475 12.921
show.sam 7.507 0.244 12.861
modeled_isf 7.418 0.278 13.690
modeled_dqt 7.386 0.307 11.390
aniso_SAM 7.394 0.249 11.096
aniso_simulation 4.021 0.244 6.784
plot_MSD 4.033 0.201 6.827
show.aniso_sam 3.995 0.086 6.604
simulation 3.381 0.166 5.395
- checking PDF version of manual ... [7s/15s] OK
- checking HTML version of manual ... [3s/6s] OK
- checking for non-standard things in the check directory ... OK
- DONE
Status: OK