- using R Under development (unstable) (2024-04-24 r86483)
- using platform: x86_64-pc-linux-gnu
- R was compiled by
Debian clang version 18.1.0 (rc4-1)
Debian flang-new version 18.1.0 (rc4-1)
- running under: Debian GNU/Linux trixie/sid
- using session charset: UTF-8
- checking for file ‘ruminate/DESCRIPTION’ ... OK
- this is package ‘ruminate’ version ‘0.2.2’
- package encoding: UTF-8
- checking package namespace information ... OK
- checking package dependencies ... OK
- checking if this is a source package ... OK
- checking if there is a namespace ... OK
- checking for executable files ... OK
- checking for hidden files and directories ... OK
- checking for portable file names ... OK
- checking for sufficient/correct file permissions ... OK
- checking whether package ‘ruminate’ can be installed ... OK
See the install log for details.
- checking package directory ... OK
- checking for future file timestamps ... OK
- checking ‘build’ directory ... OK
- checking DESCRIPTION meta-information ... OK
- checking top-level files ... OK
- checking for left-over files ... OK
- checking index information ... OK
- checking package subdirectories ... OK
- checking code files for non-ASCII characters ... OK
- checking R files for syntax errors ... OK
- checking whether the package can be loaded ... [4s/5s] OK
- checking whether the package can be loaded with stated dependencies ... [3s/3s] OK
- checking whether the package can be unloaded cleanly ... [3s/4s] OK
- checking whether the namespace can be loaded with stated dependencies ... [3s/4s] OK
- checking whether the namespace can be unloaded cleanly ... [4s/5s] OK
- checking loading without being on the library search path ... [3s/4s] OK
- checking whether startup messages can be suppressed ... [4s/5s] OK
- checking use of S3 registration ... OK
- checking dependencies in R code ... OK
- checking S3 generic/method consistency ... OK
- checking replacement functions ... OK
- checking foreign function calls ... OK
- checking R code for possible problems ... [39s/48s] OK
- checking Rd files ... [1s/1s] OK
- checking Rd metadata ... OK
- checking Rd line widths ... OK
- checking Rd cross-references ... OK
- checking for missing documentation entries ... OK
- checking for code/documentation mismatches ... OK
- checking Rd \usage sections ... OK
- checking Rd contents ... OK
- checking for unstated dependencies in examples ... OK
- checking installed files from ‘inst/doc’ ... OK
- checking files in ‘vignettes’ ... OK
- checking examples ... [106s/122s] OK
Examples with CPU (user + system) or elapsed time > 5s
user system elapsed
run_nca_components 6.057 0.052 6.633
mk_figure_ind_obs 5.961 0.115 6.656
NCA_fetch_current_obj 5.595 0.068 6.966
mk_table_nca_params 5.470 0.084 6.268
NCA_append_report 5.171 0.292 6.308
mk_table_ind_obs 5.369 0.059 6.176
NCA_find_col 5.225 0.133 6.864
NCA_fetch_ana_ds 5.023 0.174 6.046
NCA_fetch_state 5.082 0.071 5.745
NCA_fetch_code 5.052 0.072 5.548
NCA_new_ana 5.053 0.068 6.061
NCA_fetch_ana_pknca 4.969 0.114 5.789
NCA_fetch_ds 4.963 0.107 5.670
NCA_fetch_current_ana 4.925 0.134 6.503
nca_builder 4.989 0.055 5.814
NCA_process_current_ana 4.923 0.076 5.313
NCA_set_current_ana 4.867 0.075 5.492
NCA_mkactive_ana 4.894 0.047 5.843
NCA_test_mksession 4.844 0.035 5.537
- checking for unstated dependencies in ‘tests’ ... OK
- checking tests ... [31s/35s] OK
Running ‘testthat.R’ [31s/35s]
- checking for unstated dependencies in vignettes ... OK
- checking package vignettes ... OK
- checking re-building of vignette outputs ... [10s/13s] OK
- checking PDF version of manual ... [6s/9s] OK
- checking HTML version of manual ... [2s/2s] OK
- checking for non-standard things in the check directory ... OK
- DONE
Status: OK