- using R Under development (unstable) (2024-04-29 r86495)
- using platform: x86_64-pc-linux-gnu
- R was compiled by
Debian clang version 18.1.4 (1)
Debian flang-new version 18.1.4 (1)
- running under: Debian GNU/Linux trixie/sid
- using session charset: UTF-8
- checking for file ‘netmeta/DESCRIPTION’ ... OK
- this is package ‘netmeta’ version ‘2.9-0’
- package encoding: UTF-8
- checking package namespace information ... OK
- checking package dependencies ... OK
- checking if this is a source package ... OK
- checking if there is a namespace ... OK
- checking for executable files ... OK
- checking for hidden files and directories ... OK
- checking for portable file names ... OK
- checking for sufficient/correct file permissions ... OK
- checking whether package ‘netmeta’ can be installed ... OK
See the install log for details.
- checking package directory ... OK
- checking for future file timestamps ... OK
- checking ‘build’ directory ... OK
- checking DESCRIPTION meta-information ... OK
- checking top-level files ... OK
- checking for left-over files ... OK
- checking index information ... OK
- checking package subdirectories ... OK
- checking code files for non-ASCII characters ... OK
- checking R files for syntax errors ... OK
- checking whether the package can be loaded ... [5s/6s] OK
- checking whether the package can be loaded with stated dependencies ... [4s/5s] OK
- checking whether the package can be unloaded cleanly ... [4s/5s] OK
- checking whether the namespace can be loaded with stated dependencies ... [4s/4s] OK
- checking whether the namespace can be unloaded cleanly ... [5s/7s] OK
- checking loading without being on the library search path ... [5s/6s] OK
- checking whether startup messages can be suppressed ... [5s/5s] OK
- checking use of S3 registration ... OK
- checking dependencies in R code ... OK
- checking S3 generic/method consistency ... OK
- checking replacement functions ... OK
- checking foreign function calls ... OK
- checking R code for possible problems ... [116s/134s] OK
- checking Rd files ... [2s/3s] OK
- checking Rd metadata ... OK
- checking Rd line widths ... OK
- checking Rd cross-references ... OK
- checking for missing documentation entries ... OK
- checking for code/documentation mismatches ... OK
- checking Rd \usage sections ... OK
- checking Rd contents ... OK
- checking for unstated dependencies in examples ... OK
- checking contents of ‘data’ directory ... OK
- checking data for non-ASCII characters ... [0s/0s] OK
- checking data for ASCII and uncompressed saves ... OK
- checking sizes of PDF files under ‘inst/doc’ ... OK
- checking installed files from ‘inst/doc’ ... OK
- checking files in ‘vignettes’ ... OK
- checking examples ... [371s/432s] OK
Examples with CPU (user + system) or elapsed time > 5s
user system elapsed
Gurusamy2011 12.325 0.341 13.436
Dong2013 9.752 0.463 10.909
netmetabin 9.553 0.019 11.264
netpairwise 9.170 0.030 11.366
netmeasures 8.926 0.051 10.403
forest.netmeta 8.439 0.016 10.212
netrank 8.311 0.099 9.759
treats 8.346 0.024 9.467
smokingcessation 8.274 0.022 9.858
summary.netmeta 8.152 0.032 8.675
print.summary.netmeta 8.093 0.060 9.423
invmat 8.089 0.044 9.862
as.data.frame.netmeta 7.921 0.100 9.249
netmatrix 8.017 0.004 9.605
netgraph.netmeta 7.947 0.008 9.212
netmeta 7.887 0.023 9.156
netdistance 7.828 0.016 9.124
plot.rankogram 7.838 0.004 8.568
netgraph 7.757 0.039 8.898
forest.netcomparison 7.532 0.007 9.879
netbind 7.486 0.015 8.658
forest.netcomplex 7.380 0.067 8.990
forest.netbind 7.398 0.014 8.553
netcomb 7.304 0.032 8.841
Franchini2012 6.878 0.107 7.465
netimpact 6.725 0.016 8.345
netgraph.netimpact 6.693 0.008 7.515
print.netimpact 6.679 0.016 7.268
forest.netcomb 6.506 0.084 8.785
rankogram 6.448 0.000 7.829
summary.netcomb 6.283 0.004 7.212
netcontrib 6.230 0.004 7.936
dietaryfat 6.118 0.052 6.790
print.netcomb 6.101 0.003 6.968
print.summary.netcomb 6.039 0.012 6.947
print.netbind 6.025 0.000 6.632
netgraph.netcomb 6.021 0.000 7.367
Linde2016 5.922 0.073 6.605
netcomparison 5.882 0.091 7.367
netcomplex 5.895 0.007 6.652
netheat 5.772 0.067 6.987
print.decomp.design 5.334 0.039 5.757
decomp.design 5.342 0.016 6.560
netleague 5.317 0.016 6.647
netsplit 5.200 0.015 5.532
forest.netsplit 5.175 0.036 5.916
nettable 5.040 0.005 5.218
Woods2010 4.977 0.040 5.482
Stowe2010 4.931 0.004 5.288
heatplot 4.421 0.013 6.016
heatplot.netmeta 4.284 0.000 5.145
hatmatrix 4.209 0.036 6.129
- checking for unstated dependencies in vignettes ... OK
- checking package vignettes ... OK
- checking re-building of vignette outputs ... [1s/1s] OK
- checking PDF version of manual ... [15s/19s] OK
- checking HTML version of manual ... [10s/15s] OK
- checking for non-standard things in the check directory ... OK
- DONE
Status: OK