- using R Under development (unstable) (2024-04-21 r86458)
- using platform: x86_64-pc-linux-gnu
- R was compiled by
Debian clang version 18.1.0 (rc4-1)
Debian flang-new version 18.1.0 (rc4-1)
- running under: Debian GNU/Linux trixie/sid
- using session charset: UTF-8
- checking for file ‘grwat/DESCRIPTION’ ... OK
- checking extension type ... Package
- this is package ‘grwat’ version ‘0.0.4’
- package encoding: UTF-8
- checking package namespace information ... OK
- checking package dependencies ... OK
- checking if this is a source package ... OK
- checking if there is a namespace ... OK
- checking for executable files ... OK
- checking for hidden files and directories ... OK
- checking for portable file names ... OK
- checking for sufficient/correct file permissions ... OK
- checking serialization versions ... OK
- checking whether package ‘grwat’ can be installed ... OK
See the install log for details.
- used C++ compiler: ‘Debian clang version 18.1.0 (rc4-1)’
- checking C++ specification ... OK
Not all R platforms support C++17
- checking package directory ... OK
- checking for future file timestamps ... OK
- checking ‘build’ directory ... OK
- checking DESCRIPTION meta-information ... OK
- checking top-level files ... OK
- checking for left-over files ... OK
- checking index information ... OK
- checking package subdirectories ... OK
- checking code files for non-ASCII characters ... OK
- checking R files for syntax errors ... OK
- checking whether the package can be loaded ... [1s/1s] OK
- checking whether the package can be loaded with stated dependencies ... [1s/1s] OK
- checking whether the package can be unloaded cleanly ... [1s/1s] OK
- checking whether the namespace can be loaded with stated dependencies ... [1s/1s] OK
- checking whether the namespace can be unloaded cleanly ... [1s/1s] OK
- checking loading without being on the library search path ... [1s/1s] OK
- checking whether startup messages can be suppressed ... [1s/1s] OK
- checking use of S3 registration ... OK
- checking dependencies in R code ... OK
- checking S3 generic/method consistency ... OK
- checking replacement functions ... OK
- checking foreign function calls ... OK
- checking R code for possible problems ... [13s/16s] OK
- checking Rd files ... [1s/1s] OK
- checking Rd metadata ... OK
- checking Rd line widths ... OK
- checking Rd cross-references ... OK
- checking for missing documentation entries ... OK
- checking for code/documentation mismatches ... OK
- checking Rd \usage sections ... OK
- checking Rd contents ... OK
- checking for unstated dependencies in examples ... OK
- checking contents of ‘data’ directory ... OK
- checking data for non-ASCII characters ... [0s/1s] OK
- checking LazyData ... OK
- checking data for ASCII and uncompressed saves ... OK
- checking R/sysdata.rda ... OK
- checking line endings in C/C++/Fortran sources/headers ... OK
- checking line endings in Makefiles ... OK
- checking compilation flags in Makevars ... OK
- checking for GNU extensions in Makefiles ... OK
- checking for portable use of $(BLAS_LIBS) and $(LAPACK_LIBS) ... OK
- checking use of PKG_*FLAGS in Makefiles ... OK
- checking use of SHLIB_OPENMP_*FLAGS in Makefiles ... OK
- checking pragmas in C/C++ headers and code ... OK
- checking compilation flags used ... OK
- checking compiled code ... OK
- checking installed files from ‘inst/doc’ ... OK
- checking files in ‘vignettes’ ... OK
- checking examples ... [121s/140s] OK
Examples with CPU (user + system) or elapsed time > 5s
user system elapsed
gr_summarize 15.385 0.095 18.554
gr_baseflow 11.296 0.630 15.872
gr_plot_vars 11.655 0.112 13.516
gr_plot_periods 10.047 0.069 11.012
gr_plot_sep 9.300 0.018 10.392
gr_separate 9.033 0.031 10.904
gr_plot_minmonth 8.940 0.016 9.444
gr_kable_tests 7.575 0.126 8.441
gr_plot_tests 7.569 0.062 8.491
gr_test_vars 7.233 0.004 8.497
gr_set_param 5.843 0.004 6.445
gr_plot_hori 5.569 0.097 6.621
- checking for unstated dependencies in ‘tests’ ... OK
- checking tests ... [175s/216s] OK
Running ‘testthat.R’ [174s/216s]
- checking for unstated dependencies in vignettes ... OK
- checking package vignettes ... OK
- checking re-building of vignette outputs ... [133s/166s] OK
- checking PDF version of manual ... [7s/9s] OK
- checking HTML version of manual ... [2s/3s] OK
- checking for non-standard things in the check directory ... OK
- DONE
Status: OK