- using R Under development (unstable) (2024-04-17 r86441)
- using platform: x86_64-pc-linux-gnu
- R was compiled by
Debian clang version 18.1.0 (rc4-1)
Debian flang-new version 18.1.0 (rc4-1)
- running under: Debian GNU/Linux trixie/sid
- using session charset: UTF-8
- checking for file ‘connectapi/DESCRIPTION’ ... OK
- checking extension type ... Package
- this is package ‘connectapi’ version ‘0.1.3.1’
- package encoding: UTF-8
- checking package namespace information ... OK
- checking package dependencies ... OK
- checking if this is a source package ... OK
- checking if there is a namespace ... OK
- checking for executable files ... OK
- checking for hidden files and directories ... OK
- checking for portable file names ... OK
- checking for sufficient/correct file permissions ... OK
- checking serialization versions ... OK
- checking whether package ‘connectapi’ can be installed ... OK
See the install log for details.
- checking package directory ... OK
- checking for future file timestamps ... OK
- checking ‘build’ directory ... OK
- checking DESCRIPTION meta-information ... OK
- checking top-level files ... OK
- checking for left-over files ... OK
- checking index information ... OK
- checking package subdirectories ... OK
- checking code files for non-ASCII characters ... OK
- checking R files for syntax errors ... OK
- checking whether the package can be loaded ... [1s/2s] OK
- checking whether the package can be loaded with stated dependencies ... [1s/1s] OK
- checking whether the package can be unloaded cleanly ... [1s/1s] OK
- checking whether the namespace can be loaded with stated dependencies ... [1s/1s] OK
- checking whether the namespace can be unloaded cleanly ... [1s/2s] OK
- checking loading without being on the library search path ... [1s/2s] OK
- checking use of S3 registration ... OK
- checking dependencies in R code ... OK
- checking S3 generic/method consistency ... OK
- checking replacement functions ... OK
- checking foreign function calls ... OK
- checking R code for possible problems ... [18s/22s] OK
- checking Rd files ... [3s/3s] NOTE
checkRd: (-1) get_audit_logs.Rd:31: Lost braces in \itemize; \value handles \item{}{} directly
checkRd: (-1) get_audit_logs.Rd:32: Lost braces in \itemize; \value handles \item{}{} directly
checkRd: (-1) get_audit_logs.Rd:33: Lost braces in \itemize; \value handles \item{}{} directly
checkRd: (-1) get_audit_logs.Rd:34: Lost braces in \itemize; \value handles \item{}{} directly
checkRd: (-1) get_audit_logs.Rd:35: Lost braces in \itemize; \value handles \item{}{} directly
checkRd: (-1) get_audit_logs.Rd:36: Lost braces in \itemize; \value handles \item{}{} directly
checkRd: (-1) get_content.Rd:25: Lost braces in \itemize; \value handles \item{}{} directly
checkRd: (-1) get_content.Rd:26-27: Lost braces in \itemize; \value handles \item{}{} directly
checkRd: (-1) get_content.Rd:28: Lost braces in \itemize; \value handles \item{}{} directly
checkRd: (-1) get_content.Rd:29: Lost braces in \itemize; \value handles \item{}{} directly
checkRd: (-1) get_content.Rd:30-36: Lost braces in \itemize; \value handles \item{}{} directly
checkRd: (-1) get_content.Rd:37-41: Lost braces in \itemize; \value handles \item{}{} directly
checkRd: (-1) get_content.Rd:42-46: Lost braces in \itemize; \value handles \item{}{} directly
checkRd: (-1) get_content.Rd:47-51: Lost braces in \itemize; \value handles \item{}{} directly
checkRd: (-1) get_content.Rd:52-55: Lost braces in \itemize; \value handles \item{}{} directly
checkRd: (-1) get_content.Rd:56-59: Lost braces in \itemize; \value handles \item{}{} directly
checkRd: (-1) get_content.Rd:60-63: Lost braces in \itemize; \value handles \item{}{} directly
checkRd: (-1) get_content.Rd:64-68: Lost braces in \itemize; \value handles \item{}{} directly
checkRd: (-1) get_content.Rd:69-71: Lost braces in \itemize; \value handles \item{}{} directly
checkRd: (-1) get_content.Rd:72-73: Lost braces in \itemize; \value handles \item{}{} directly
checkRd: (-1) get_content.Rd:74-75: Lost braces in \itemize; \value handles \item{}{} directly
checkRd: (-1) get_content.Rd:76-77: Lost braces in \itemize; \value handles \item{}{} directly
checkRd: (-1) get_content.Rd:78-82: Lost braces in \itemize; \value handles \item{}{} directly
checkRd: (-1) get_content.Rd:83-85: Lost braces in \itemize; \value handles \item{}{} directly
checkRd: (-1) get_content.Rd:86-89: Lost braces in \itemize; \value handles \item{}{} directly
checkRd: (-1) get_content.Rd:90-94: Lost braces in \itemize; \value handles \item{}{} directly
checkRd: (-1) get_content.Rd:95-99: Lost braces in \itemize; \value handles \item{}{} directly
checkRd: (-1) get_content.Rd:100-102: Lost braces in \itemize; \value handles \item{}{} directly
checkRd: (-1) get_content.Rd:103-105: Lost braces in \itemize; \value handles \item{}{} directly
checkRd: (-1) get_content.Rd:106: Lost braces in \itemize; \value handles \item{}{} directly
checkRd: (-1) get_content.Rd:107-108: Lost braces in \itemize; \value handles \item{}{} directly
checkRd: (-1) get_content.Rd:109-110: Lost braces in \itemize; \value handles \item{}{} directly
checkRd: (-1) get_content.Rd:111-116: Lost braces in \itemize; \value handles \item{}{} directly
checkRd: (-1) get_content.Rd:117: Lost braces in \itemize; \value handles \item{}{} directly
checkRd: (-1) get_content_old.Rd:21: Lost braces in \itemize; \value handles \item{}{} directly
checkRd: (-1) get_content_old.Rd:22: Lost braces in \itemize; \value handles \item{}{} directly
checkRd: (-1) get_content_old.Rd:23-29: Lost braces in \itemize; \value handles \item{}{} directly
checkRd: (-1) get_content_old.Rd:30-34: Lost braces in \itemize; \value handles \item{}{} directly
checkRd: (-1) get_content_old.Rd:35-39: Lost braces in \itemize; \value handles \item{}{} directly
checkRd: (-1) get_content_old.Rd:40-44: Lost braces in \itemize; \value handles \item{}{} directly
checkRd: (-1) get_content_old.Rd:45-48: Lost braces in \itemize; \value handles \item{}{} directly
checkRd: (-1) get_content_old.Rd:49-52: Lost braces in \itemize; \value handles \item{}{} directly
checkRd: (-1) get_content_old.Rd:53-56: Lost braces in \itemize; \value handles \item{}{} directly
checkRd: (-1) get_content_old.Rd:57-61: Lost braces in \itemize; \value handles \item{}{} directly
checkRd: (-1) get_content_old.Rd:62-64: Lost braces in \itemize; \value handles \item{}{} directly
checkRd: (-1) get_content_old.Rd:65-66: Lost braces in \itemize; \value handles \item{}{} directly
checkRd: (-1) get_content_old.Rd:67-68: Lost braces in \itemize; \value handles \item{}{} directly
checkRd: (-1) get_content_old.Rd:69-70: Lost braces in \itemize; \value handles \item{}{} directly
checkRd: (-1) get_content_old.Rd:71: Lost braces in \itemize; \value handles \item{}{} directly
checkRd: (-1) get_content_old.Rd:72-73: Lost braces in \itemize; \value handles \item{}{} directly
checkRd: (-1) get_content_old.Rd:74-76: Lost braces in \itemize; \value handles \item{}{} directly
checkRd: (-1) get_content_old.Rd:77-79: Lost braces in \itemize; \value handles \item{}{} directly
checkRd: (-1) get_content_old.Rd:80-83: Lost braces in \itemize; \value handles \item{}{} directly
checkRd: (-1) get_content_old.Rd:84-85: Lost braces in \itemize; \value handles \item{}{} directly
checkRd: (-1) get_content_old.Rd:86-87: Lost braces in \itemize; \value handles \item{}{} directly
checkRd: (-1) get_content_old.Rd:88-92: Lost braces in \itemize; \value handles \item{}{} directly
checkRd: (-1) get_content_old.Rd:93-97: Lost braces in \itemize; \value handles \item{}{} directly
checkRd: (-1) get_content_old.Rd:99-101: Lost braces in \itemize; \value handles \item{}{} directly
checkRd: (-1) get_content_old.Rd:102-104: Lost braces in \itemize; \value handles \item{}{} directly
checkRd: (-1) get_content_old.Rd:105: Lost braces in \itemize; \value handles \item{}{} directly
checkRd: (-1) get_content_old.Rd:106-111: Lost braces in \itemize; \value handles \item{}{} directly
checkRd: (-1) get_content_old.Rd:112-113: Lost braces in \itemize; \value handles \item{}{} directly
checkRd: (-1) get_content_old.Rd:114-115: Lost braces in \itemize; \value handles \item{}{} directly
checkRd: (-1) get_content_old.Rd:116-117: Lost braces in \itemize; \value handles \item{}{} directly
checkRd: (-1) get_content_old.Rd:118: Lost braces in \itemize; \value handles \item{}{} directly
checkRd: (-1) get_content_old.Rd:119: Lost braces in \itemize; \value handles \item{}{} directly
checkRd: (-1) get_content_old.Rd:120: Lost braces in \itemize; \value handles \item{}{} directly
checkRd: (-1) get_content_old.Rd:121: Lost braces in \itemize; \value handles \item{}{} directly
checkRd: (-1) get_content_old.Rd:122: Lost braces in \itemize; \value handles \item{}{} directly
checkRd: (-1) get_group_members.Rd:17: Lost braces in \itemize; \value handles \item{}{} directly
checkRd: (-1) get_group_members.Rd:18: Lost braces in \itemize; \value handles \item{}{} directly
checkRd: (-1) get_group_members.Rd:19: Lost braces in \itemize; \value handles \item{}{} directly
checkRd: (-1) get_group_members.Rd:20: Lost braces in \itemize; \value handles \item{}{} directly
checkRd: (-1) get_group_members.Rd:21-22: Lost braces in \itemize; \value handles \item{}{} directly
checkRd: (-1) get_group_members.Rd:23-24: Lost braces in \itemize; \value handles \item{}{} directly
checkRd: (-1) get_group_members.Rd:25-26: Lost braces in \itemize; \value handles \item{}{} directly
checkRd: (-1) get_group_members.Rd:27-28: Lost braces in \itemize; \value handles \item{}{} directly
checkRd: (-1) get_group_members.Rd:29-31: Lost braces in \itemize; \value handles \item{}{} directly
checkRd: (-1) get_group_members.Rd:32: Lost braces in \itemize; \value handles \item{}{} directly
checkRd: (-1) get_group_members.Rd:33: Lost braces in \itemize; \value handles \item{}{} directly
checkRd: (-1) get_groups.Rd:22: Lost braces in \itemize; \value handles \item{}{} directly
checkRd: (-1) get_groups.Rd:23: Lost braces in \itemize; \value handles \item{}{} directly
checkRd: (-1) get_groups.Rd:24-26: Lost braces in \itemize; \value handles \item{}{} directly
checkRd: (-1) get_procs.Rd:15: Lost braces in \itemize; \value handles \item{}{} directly
checkRd: (-1) get_procs.Rd:16: Lost braces in \itemize; \value handles \item{}{} directly
checkRd: (-1) get_procs.Rd:17: Lost braces in \itemize; \value handles \item{}{} directly
checkRd: (-1) get_procs.Rd:18: Lost braces in \itemize; \value handles \item{}{} directly
checkRd: (-1) get_procs.Rd:19: Lost braces in \itemize; \value handles \item{}{} directly
checkRd: (-1) get_procs.Rd:20: Lost braces in \itemize; \value handles \item{}{} directly
checkRd: (-1) get_procs.Rd:21: Lost braces in \itemize; \value handles \item{}{} directly
checkRd: (-1) get_procs.Rd:22: Lost braces in \itemize; \value handles \item{}{} directly
checkRd: (-1) get_procs.Rd:23: Lost braces in \itemize; \value handles \item{}{} directly
checkRd: (-1) get_procs.Rd:24: Lost braces in \itemize; \value handles \item{}{} directly
checkRd: (-1) get_usage_shiny.Rd:57-58: Lost braces in \itemize; \value handles \item{}{} directly
checkRd: (-1) get_usage_shiny.Rd:59-60: Lost braces in \itemize; \value handles \item{}{} directly
checkRd: (-1) get_usage_shiny.Rd:61-62: Lost braces in \itemize; \value handles \item{}{} directly
checkRd: (-1) get_usage_shiny.Rd:63-64: Lost braces in \itemize; \value handles \item{}{} directly
checkRd: (-1) get_usage_shiny.Rd:65-67: Lost braces in \itemize; \value handles \item{}{} directly
checkRd: (-1) get_usage_static.Rd:57-58: Lost braces in \itemize; \value handles \item{}{} directly
checkRd: (-1) get_usage_static.Rd:59-60: Lost braces in \itemize; \value handles \item{}{} directly
checkRd: (-1) get_usage_static.Rd:61-62: Lost braces in \itemize; \value handles \item{}{} directly
checkRd: (-1) get_usage_static.Rd:63-64: Lost braces in \itemize; \value handles \item{}{} directly
checkRd: (-1) get_usage_static.Rd:65-66: Lost braces in \itemize; \value handles \item{}{} directly
checkRd: (-1) get_usage_static.Rd:67: Lost braces in \itemize; \value handles \item{}{} directly
checkRd: (-1) get_usage_static.Rd:68-71: Lost braces in \itemize; \value handles \item{}{} directly
checkRd: (-1) get_users.Rd:22: Lost braces in \itemize; \value handles \item{}{} directly
checkRd: (-1) get_users.Rd:23: Lost braces in \itemize; \value handles \item{}{} directly
checkRd: (-1) get_users.Rd:24: Lost braces in \itemize; \value handles \item{}{} directly
checkRd: (-1) get_users.Rd:25: Lost braces in \itemize; \value handles \item{}{} directly
checkRd: (-1) get_users.Rd:26-27: Lost braces in \itemize; \value handles \item{}{} directly
checkRd: (-1) get_users.Rd:28-29: Lost braces in \itemize; \value handles \item{}{} directly
checkRd: (-1) get_users.Rd:30-31: Lost braces in \itemize; \value handles \item{}{} directly
checkRd: (-1) get_users.Rd:32-33: Lost braces in \itemize; \value handles \item{}{} directly
checkRd: (-1) get_users.Rd:34-36: Lost braces in \itemize; \value handles \item{}{} directly
checkRd: (-1) get_users.Rd:37: Lost braces in \itemize; \value handles \item{}{} directly
checkRd: (-1) get_users.Rd:38: Lost braces in \itemize; \value handles \item{}{} directly
- checking Rd metadata ... OK
- checking Rd line widths ... OK
- checking Rd cross-references ... OK
- checking for missing documentation entries ... OK
- checking for code/documentation mismatches ... OK
- checking Rd \usage sections ... OK
- checking Rd contents ... OK
- checking for unstated dependencies in examples ... OK
- checking installed files from ‘inst/doc’ ... OK
- checking files in ‘vignettes’ ... OK
- checking examples ... [2s/2s] OK
- checking for unstated dependencies in ‘tests’ ... OK
- checking tests ... [7s/10s] OK
Running ‘spelling.R’ [0s/0s]
Running ‘test-integrated.R’ [2s/2s]
Running ‘testthat.R’ [5s/7s]
- checking for unstated dependencies in vignettes ... OK
- checking package vignettes ... OK
- checking re-building of vignette outputs ... [4s/6s] OK
- checking PDF version of manual ... [12s/15s] OK
- checking HTML version of manual ... [6s/10s] NOTE
Found the following HTML validation problems:
tags.html:119:1 (tags.Rd:70): Warning: trimming empty <li>
- checking for non-standard things in the check directory ... OK
- DONE
Status: 2 NOTEs