- using R Under development (unstable) (2024-04-24 r86483)
- using platform: x86_64-pc-linux-gnu
- R was compiled by
Debian clang version 18.1.0 (rc4-1)
Debian flang-new version 18.1.0 (rc4-1)
- running under: Debian GNU/Linux trixie/sid
- using session charset: UTF-8
- checking for file ‘DImodelsVis/DESCRIPTION’ ... OK
- this is package ‘DImodelsVis’ version ‘1.0.1’
- package encoding: UTF-8
- checking package namespace information ... OK
- checking package dependencies ... OK
- checking if this is a source package ... OK
- checking if there is a namespace ... OK
- checking for executable files ... OK
- checking for hidden files and directories ... OK
- checking for portable file names ... OK
- checking for sufficient/correct file permissions ... OK
- checking serialization versions ... OK
- checking whether package ‘DImodelsVis’ can be installed ... OK
See the install log for details.
- checking package directory ... OK
- checking for future file timestamps ... OK
- checking ‘build’ directory ... OK
- checking DESCRIPTION meta-information ... OK
- checking top-level files ... OK
- checking for left-over files ... OK
- checking index information ... OK
- checking package subdirectories ... OK
- checking code files for non-ASCII characters ... OK
- checking R files for syntax errors ... OK
- checking whether the package can be loaded ... [3s/4s] OK
- checking whether the package can be loaded with stated dependencies ... [2s/3s] OK
- checking whether the package can be unloaded cleanly ... [2s/3s] OK
- checking whether the namespace can be loaded with stated dependencies ... [2s/3s] OK
- checking whether the namespace can be unloaded cleanly ... [3s/3s] OK
- checking loading without being on the library search path ... [3s/3s] OK
- checking use of S3 registration ... OK
- checking dependencies in R code ... OK
- checking S3 generic/method consistency ... OK
- checking replacement functions ... OK
- checking foreign function calls ... OK
- checking R code for possible problems ... [28s/37s] OK
- checking Rd files ... [1s/2s] OK
- checking Rd metadata ... OK
- checking Rd line widths ... OK
- checking Rd cross-references ... OK
- checking for missing documentation entries ... OK
- checking for code/documentation mismatches ... OK
- checking Rd \usage sections ... OK
- checking Rd contents ... OK
- checking for unstated dependencies in examples ... OK
- checking installed files from ‘inst/doc’ ... OK
- checking files in ‘vignettes’ ... OK
- checking examples ... [124s/152s] OK
Examples with CPU (user + system) or elapsed time > 5s
user system elapsed
simplex_path 9.551 0.072 11.646
model_diagnostics 8.095 0.112 10.735
simplex_path_data 7.790 0.099 9.589
visualise_effects 7.664 0.096 10.697
DImodelsVis-package 6.788 0.349 8.663
grouped_ternary 6.950 0.103 7.610
gradient_change_plot 6.709 0.193 7.865
conditional_ternary 6.433 0.199 8.175
model_selection 6.463 0.107 7.676
simplex_path_plot 6.330 0.022 9.021
ternary_data 4.204 1.523 7.257
prediction_contributions 5.008 0.016 5.606
gradient_change 4.957 0.044 5.682
visualise_effects_data 4.677 0.000 6.640
grouped_ternary_plot 4.646 0.028 5.032
conditional_ternary_plot 4.562 0.048 5.913
visualise_effects_plot 4.511 0.007 5.741
- checking for unstated dependencies in ‘tests’ ... OK
- checking tests ... [1s/1s] OK
Running ‘spelling.R’ [0s/0s]
- checking for unstated dependencies in vignettes ... OK
- checking package vignettes ... OK
- checking re-building of vignette outputs ... [83s/98s] OK
- checking PDF version of manual ... [11s/14s] OK
- checking HTML version of manual ... [4s/6s] OK
- checking for non-standard things in the check directory ... OK
- DONE
Status: OK