- using R version 3.4.4 (2018-03-15)
- using platform: x86_64-w64-mingw32 (64-bit)
- using session charset: ISO8859-1
- checking for file 'smoothmest/DESCRIPTION' ... OK
- this is package 'smoothmest' version '0.1-2'
- checking package namespace information ... OK
- checking package dependencies ... OK
- checking if this is a source package ... OK
- checking if there is a namespace ... OK
- checking for hidden files and directories ... OK
- checking for portable file names ... OK
- checking whether package 'smoothmest' can be installed ... OK
- checking installed package size ... OK
- checking package directory ... OK
- checking DESCRIPTION meta-information ... OK
- checking top-level files ... OK
- checking for left-over files ... OK
- checking index information ... OK
- checking package subdirectories ... OK
- checking R files for non-ASCII characters ... OK
- checking R files for syntax errors ... OK
- checking whether the package can be loaded ... OK
- checking whether the package can be loaded with stated dependencies ... OK
- checking whether the package can be unloaded cleanly ... OK
- checking whether the namespace can be loaded with stated dependencies ... OK
- checking whether the namespace can be unloaded cleanly ... OK
- checking loading without being on the library search path ... OK
- checking use of S3 registration ... OK
- checking dependencies in R code ... NOTE
'library' or 'require' call to 'MASS' which was already attached by Depends.
Please remove these calls from your code.
- checking S3 generic/method consistency ... OK
- checking replacement functions ... OK
- checking foreign function calls ... OK
- checking R code for possible problems ... [6s] NOTE
edhuber: no visible global function definition for 'dnorm'
edhuber: no visible global function definition for 'pnorm'
flikcauchy: no visible global function definition for 'dcauchy'
flikcauchy: no visible global function definition for 'dnorm'
likcauchy: no visible global function definition for 'dcauchy'
mbisquare: no visible global function definition for 'mad'
mbisquare: no visible global function definition for 'median'
mlcauchy: no visible global function definition for 'mad'
mlcauchy: no visible global function definition for 'median'
pitman: no visible global function definition for 'mad'
pitman: no visible global function definition for 'integrate'
pitman: no visible global function definition for 'median'
rdoublex: no visible global function definition for 'rexp'
rhuber: no visible global function definition for 'rexp'
rhuber: no visible global function definition for 'runif'
sehuber: no visible global function definition for 'mad'
sehuber: no visible global function definition for 'median'
smbisquare: no visible global function definition for 'mad'
smbisquare: no visible global function definition for 'median'
smbpsi: no visible global function definition for 'dnorm'
smbpsid: no visible global function definition for 'dnorm'
smbpsidi: no visible global function definition for 'integrate'
smbpsii: no visible global function definition for 'integrate'
smcauchy: no visible global function definition for 'mad'
smcauchy: no visible global function definition for 'median'
smcipsi: no visible global function definition for 'dnorm'
smcipsid: no visible global function definition for 'dnorm'
smcpsi: no visible global function definition for 'integrate'
smcpsid: no visible global function definition for 'integrate'
smhuber: no visible global function definition for 'mad'
smhuber: no visible global function definition for 'median'
smoothm: no visible global function definition for 'mad'
smpmed: no visible global function definition for 'pnorm'
smpsi: no visible global function definition for 'pnorm'
smpsi: no visible global function definition for 'dnorm'
smtfcauchy: no visible global function definition for 'integrate'
Undefined global functions or variables:
dcauchy dnorm integrate mad median pnorm rexp runif
Consider adding
importFrom("stats", "dcauchy", "dnorm", "integrate", "mad", "median",
"pnorm", "rexp", "runif")
to your NAMESPACE file.
- checking Rd files ... OK
- checking Rd metadata ... OK
- checking Rd cross-references ... OK
- checking for missing documentation entries ... OK
- checking for code/documentation mismatches ... OK
- checking Rd \usage sections ... OK
- checking Rd contents ... OK
- checking for unstated dependencies in examples ... OK
- checking examples ... [1s] OK
- checking PDF version of manual ... OK
- DONE
Status: 2 NOTEs