- using R version 3.4.4 (2018-03-15)
- using platform: x86_64-w64-mingw32 (64-bit)
- using session charset: ISO8859-1
- checking for file 'profr/DESCRIPTION' ... OK
- this is package 'profr' version '0.3.1'
- checking package namespace information ... OK
- checking package dependencies ... OK
- checking if this is a source package ... OK
- checking if there is a namespace ... OK
- checking for hidden files and directories ... OK
- checking for portable file names ... OK
- checking whether package 'profr' can be installed ... OK
- checking installed package size ... OK
- checking package directory ... OK
- checking DESCRIPTION meta-information ... OK
- checking top-level files ... OK
- checking for left-over files ... OK
- checking index information ... OK
- checking package subdirectories ... OK
- checking R files for non-ASCII characters ... OK
- checking R files for syntax errors ... OK
- checking whether the package can be loaded ... OK
- checking whether the package can be loaded with stated dependencies ... OK
- checking whether the package can be unloaded cleanly ... OK
- checking whether the namespace can be loaded with stated dependencies ... OK
- checking whether the namespace can be unloaded cleanly ... OK
- checking loading without being on the library search path ... OK
- checking use of S3 registration ... OK
- checking dependencies in R code ... NOTE
'library' or 'require' call to 'ggplot2' in package code.
Please use :: or requireNamespace() instead.
See section 'Suggested packages' in the 'Writing R Extensions' manual.
- checking S3 generic/method consistency ... OK
- checking replacement functions ... OK
- checking foreign function calls ... OK
- checking R code for possible problems ... [5s] NOTE
.simplify : <anonymous>: no visible binding for global variable 'hist'
.simplify : <anonymous>: no visible binding for global variable 'start'
.simplify: no visible binding for global variable 'start'
.simplify: no visible binding for global variable 'end'
ggplot.profr: no visible global function definition for 'ggplot'
ggplot.profr: no visible global function definition for 'geom_rect'
ggplot.profr: no visible global function definition for 'aes'
ggplot.profr: no visible binding for global variable 'start'
ggplot.profr: no visible binding for global variable 'end'
ggplot.profr: no visible global function definition for 'geom_text'
ggplot.profr: no visible binding for global variable 'time'
ggplot.profr: no visible global function definition for
'scale_y_continuous'
ggplot.profr: no visible global function definition for
'scale_x_continuous'
plot.profr: no visible global function definition for 'plot'
plot.profr: no visible global function definition for 'rect'
plot.profr: no visible binding for global variable 'time'
plot.profr: no visible global function definition for 'text'
profr: no visible global function definition for 'Rprof'
Undefined global functions or variables:
Rprof aes end geom_rect geom_text ggplot hist plot rect
scale_x_continuous scale_y_continuous start text time
Consider adding
importFrom("graphics", "hist", "plot", "rect", "text")
importFrom("stats", "end", "start", "time")
importFrom("utils", "Rprof")
to your NAMESPACE file.
- checking Rd files ... OK
- checking Rd metadata ... OK
- checking Rd cross-references ... OK
- checking for missing documentation entries ... OK
- checking for code/documentation mismatches ... OK
- checking Rd \usage sections ... OK
- checking Rd contents ... OK
- checking for unstated dependencies in examples ... OK
- checking contents of 'data' directory ... OK
- checking data for non-ASCII characters ... OK
- checking data for ASCII and uncompressed saves ... OK
- checking examples ... [5s] OK
- checking PDF version of manual ... OK
- DONE
Status: 2 NOTEs