- using R version 3.4.4 (2018-03-15)
- using platform: x86_64-w64-mingw32 (64-bit)
- using session charset: ISO8859-1
- checking for file 'lokern/DESCRIPTION' ... OK
- this is package 'lokern' version '1.1-8'
- checking package namespace information ... OK
- checking package dependencies ... OK
- checking if this is a source package ... OK
- checking if there is a namespace ... OK
- checking for hidden files and directories ... OK
- checking for portable file names ... OK
- checking whether package 'lokern' can be installed ... OK
- checking installed package size ... OK
- checking package directory ... OK
- checking DESCRIPTION meta-information ... OK
- checking top-level files ... OK
- checking for left-over files ... OK
- checking index information ... OK
- checking package subdirectories ... OK
- checking R files for non-ASCII characters ... OK
- checking R files for syntax errors ... OK
- loading checks for arch 'i386'
- checking whether the package can be loaded ... OK
- checking whether the package can be loaded with stated dependencies ... OK
- checking whether the package can be unloaded cleanly ... OK
- checking whether the namespace can be loaded with stated dependencies ... OK
- checking whether the namespace can be unloaded cleanly ... OK
- checking loading without being on the library search path ... OK
- checking use of S3 registration ... OK
- loading checks for arch 'x64'
- checking whether the package can be loaded ... OK
- checking whether the package can be loaded with stated dependencies ... OK
- checking whether the package can be unloaded cleanly ... OK
- checking whether the namespace can be loaded with stated dependencies ... OK
- checking whether the namespace can be unloaded cleanly ... OK
- checking loading without being on the library search path ... OK
- checking use of S3 registration ... OK
- checking dependencies in R code ... OK
- checking S3 generic/method consistency ... OK
- checking replacement functions ... OK
- checking foreign function calls ... OK
- checking R code for possible problems ... [3s] OK
- checking Rd files ... OK
- checking Rd metadata ... OK
- checking Rd cross-references ... OK
- checking for missing documentation entries ... OK
- checking for code/documentation mismatches ... OK
- checking Rd \usage sections ... OK
- checking Rd contents ... OK
- checking for unstated dependencies in examples ... OK
- checking contents of 'data' directory ... OK
- checking data for non-ASCII characters ... OK
- checking data for ASCII and uncompressed saves ... OK
- checking line endings in C/C++/Fortran sources/headers ... OK
- checking compiled code ... OK
- checking examples ...
- running examples for arch 'i386' ... [1s] OK
- running examples for arch 'x64' ... [1s] OK
- checking for unstated dependencies in 'tests' ... OK
- checking tests ...
- running tests for arch 'i386' ... [3s] OK
Running 'glk-lok-new.R' [1s]
Running 'glk1.R' [1s]
Comparing 'glk1.Rout' to 'glk1.Rout.save' ...38c38
< -3.0683 -1.6676 0.7053 0.4094 1.7819 4.2125
---
> -3.0680 -1.6680 0.7053 0.4094 1.7820 4.2130
Running 'infloop-bug.R' [0s]
Running 'lok1.R' [1s]
Comparing 'lok1.Rout' to 'lok1.Rout.save' ...9c9
< -3.1323 -1.6148 0.7583 0.3969 1.7713 4.4505
---
> -3.1320 -1.6150 0.7583 0.3969 1.7710 4.4500
79c79
< -3.0721 -1.6666 0.7102 0.4164 1.7826 4.2935
---
> -3.0720 -1.6670 0.7102 0.4164 1.7830 4.2940
82c82
< -41.231 -8.198 -5.577 -4.945 -1.786 35.279
---
> -41.230 -8.198 -5.577 -4.945 -1.786 35.280
117,118c117,118
< kernel(n= 75,m=400; b=0.1714537) -> (chg.pt,cut_b)=(11.0, 0.15) => 'fast O(n)'
< kernfa(n= 75, b=0.1714537, nue=4, kord=6, ny=0, m=400):
---
> kernel(n= 75,m=400; b= 0.1714538) -> (chg.pt,cut_b)=(11.0, 0.15) => 'fast O(n)'
> kernfa(n= 75, b= 0.1714538, nue=4, kord=6, ny=0, m=400):
195c195
< -688.691 -74.741 26.413 -4.829 169.492 352.630
---
> -688.700 -74.740 26.410 -4.829 169.500 352.600
205c205
< 0.07662 0.07995 0.09398 0.09034 0.09501 0.10938
---
> 0.07662 0.07995 0.09398 0.09034 0.09501 0.10940
- running tests for arch 'x64' ... [4s] OK
Running 'glk-lok-new.R' [1s]
Running 'glk1.R' [1s]
Comparing 'glk1.Rout' to 'glk1.Rout.save' ...38c38
< -3.0683 -1.6676 0.7053 0.4094 1.7819 4.2125
---
> -3.0680 -1.6680 0.7053 0.4094 1.7820 4.2130
Running 'infloop-bug.R' [0s]
Running 'lok1.R' [1s]
Comparing 'lok1.Rout' to 'lok1.Rout.save' ...9c9
< -3.1323 -1.6148 0.7583 0.3969 1.7713 4.4505
---
> -3.1320 -1.6150 0.7583 0.3969 1.7710 4.4500
79c79
< -3.0721 -1.6666 0.7102 0.4164 1.7826 4.2935
---
> -3.0720 -1.6670 0.7102 0.4164 1.7830 4.2940
82c82
< -41.231 -8.198 -5.577 -4.945 -1.786 35.279
---
> -41.230 -8.198 -5.577 -4.945 -1.786 35.280
195c195
< -688.691 -74.741 26.413 -4.829 169.492 352.630
---
> -688.700 -74.740 26.410 -4.829 169.500 352.600
205c205
< 0.07662 0.07995 0.09398 0.09034 0.09501 0.10938
---
> 0.07662 0.07995 0.09398 0.09034 0.09501 0.10940
- checking PDF version of manual ... OK
- DONE
Status: OK