- using R version 3.4.3 (2017-11-30)
- using platform: x86_64-w64-mingw32 (64-bit)
- using session charset: ISO8859-1
- checking for file 'emulator/DESCRIPTION' ... OK
- checking extension type ... Package
- this is package 'emulator' version '1.2-15'
- checking package namespace information ... OK
- checking package dependencies ... OK
- checking if this is a source package ... OK
- checking if there is a namespace ... OK
- checking for hidden files and directories ... OK
- checking for portable file names ... OK
- checking whether package 'emulator' can be installed ... OK
- checking installed package size ... OK
- checking package directory ... OK
- checking 'build' directory ... OK
- checking DESCRIPTION meta-information ... OK
- checking top-level files ... OK
- checking for left-over files ... OK
- checking index information ... OK
- checking package subdirectories ... OK
- checking R files for non-ASCII characters ... OK
- checking R files for syntax errors ... OK
- checking whether the package can be loaded ... OK
- checking whether the package can be loaded with stated dependencies ... OK
- checking whether the package can be unloaded cleanly ... OK
- checking whether the namespace can be loaded with stated dependencies ... OK
- checking whether the namespace can be unloaded cleanly ... OK
- checking loading without being on the library search path ... OK
- checking use of S3 registration ... OK
- checking dependencies in R code ... OK
- checking S3 generic/method consistency ... OK
- checking replacement functions ... OK
- checking foreign function calls ... OK
- checking R code for possible problems ... [4s] NOTE
makeinputfiles: no visible global function definition for 'qnorm'
makeinputfiles: no visible global function definition for 'qunif'
makeinputfiles: no visible global function definition for 'write.table'
optimal.scale: no visible global function definition for 'optimize'
optimal.scales: no visible global function definition for 'optim'
sample.from.exp.est: no visible global function definition for 'qnorm'
sample.n.fit: no visible global function definition for 'plot'
sample.n.fit: no visible global function definition for 'lines'
sample.n.fit: no visible global function definition for 'points'
sample.n.fit: no visible global function definition for 'legend'
Undefined global functions or variables:
legend lines optim optimize plot points qnorm qunif write.table
Consider adding
importFrom("graphics", "legend", "lines", "plot", "points")
importFrom("stats", "optim", "optimize", "qnorm", "qunif")
importFrom("utils", "write.table")
to your NAMESPACE file.
- checking Rd files ... OK
- checking Rd metadata ... OK
- checking Rd cross-references ... OK
- checking for missing documentation entries ... OK
- checking for code/documentation mismatches ... OK
- checking Rd \usage sections ... OK
- checking Rd contents ... OK
- checking for unstated dependencies in examples ... OK
- checking contents of 'data' directory ... OK
- checking data for non-ASCII characters ... OK
- checking data for ASCII and uncompressed saves ... OK
- checking sizes of PDF files under 'inst/doc' ... OK
- checking installed files from 'inst/doc' ... OK
- checking files in 'vignettes' ... OK
- checking examples ... [5s] OK
- checking for unstated dependencies in vignettes ... OK
- checking package vignettes in 'inst/doc' ... OK
- checking re-building of vignette outputs ... [9s] OK
- checking PDF version of manual ... OK
- DONE
Status: 1 NOTE