- using R version 3.5.0 RC (2018-04-16 r74620)
- using platform: x86_64-w64-mingw32 (64-bit)
- using session charset: ISO8859-1
- checking for file 'BVS/DESCRIPTION' ... OK
- checking extension type ... Package
- this is package 'BVS' version '4.12.1'
- checking package namespace information ... OK
- checking package dependencies ... OK
- checking if this is a source package ... OK
- checking if there is a namespace ... OK
- checking for hidden files and directories ... OK
- checking for portable file names ... OK
- checking whether package 'BVS' can be installed ... OK
- checking installed package size ... OK
- checking package directory ... OK
- checking DESCRIPTION meta-information ... OK
- checking top-level files ... OK
- checking for left-over files ... OK
- checking index information ... OK
- checking package subdirectories ... OK
- checking R files for non-ASCII characters ... OK
- checking R files for syntax errors ... OK
- checking whether the package can be loaded ... OK
- checking whether the package can be loaded with stated dependencies ... OK
- checking whether the package can be unloaded cleanly ... OK
- checking whether the namespace can be loaded with stated dependencies ... OK
- checking whether the namespace can be unloaded cleanly ... OK
- checking loading without being on the library search path ... OK
- checking use of S3 registration ... OK
- checking dependencies in R code ... NOTE
'library' or 'require' calls to packages already attached by Depends:
'MASS' 'haplo.stats' 'msm'
Please remove these calls from your code.
- checking S3 generic/method consistency ... OK
- checking replacement functions ... OK
- checking foreign function calls ... OK
- checking R code for possible problems ... [15s] NOTE
fitBVS: no visible global function definition for 'qnorm'
fitBVS: no visible global function definition for 'model.matrix'
fitBVS: no visible global function definition for 'as.formula'
fitBVS: no visible global function definition for 'glm'
fitBVS: no visible global function definition for 'deviance'
fitBVS: no visible global function definition for 'pnorm'
plotBVS: no visible global function definition for 'par'
plotBVS: no visible global function definition for 'image'
plotBVS: no visible global function definition for 'axis'
sampleBVS: no visible global function definition for 'qnorm'
sampleBVS: no visible global function definition for 'pnorm'
sampleBVS: no visible global function definition for 'runif'
summaryBVS: no visible global function definition for 'qnorm'
summaryBVS : inc.prob: no visible global function definition for
'pnorm'
summaryBVS: no visible global function definition for 'pnorm'
summaryBVS: no visible global function definition for 'model.matrix'
Undefined global functions or variables:
as.formula axis deviance glm image model.matrix par pnorm qnorm runif
Consider adding
importFrom("graphics", "axis", "image", "par")
importFrom("stats", "as.formula", "deviance", "glm", "model.matrix",
"pnorm", "qnorm", "runif")
to your NAMESPACE file.
- checking Rd files ... OK
- checking Rd metadata ... OK
- checking Rd cross-references ... OK
- checking for missing documentation entries ... OK
- checking for code/documentation mismatches ... OK
- checking Rd \usage sections ... OK
- checking Rd contents ... OK
- checking for unstated dependencies in examples ... OK
- checking contents of 'data' directory ... OK
- checking data for non-ASCII characters ... OK
- checking data for ASCII and uncompressed saves ... OK
- checking examples ... [18s] OK
- checking PDF version of manual ... OK
- DONE
Status: 2 NOTEs