- using R version 3.4.4 (2018-03-15)
- using platform: x86_64-pc-linux-gnu (64-bit)
- using session charset: UTF-8
- checking for file ‘orthopolynom/DESCRIPTION’ ... OK
- this is package ‘orthopolynom’ version ‘1.0-5’
- checking package namespace information ... OK
- checking package dependencies ... OK
- checking if this is a source package ... OK
- checking if there is a namespace ... OK
- checking for executable files ... OK
- checking for hidden files and directories ... OK
- checking for portable file names ... OK
- checking for sufficient/correct file permissions ... OK
- checking whether package ‘orthopolynom’ can be installed ... OK
- checking package directory ... OK
- checking DESCRIPTION meta-information ... OK
- checking top-level files ... OK
- checking for left-over files ... OK
- checking index information ... OK
- checking package subdirectories ... OK
- checking R files for non-ASCII characters ... OK
- checking R files for syntax errors ... OK
- checking whether the package can be loaded ... OK
- checking whether the package can be loaded with stated dependencies ... OK
- checking whether the package can be unloaded cleanly ... OK
- checking whether the namespace can be loaded with stated dependencies ... OK
- checking whether the namespace can be unloaded cleanly ... OK
- checking loading without being on the library search path ... OK
- checking use of S3 registration ... OK
- checking dependencies in R code ... NOTE
'library' or 'require' call to ‘polynom’ which was already attached by Depends.
Please remove these calls from your code.
Package in Depends field not imported from: ‘polynom’
These packages need to be imported from (in the NAMESPACE file)
for when this namespace is loaded but not attached.
- checking S3 generic/method consistency ... OK
- checking replacement functions ... OK
- checking foreign function calls ... OK
- checking R code for possible problems ... [11s/15s] NOTE
chebyshev.c.polynomials: no visible global function definition for
‘polynomial’
chebyshev.s.polynomials: no visible global function definition for
‘polynomial’
chebyshev.t.polynomials: no visible global function definition for
‘polynomial’
chebyshev.u.polynomials: no visible global function definition for
‘polynomial’
gegenbauer.polynomials: no visible global function definition for
‘polynomial’
ghermite.h.polynomials: no visible global function definition for
‘polynomial’
glaguerre.polynomials: no visible global function definition for
‘polynomial’
hermite.h.polynomials: no visible global function definition for
‘polynomial’
hermite.he.polynomials: no visible global function definition for
‘polynomial’
jacobi.g.polynomials: no visible global function definition for
‘polynomial’
jacobi.p.polynomials: no visible global function definition for
‘polynomial’
legendre.polynomials: no visible global function definition for
‘polynomial’
monic.polynomials: no visible global function definition for
‘polynomial’
orthogonal.polynomials: no visible global function definition for
‘polynomial’
orthonormal.polynomials: no visible global function definition for
‘polynomial’
polynomial.derivatives: no visible global function definition for
‘deriv’
polynomial.integrals: no visible global function definition for
‘integral’
polynomial.values: no visible global function definition for ‘predict’
schebyshev.t.polynomials: no visible global function definition for
‘polynomial’
schebyshev.u.polynomials: no visible global function definition for
‘polynomial’
slegendre.polynomials: no visible global function definition for
‘polynomial’
Undefined global functions or variables:
deriv integral polynomial predict
Consider adding
importFrom("stats", "deriv", "predict")
to your NAMESPACE file.
- checking Rd files ... OK
- checking Rd metadata ... OK
- checking Rd line widths ... OK
- checking Rd cross-references ... OK
- checking for missing documentation entries ... OK
- checking for code/documentation mismatches ... OK
- checking Rd \usage sections ... OK
- checking Rd contents ... OK
- checking for unstated dependencies in examples ... OK
- checking examples ... [3s/4s] OK
- checking PDF version of manual ... OK
- DONE
Status: 2 NOTEs