- using R version 3.4.4 (2018-03-15)
- using platform: x86_64-pc-linux-gnu (64-bit)
- using session charset: UTF-8
- checking for file ‘fso/DESCRIPTION’ ... OK
- this is package ‘fso’ version ‘2.0-1’
- checking package namespace information ... OK
- checking package dependencies ... OK
- checking if this is a source package ... OK
- checking if there is a namespace ... OK
- checking for executable files ... OK
- checking for hidden files and directories ... OK
- checking for portable file names ... OK
- checking for sufficient/correct file permissions ... OK
- checking whether package ‘fso’ can be installed ... OK
- checking package directory ... OK
- checking DESCRIPTION meta-information ... NOTE
Malformed Description field: should contain one or more complete sentences.
- checking top-level files ... OK
- checking for left-over files ... OK
- checking index information ... OK
- checking package subdirectories ... OK
- checking R files for non-ASCII characters ... OK
- checking R files for syntax errors ... OK
- checking whether the package can be loaded ... OK
- checking whether the package can be loaded with stated dependencies ... OK
- checking whether the package can be unloaded cleanly ... OK
- checking whether the namespace can be loaded with stated dependencies ... OK
- checking whether the namespace can be unloaded cleanly ... OK
- checking loading without being on the library search path ... OK
- checking use of S3 registration ... OK
- checking dependencies in R code ... NOTE
'library' or 'require' call to ‘rgl’ which was already attached by Depends.
Please remove these calls from your code.
- checking S3 generic/method consistency ... NOTE
Found the following apparent S3 methods exported but not registered:
boxplot.fso boxplot.mfso chullord.fso chullord.mfso fso.default
fso.formula hilight.fso hilight.mfso mfso.default mfso.formula
plot.fso plot.mfso plotid.fso plotid.mfso points.fso points.mfso
summary.fso summary.mfso thull.mfso
See section ‘Registering S3 methods’ in the ‘Writing R Extensions’
manual.
- checking replacement functions ... OK
- checking foreign function calls ... OK
- checking R code for possible problems ... [13s/18s] NOTE
boxplot.fso: no visible global function definition for ‘boxplot’
boxplot.mfso: no visible global function definition for ‘boxplot’
chullord.fso: no visible global function definition for ‘chull’
chullord.fso: no visible global function definition for ‘polygon’
chullord.mfso: no visible global function definition for ‘plot’
chullord.mfso: no visible global function definition for ‘chull’
chullord.mfso: no visible global function definition for ‘polygon’
chullord.mfso: no visible global function definition for ‘points’
core.fso: no visible global function definition for ‘cor’
fso.default: no visible global function definition for ‘cor.test’
fso.default: no visible global function definition for ‘cor’
fso.default: no visible global function definition for ‘dist’
fso.formula: no visible global function definition for ‘model.matrix’
fso.formula: no visible global function definition for ‘terms’
fso.formula: no visible global function definition for ‘as.dist’
hilight.fso: no visible global function definition for ‘plot’
hilight.fso: no visible binding for global variable ‘var’
hilight.fso: no visible global function definition for ‘points’
hilight.mfso: no visible global function definition for ‘plot’
hilight.mfso: no visible global function definition for ‘points’
mfso.default : perm.fso: no visible global function definition for
‘as.dist’
mfso.default : perm.fso: no visible global function definition for
‘dist’
mfso.default : perm.fso: no visible global function definition for
‘cor’
mfso.default: no visible global function definition for ‘as.dist’
mfso.default: no visible global function definition for ‘cor’
mfso.default: no visible global function definition for ‘dist’
mfso.default: no visible global function definition for ‘cor.test’
mfso.formula: no visible global function definition for ‘model.matrix’
mfso.formula: no visible global function definition for ‘as.dist’
plot.fso: no visible global function definition for ‘plot’
plot.fso: no visible global function definition for ‘text’
plot.mfso: no visible global function definition for ‘plot’
plot.mfso: no visible global function definition for ‘dist’
plot.mfso: no visible global function definition for ‘as.dist’
plot.mfso: no visible global function definition for ‘text’
plot.mfso: no visible global function definition for ‘cor’
plotid.fso: no visible global function definition for ‘plot’
plotid.fso: no visible global function definition for ‘text’
plotid.fso: no visible global function definition for ‘identify’
plotid.mfso: no visible global function definition for ‘plot’
plotid.mfso: no visible global function definition for ‘identify’
plotid.mfso: no visible global function definition for ‘dist’
plotid.mfso: no visible global function definition for ‘as.dist’
plotid.mfso: no visible global function definition for ‘text’
plotid.mfso: no visible global function definition for ‘cor’
points.fso: no visible global function definition for ‘plot’
points.fso: no visible global function definition for ‘points’
points.mfso: no visible global function definition for ‘plot’
points.mfso: no visible global function definition for ‘points’
step.mfso : perm.fso: no visible global function definition for ‘dist’
step.mfso : perm.fso: no visible global function definition for
‘as.dist’
step.mfso : perm.fso: no visible global function definition for ‘cor’
step.mfso: no visible global function definition for ‘as.dist’
step.mfso: no visible global function definition for ‘dist’
step.mfso: no visible global function definition for ‘cor’
summary.fso: no visible global function definition for ‘cor’
thull.mfso: no visible global function definition for ‘contour’
Undefined global functions or variables:
as.dist boxplot chull contour cor cor.test dist identify model.matrix
plot points polygon terms text var
Consider adding
importFrom("grDevices", "chull")
importFrom("graphics", "boxplot", "contour", "identify", "plot",
"points", "polygon", "text")
importFrom("stats", "as.dist", "cor", "cor.test", "dist",
"model.matrix", "terms", "var")
to your NAMESPACE file.
- checking Rd files ... OK
- checking Rd metadata ... OK
- checking Rd line widths ... OK
- checking Rd cross-references ... OK
- checking for missing documentation entries ... OK
- checking for code/documentation mismatches ... OK
- checking Rd \usage sections ... OK
- checking Rd contents ... OK
- checking for unstated dependencies in examples ... OK
- checking line endings in C/C++/Fortran sources/headers ... OK
- checking compiled code ... NOTE
File ‘fso/libs/fso.so’:
Found no calls to: ‘R_registerRoutines’, ‘R_useDynamicSymbols’
It is good practice to register native routines and to disable symbol
search.
See ‘Writing portable packages’ in the ‘Writing R Extensions’ manual.
- checking examples ... [3s/5s] OK
- checking PDF version of manual ... OK
- DONE
Status: 5 NOTEs