- using R version 4.3.1 (2023-06-16)
- using platform: x86_64-pc-linux-gnu (64-bit)
- R was compiled by
gcc-12 (Debian 12.3.0-9) 12.3.0
GNU Fortran (Debian 12.3.0-9) 12.3.0
- running under: Debian GNU/Linux trixie/sid
- using session charset: UTF-8
- checking for file ‘automap/DESCRIPTION’ ... OK
- this is package ‘automap’ version ‘1.1-9’
- checking package namespace information ... OK
- checking package dependencies ... OK
- checking if this is a source package ... OK
- checking if there is a namespace ... OK
- checking for executable files ... OK
- checking for hidden files and directories ... OK
- checking for portable file names ... OK
- checking for sufficient/correct file permissions ... OK
- checking serialization versions ... OK
- checking whether package ‘automap’ can be installed ... OK
See the install log for details.
- checking package directory ... OK
- checking for future file timestamps ... OK
- checking DESCRIPTION meta-information ... OK
- checking top-level files ... OK
- checking for left-over files ... OK
- checking index information ... OK
- checking package subdirectories ... OK
- checking R files for non-ASCII characters ... OK
- checking R files for syntax errors ... OK
- checking whether the package can be loaded ... [4s/5s] OK
- checking whether the package can be loaded with stated dependencies ... [3s/4s] OK
- checking whether the package can be unloaded cleanly ... [3s/4s] OK
- checking whether the namespace can be loaded with stated dependencies ... [3s/3s] OK
- checking whether the namespace can be unloaded cleanly ... [4s/5s] OK
- checking loading without being on the library search path ... [3s/4s] OK
- checking use of S3 registration ... OK
- checking dependencies in R code ... OK
- checking S3 generic/method consistency ... OK
- checking replacement functions ... OK
- checking foreign function calls ... OK
- checking R code for possible problems ... [18s/22s] OK
- checking Rd files ... [1s/1s] OK
- checking Rd metadata ... OK
- checking Rd line widths ... OK
- checking Rd cross-references ... OK
- checking for missing documentation entries ... OK
- checking for code/documentation mismatches ... OK
- checking Rd \usage sections ... OK
- checking Rd contents ... OK
- checking for unstated dependencies in examples ... OK
- checking examples ... [13s/15s] OK
- checking for unstated dependencies in ‘tests’ ... OK
- checking tests ... [52s/59s] OK
Running ‘autoKrige.cv.R’ [22s/27s]
Comparing ‘autoKrige.cv.Rout’ to ‘autoKrige.cv.Rout.save’ ...4,11d3
< The legacy packages maptools, rgdal, and rgeos, underpinning the sp package,
< which was just loaded, will retire in October 2023.
< Please refer to R-spatial evolution reports for details, especially
< https://r-spatial.org/r/2023/05/15/evolution4.html.
< It may be desirable to make the sf package available;
< package maintainers should consider adding sf to Suggests:.
< The sp package is now running under evolution status 2
< (status 2 uses the sf package in place of rgdal)
14d5
< Linking to GEOS 3.12.0, GDAL 3.7.2, PROJ 9.3.0; sf_use_s2() is TRUE
Running ‘automap.R’ [29s/32s]
Comparing ‘automap.Rout’ to ‘automap.Rout.save’ ...6,13d5
< The legacy packages maptools, rgdal, and rgeos, underpinning the sp package,
< which was just loaded, will retire in October 2023.
< Please refer to R-spatial evolution reports for details, especially
< https://r-spatial.org/r/2023/05/15/evolution4.html.
< It may be desirable to make the sf package available;
< package maintainers should consider adding sf to Suggests:.
< The sp package is now running under evolution status 2
< (status 2 uses the sf package in place of rgdal)
16c8
< Linking to GEOS 3.12.0, GDAL 3.7.2, PROJ 9.3.0; sf_use_s2() is TRUE
---
> Linking to GEOS 3.11.1, GDAL 3.6.2, PROJ 9.1.1; sf_use_s2() is TRUE
- checking PDF version of manual ... [7s/12s] OK
- checking HTML version of manual ... [1s/1s] OK
- checking for non-standard things in the check directory ... OK
- DONE
Status: OK