- using R version 3.5.0 (2018-04-23)
- using platform: x86_64-pc-linux-gnu (64-bit)
- using session charset: UTF-8
- checking for file ‘CCP/DESCRIPTION’ ... OK
- checking extension type ... Package
- this is package ‘CCP’ version ‘1.1’
- checking package namespace information ... OK
- checking package dependencies ... OK
- checking if this is a source package ... OK
- checking if there is a namespace ... OK
- checking for executable files ... OK
- checking for hidden files and directories ... OK
- checking for portable file names ... OK
- checking for sufficient/correct file permissions ... OK
- checking serialization versions ... OK
- checking whether package ‘CCP’ can be installed ... OK
- checking package directory ... OK
- checking DESCRIPTION meta-information ... NOTE
Malformed Description field: should contain one or more complete sentences.
- checking top-level files ... OK
- checking for left-over files ... OK
- checking index information ... OK
- checking package subdirectories ... OK
- checking R files for non-ASCII characters ... OK
- checking R files for syntax errors ... OK
- checking whether the package can be loaded ... OK
- checking whether the package can be loaded with stated dependencies ... OK
- checking whether the package can be unloaded cleanly ... OK
- checking whether the namespace can be loaded with stated dependencies ... OK
- checking whether the namespace can be unloaded cleanly ... OK
- checking loading without being on the library search path ... OK
- checking use of S3 registration ... OK
- checking dependencies in R code ... OK
- checking S3 generic/method consistency ... OK
- checking replacement functions ... OK
- checking foreign function calls ... OK
- checking R code for possible problems ... [4s/7s] NOTE
p.Roy: no visible global function definition for ‘pf’
p.asym: no visible global function definition for ‘pf’
p.perm: no visible global function definition for ‘cancor’
plt.asym: no visible global function definition for ‘qf’
plt.asym: no visible global function definition for ‘plot’
plt.asym: no visible global function definition for ‘df’
plt.asym: no visible global function definition for ‘abline’
plt.perm: no visible global function definition for ‘hist’
plt.perm: no visible global function definition for ‘mtext’
plt.perm: no visible global function definition for ‘abline’
Undefined global functions or variables:
abline cancor df hist mtext pf plot qf
Consider adding
importFrom("graphics", "abline", "hist", "mtext", "plot")
importFrom("stats", "cancor", "df", "pf", "qf")
to your NAMESPACE file.
- checking Rd files ... OK
- checking Rd metadata ... OK
- checking Rd line widths ... NOTE
Rd file 'p.perm.Rd':
\examples lines wider than 100 characters:
## Run permutation test using Wilks Lambda (default) as test statistic; include different numbers of canonical correlations:
Rd file 'plt.asym.Rd':
\examples lines wider than 100 characters:
## Plot the F-approximation for the Hotelling-Lawley Trace, considering 3, 2, or 1 canonical correlation(s):
Rd file 'plt.perm.Rd':
\examples lines wider than 100 characters:
# plot the permutation distribution of an F approximation for Wilks' Lambda, considering 3 and 2 canonical correlations:
# plot the permutation distribution of an F approximation for the Pillai-Bartlett Trace, considering 3, 2, and 1 canonical correlation( ... [TRUNCATED]
These lines will be truncated in the PDF manual.
- checking Rd cross-references ... OK
- checking for missing documentation entries ... OK
- checking for code/documentation mismatches ... OK
- checking Rd \usage sections ... OK
- checking Rd contents ... OK
- checking for unstated dependencies in examples ... OK
- checking examples ... [7s/9s] OK
- checking PDF version of manual ... OK
- DONE
Status: 3 NOTEs