- using R version 4.4.0 beta (2024-04-09 r86391)
- using platform: x86_64-pc-linux-gnu
- R was compiled by
gcc-13 (Debian 13.2.0-13) 13.2.0
GNU Fortran (Debian 13.2.0-13) 13.2.0
- running under: Debian GNU/Linux trixie/sid
- using session charset: UTF-8
- checking for file ‘netmeta/DESCRIPTION’ ... OK
- this is package ‘netmeta’ version ‘2.9-0’
- package encoding: UTF-8
- checking package namespace information ... OK
- checking package dependencies ... OK
- checking if this is a source package ... OK
- checking if there is a namespace ... OK
- checking for executable files ... OK
- checking for hidden files and directories ... OK
- checking for portable file names ... OK
- checking for sufficient/correct file permissions ... OK
- checking whether package ‘netmeta’ can be installed ... OK
See the install log for details.
- checking package directory ... OK
- checking for future file timestamps ... OK
- checking ‘build’ directory ... OK
- checking DESCRIPTION meta-information ... OK
- checking top-level files ... OK
- checking for left-over files ... OK
- checking index information ... OK
- checking package subdirectories ... OK
- checking code files for non-ASCII characters ... OK
- checking R files for syntax errors ... OK
- checking whether the package can be loaded ... [4s/6s] OK
- checking whether the package can be loaded with stated dependencies ... [3s/4s] OK
- checking whether the package can be unloaded cleanly ... [4s/4s] OK
- checking whether the namespace can be loaded with stated dependencies ... [3s/4s] OK
- checking whether the namespace can be unloaded cleanly ... [4s/4s] OK
- checking loading without being on the library search path ... [4s/5s] OK
- checking whether startup messages can be suppressed ... [5s/6s] OK
- checking use of S3 registration ... OK
- checking dependencies in R code ... OK
- checking S3 generic/method consistency ... OK
- checking replacement functions ... OK
- checking foreign function calls ... OK
- checking R code for possible problems ... [107s/121s] OK
- checking Rd files ... [2s/2s] OK
- checking Rd metadata ... OK
- checking Rd line widths ... OK
- checking Rd cross-references ... OK
- checking for missing documentation entries ... OK
- checking for code/documentation mismatches ... OK
- checking Rd \usage sections ... OK
- checking Rd contents ... OK
- checking for unstated dependencies in examples ... OK
- checking contents of ‘data’ directory ... OK
- checking data for non-ASCII characters ... [0s/0s] OK
- checking data for ASCII and uncompressed saves ... OK
- checking sizes of PDF files under ‘inst/doc’ ... OK
- checking installed files from ‘inst/doc’ ... OK
- checking files in ‘vignettes’ ... OK
- checking examples ... [357s/432s] OK
Examples with CPU (user + system) or elapsed time > 5s
user system elapsed
Gurusamy2011 12.150 0.283 15.274
Dong2013 9.364 0.370 11.176
netmetabin 9.359 0.099 11.299
netpairwise 8.652 0.023 10.194
netmeasures 8.471 0.008 9.277
plot.rankogram 8.340 0.073 10.588
forest.netmeta 8.178 0.067 10.576
invmat 8.036 0.029 10.106
smokingcessation 7.902 0.019 9.691
netrank 7.808 0.012 10.174
netdistance 7.759 0.037 8.187
as.data.frame.netmeta 7.722 0.071 9.828
print.summary.netmeta 7.735 0.024 9.317
summary.netmeta 7.684 0.024 8.769
netmeta 7.676 0.024 9.443
treats 7.635 0.039 8.667
netgraph.netmeta 7.634 0.016 9.407
netmatrix 7.559 0.027 8.555
netgraph 7.551 0.030 9.684
forest.netbind 7.354 0.072 9.069
forest.netcomparison 7.322 0.044 10.069
netbind 7.166 0.006 9.326
forest.netcomplex 7.068 0.010 10.255
Franchini2012 6.764 0.154 8.245
netcomb 6.568 0.095 7.357
netgraph.netimpact 6.468 0.078 7.591
print.netimpact 6.422 0.111 7.223
forest.netcomb 6.296 0.011 8.566
netimpact 6.291 0.007 7.360
netcontrib 6.086 0.031 6.868
rankogram 6.008 0.008 7.351
summary.netcomb 5.984 0.024 7.149
print.summary.netcomb 5.918 0.004 7.255
print.netcomb 5.849 0.019 6.424
dietaryfat 5.852 0.015 6.982
Linde2016 5.778 0.025 7.525
netcomplex 5.695 0.013 6.155
print.netbind 5.685 0.008 6.684
netcomparison 5.680 0.000 6.591
netgraph.netcomb 5.610 0.016 6.190
netheat 5.584 0.012 7.692
nettable 5.187 0.008 6.303
decomp.design 5.165 0.029 6.619
print.decomp.design 5.111 0.012 6.589
forest.netsplit 5.105 0.009 6.230
netsplit 5.108 0.004 5.970
Stowe2010 4.832 0.055 5.712
Woods2010 4.858 0.019 6.443
netleague 4.838 0.004 5.388
heatplot 4.186 0.030 5.066
hatmatrix 4.047 0.016 5.073
- checking for unstated dependencies in vignettes ... OK
- checking package vignettes ... OK
- checking re-building of vignette outputs ... [1s/1s] OK
- checking PDF version of manual ... [15s/20s] OK
- checking HTML version of manual ... [10s/15s] OK
- checking for non-standard things in the check directory ... OK
- DONE
Status: OK