- using R version 3.5.0 beta (2018-04-14 r74601)
- using platform: i386-pc-solaris2.10 (32-bit)
- using session charset: UTF-8
- using option ‘--no-stop-on-test-error’
- checking for file ‘plm/DESCRIPTION’ ... OK
- this is package ‘plm’ version ‘1.6-6’
- checking package namespace information ... OK
- checking package dependencies ... OK
- checking if this is a source package ... OK
- checking if there is a namespace ... OK
- checking for executable files ... OK
- checking for hidden files and directories ... OK
- checking for portable file names ... OK
- checking for sufficient/correct file permissions ... OK
- checking whether package ‘plm’ can be installed ... OK
- checking installed package size ... OK
- checking package directory ... OK
- checking ‘build’ directory ... OK
- checking DESCRIPTION meta-information ... OK
- checking top-level files ... OK
- checking for left-over files ... OK
- checking index information ... OK
- checking package subdirectories ... OK
- checking R files for non-ASCII characters ... OK
- checking R files for syntax errors ... OK
- checking whether the package can be loaded ... OK
- checking whether the package can be loaded with stated dependencies ... OK
- checking whether the package can be unloaded cleanly ... OK
- checking whether the namespace can be loaded with stated dependencies ... OK
- checking whether the namespace can be unloaded cleanly ... OK
- checking loading without being on the library search path ... OK
- checking use of S3 registration ... OK
- checking dependencies in R code ... OK
- checking S3 generic/method consistency ... OK
- checking replacement functions ... OK
- checking foreign function calls ... OK
- checking R code for possible problems ... [45s/51s] OK
- checking Rd files ... OK
- checking Rd metadata ... OK
- checking Rd cross-references ... OK
- checking for missing documentation entries ... OK
- checking for code/documentation mismatches ... OK
- checking Rd \usage sections ... OK
- checking Rd contents ... OK
- checking for unstated dependencies in examples ... OK
- checking contents of ‘data’ directory ... OK
- checking data for non-ASCII characters ... OK
- checking data for ASCII and uncompressed saves ... OK
- checking sizes of PDF files under ‘inst/doc’ ... OK
- checking installed files from ‘inst/doc’ ... OK
- checking files in ‘vignettes’ ... OK
- checking examples ... [27s/30s] OK
- checking for unstated dependencies in ‘tests’ ... OK
- checking tests ... [145s/183s] OK
Running ‘test_Chow.R’
Comparing ‘test_Chow.Rout’ to ‘test_Chow.Rout.save’ ... OK
Running ‘test_Errors.R’
Comparing ‘test_Errors.Rout’ to ‘test_Errors.Rout.save’ ... OK
Running ‘test_Estimators.R’
Comparing ‘test_Estimators.Rout’ to ‘test_Estimators.Rout.save’ ... OK
Running ‘test_Evaluation.R’
Comparing ‘test_Evaluation.Rout’ to ‘test_Evaluation.Rout.save’ ... OK
Running ‘test_IV.R’
Comparing ‘test_IV.Rout’ to ‘test_IV.Rout.save’ ... OK
Running ‘test_R2_adj_R2.R’
Running ‘test_as.data.frame_as.matrix.R’
Running ‘test_as.list.pdata.frame.R’
Running ‘test_clubSandwich_interoperability.R’
Comparing ‘test_clubSandwich_interoperability.Rout’ to ‘test_clubSandwich_interoperability.Rout.save’ ...55c55
< 'vcovCR' num [1:2, 1:2] 4.43 -0.372 -0.372 35.2
---
> vcovCR [1:2, 1:2] 4.43 -0.372 -0.372 35.2
Running ‘test_detect_lin_dep_alias.R’
Running ‘test_fitted.plm.R’
Running ‘test_fixef.R’
Running ‘test_fixef_comp_lm_plm.R’
Running ‘test_is.pconsecutive.R’
Running ‘test_lag_lead.R’
Running ‘test_lagt_leadt.R’
Running ‘test_make.pconsecutive_pbalanced.R’
Running ‘test_misc.R’
Running ‘test_model.frame.R’
Running ‘test_model.matrix_effects.R’
Running ‘test_model.matrix_pmodel.response.R’
Running ‘test_model.matrix_pmodel.response_NA.R’
Running ‘test_nested.R’
Comparing ‘test_nested.Rout’ to ‘test_nested.Rout.save’ ... OK
Running ‘test_pFtest.R’
Comparing ‘test_pFtest.Rout’ to ‘test_pFtest.Rout.save’ ... OK
Running ‘test_pbgtest.R’
Running ‘test_pbsytest_unbalanced.R’
Comparing ‘test_pbsytest_unbalanced.Rout’ to ‘test_pbsytest_unbalanced.Rout.save’ ... OK
Running ‘test_pcdtest.R’
Running ‘test_pdata.frame_assign_storage_mode.R’
Running ‘test_pdata.frame_const_allNA_nonfinite.R’
Running ‘test_pdata.frame_extract_class_est_mod.R’
Running ‘test_pdata.frame_id_index_more.R’
Running ‘test_pdata.frame_print_duplicated_rownames.R’
Running ‘test_pdata.frame_subsetting.R’
Comparing ‘test_pdata.frame_subsetting.Rout’ to ‘test_pdata.frame_subsetting.Rout.save’ ...460c460
< 28808 bytes
---
> 37392 bytes
462c462
< 28808 bytes
---
> 37392 bytes
Running ‘test_pdata.frame_unused_levels.R’
Running ‘test_pdiff_fd.R’
Running ‘test_pdwtest.R’
Running ‘test_pgmm.R’
Running ‘test_pgrangertest.R’
Comparing ‘test_pgrangertest.Rout’ to ‘test_pgrangertest.Rout.save’ ... OK
Running ‘test_phtest_Hausman_regression.R’
Running ‘test_plm.data.R’
Running ‘test_plm_na.action.R’
Running ‘test_plmtest_unbalanced.R’
Comparing ‘test_plmtest_unbalanced.Rout’ to ‘test_plmtest_unbalanced.Rout.save’ ...694,697d693
< > proc.time()
< user system elapsed
< 2.246 0.262 2.569
< couldn't set locale correctly
Running ‘test_preserve_rownames.R’
Running ‘test_pseries_subsetting.R’
Running ‘test_punbalancedness.R’
Running ‘test_purtest.R’
Comparing ‘test_purtest.Rout’ to ‘test_purtest.Rout.save’ ... OK
Running ‘test_pvar.R’
Running ‘test_pwaldtest.R’
Comparing ‘test_pwaldtest.Rout’ to ‘test_pwaldtest.Rout.save’ ... OK
Running ‘test_pwaldtest_vcovG_attr_cluster.R’
Comparing ‘test_pwaldtest_vcovG_attr_cluster.Rout’ to ‘test_pwaldtest_vcovG_attr_cluster.Rout.save’ ... OK
Running ‘test_pwfdtest_pwartest.R’
Running ‘test_pwtest.R’
Running ‘test_ranef.R’
Comparing ‘test_ranef.Rout’ to ‘test_ranef.Rout.save’ ... OK
Running ‘test_residuals_overall_fitted_exp.R’
Running ‘test_summary.plm_vcov.R’
Running ‘test_summary.pseries_character_logical_factor.R’
Running ‘test_vcovG_lin_dep.R’
Running ‘test_within_intercept.R’
Comparing ‘test_within_intercept.Rout’ to ‘test_within_intercept.Rout.save’ ... OK
- checking for unstated dependencies in vignettes ... OK
- checking package vignettes in ‘inst/doc’ ... OK
- checking re-building of vignette outputs ... [22s/36s] OK
- checking PDF version of manual ... OK
- DONE
Status: OK