- using R version 3.5.0 beta (2018-04-14 r74601)
- using platform: i386-pc-solaris2.10 (32-bit)
- using session charset: UTF-8
- using option ‘--no-stop-on-test-error’
- checking for file ‘bspec/DESCRIPTION’ ... OK
- checking extension type ... Package
- this is package ‘bspec’ version ‘1.5’
- checking package namespace information ... OK
- checking package dependencies ... OK
- checking if this is a source package ... OK
- checking if there is a namespace ... OK
- checking for executable files ... OK
- checking for hidden files and directories ... OK
- checking for portable file names ... OK
- checking for sufficient/correct file permissions ... OK
- checking whether package ‘bspec’ can be installed ... OK
- checking installed package size ... OK
- checking package directory ... OK
- checking DESCRIPTION meta-information ... OK
- checking top-level files ... OK
- checking for left-over files ... OK
- checking index information ... OK
- checking package subdirectories ... OK
- checking R files for non-ASCII characters ... OK
- checking R files for syntax errors ... OK
- checking whether the package can be loaded ... OK
- checking whether the package can be loaded with stated dependencies ... OK
- checking whether the package can be unloaded cleanly ... OK
- checking whether the namespace can be loaded with stated dependencies ... OK
- checking whether the namespace can be unloaded cleanly ... OK
- checking loading without being on the library search path ... OK
- checking use of S3 registration ... OK
- checking dependencies in R code ... OK
- checking S3 generic/method consistency ... OK
- checking replacement functions ... OK
- checking foreign function calls ... OK
- checking R code for possible problems ... [10s/15s] NOTE
plot.bspec: no visible global function definition for ‘par’
plot.bspec: no visible global function definition for ‘plot’
plot.bspec: no visible global function definition for ‘matlines’
plot.bspec: no visible global function definition for ‘points’
plot.bspec: no visible global function definition for ‘axis’
plot.bspec: no visible global function definition for ‘mtext’
plot.bspec: no visible global function definition for ‘axTicks’
plot.bspec: no visible global function definition for ‘box’
plot.bspecACF: no visible global function definition for ‘plot’
plot.bspecACF: no visible global function definition for ‘abline’
plot.bspecACF: no visible global function definition for ‘matlines’
Undefined global functions or variables:
abline axTicks axis box matlines mtext par plot points
Consider adding
importFrom("graphics", "abline", "axTicks", "axis", "box", "matlines",
"mtext", "par", "plot", "points")
to your NAMESPACE file.
- checking Rd files ... OK
- checking Rd metadata ... OK
- checking Rd cross-references ... OK
- checking for missing documentation entries ... OK
- checking for code/documentation mismatches ... OK
- checking Rd \usage sections ... OK
- checking Rd contents ... OK
- checking for unstated dependencies in examples ... OK
- checking examples ... OK
- checking PDF version of manual ... OK
- DONE
Status: 1 NOTE