- using R version 3.5.0 beta (2018-04-14 r74601)
- using platform: i386-pc-solaris2.10 (32-bit)
- using session charset: UTF-8
- using option ‘--no-stop-on-test-error’
- checking for file ‘RcmdrPlugin.doex/DESCRIPTION’ ... OK
- checking extension type ... Package
- this is package ‘RcmdrPlugin.doex’ version ‘0.2.0’
- checking package namespace information ... OK
- checking package dependencies ... OK
- checking if this is a source package ... OK
- checking if there is a namespace ... OK
- checking for executable files ... OK
- checking for hidden files and directories ... OK
- checking for portable file names ... OK
- checking for sufficient/correct file permissions ... OK
- checking whether package ‘RcmdrPlugin.doex’ can be installed ... OK
- checking installed package size ... OK
- checking package directory ... OK
- checking DESCRIPTION meta-information ... NOTE
Malformed Description field: should contain one or more complete sentences.
- checking top-level files ... OK
- checking for left-over files ... OK
- checking index information ... OK
- checking package subdirectories ... OK
- checking R files for non-ASCII characters ... OK
- checking R files for syntax errors ... OK
- checking whether the package can be loaded ... OK
- checking whether the package can be loaded with stated dependencies ... OK
- checking whether the package can be unloaded cleanly ... OK
- checking whether the namespace can be loaded with stated dependencies ... OK
- checking whether the namespace can be unloaded cleanly ... OK
- checking loading without being on the library search path ... OK
- checking use of S3 registration ... OK
- checking dependencies in R code ... NOTE
Packages in Depends field not imported from:
‘Rcmdr’ ‘multcomp’
These packages need to be imported from (in the NAMESPACE file)
for when this namespace is loaded but not attached.
- checking S3 generic/method consistency ... OK
- checking replacement functions ... OK
- checking foreign function calls ... OK
- checking R code for possible problems ... [21s/26s] NOTE
.onAttach: no visible global function definition for ‘getRcmdr’
.onAttach: no visible global function definition for ‘closeCommander’
.onAttach: no visible global function definition for ‘Commander’
GreekAnova: no visible global function definition for
‘initializeDialog’
GreekAnova: no visible global function definition for ‘gettextRcmdr’
GreekAnova: no visible global function definition for
‘UpdateModelNumber’
GreekAnova: no visible global function definition for ‘getRcmdr’
GreekAnova: no visible binding for global variable ‘top’
GreekAnova: no visible global function definition for ‘variableListBox’
GreekAnova: no visible global function definition for ‘Factors’
GreekAnova: no visible global function definition for ‘Numeric’
GreekAnova : onOK: no visible global function definition for
‘trim.blanks’
GreekAnova : onOK: no visible global function definition for
‘is.valid.name’
GreekAnova : onOK: no visible global function definition for
‘UpdateModelNumber’
GreekAnova : onOK: no visible global function definition for
‘errorCondition’
GreekAnova : onOK: no visible global function definition for
‘gettextRcmdr’
GreekAnova : onOK: no visible global function definition for
‘listAOVModels’
GreekAnova : onOK: no visible global function definition for
‘checkReplace’
GreekAnova : onOK: no visible binding for global variable ‘top’
GreekAnova : onOK: no visible global function definition for
‘getSelection’
GreekAnova : onOK: no visible global function definition for
‘closeDialog’
GreekAnova : onOK: no visible global function definition for
‘ActiveDataSet’
GreekAnova : onOK: no visible global function definition for
‘doItAndPrint’
GreekAnova : onOK: no visible global function definition for ‘justDoIt’
GreekAnova : onOK: no visible global function definition for ‘logger’
GreekAnova : onOK: no visible binding for global variable ‘.Pairs’
GreekAnova : onOK: no visible global function definition for
‘activeModel’
GreekAnova : onOK: no visible global function definition for
‘CommanderWindow’
GreekAnova: no visible global function definition for ‘OKCancelHelp’
GreekAnova: no visible global function definition for ‘labelRcmdr’
GreekAnova: no visible global function definition for ‘getFrame’
GreekAnova: no visible binding for global variable ‘buttonsFrame’
GreekAnova: no visible global function definition for ‘dialogSuffix’
LatinAnova: no visible global function definition for
‘initializeDialog’
LatinAnova: no visible global function definition for ‘gettextRcmdr’
LatinAnova: no visible global function definition for
‘UpdateModelNumber’
LatinAnova: no visible global function definition for ‘getRcmdr’
LatinAnova: no visible binding for global variable ‘top’
LatinAnova: no visible global function definition for ‘variableListBox’
LatinAnova: no visible global function definition for ‘Factors’
LatinAnova: no visible global function definition for ‘Numeric’
LatinAnova : onOK: no visible global function definition for
‘trim.blanks’
LatinAnova : onOK: no visible global function definition for
‘is.valid.name’
LatinAnova : onOK: no visible global function definition for
‘UpdateModelNumber’
LatinAnova : onOK: no visible global function definition for
‘errorCondition’
LatinAnova : onOK: no visible global function definition for
‘gettextRcmdr’
LatinAnova : onOK: no visible global function definition for
‘listAOVModels’
LatinAnova : onOK: no visible global function definition for
‘checkReplace’
LatinAnova : onOK: no visible binding for global variable ‘top’
LatinAnova : onOK: no visible global function definition for
‘getSelection’
LatinAnova : onOK: no visible global function definition for
‘closeDialog’
LatinAnova : onOK: no visible global function definition for
‘ActiveDataSet’
LatinAnova : onOK: no visible global function definition for
‘doItAndPrint’
LatinAnova : onOK: no visible global function definition for ‘justDoIt’
LatinAnova : onOK: no visible global function definition for ‘logger’
LatinAnova : onOK: no visible binding for global variable ‘.Pairs’
LatinAnova : onOK: no visible global function definition for
‘activeModel’
LatinAnova : onOK: no visible global function definition for
‘CommanderWindow’
LatinAnova: no visible global function definition for ‘OKCancelHelp’
LatinAnova: no visible global function definition for ‘labelRcmdr’
LatinAnova: no visible global function definition for ‘getFrame’
LatinAnova: no visible binding for global variable ‘buttonsFrame’
LatinAnova: no visible global function definition for ‘dialogSuffix’
bartlett: no visible global function definition for ‘initializeDialog’
bartlett: no visible global function definition for ‘gettextRcmdr’
bartlett: no visible global function definition for ‘UpdateModelNumber’
bartlett: no visible global function definition for ‘variableListBox’
bartlett: no visible binding for global variable ‘top’
bartlett: no visible global function definition for ‘Factors’
bartlett: no visible global function definition for ‘Numeric’
bartlett : onOK: no visible global function definition for
‘getSelection’
bartlett : onOK: no visible global function definition for
‘closeDialog’
bartlett : onOK: no visible global function definition for
‘errorCondition’
bartlett : onOK: no visible global function definition for
‘gettextRcmdr’
bartlett : onOK: no visible global function definition for
‘ActiveDataSet’
bartlett : onOK: no visible global function definition for
‘doItAndPrint’
bartlett : onOK: no visible global function definition for
‘CommanderWindow’
bartlett: no visible global function definition for ‘OKCancelHelp’
bartlett: no visible global function definition for ‘getFrame’
bartlett: no visible binding for global variable ‘buttonsFrame’
bartlett: no visible global function definition for ‘dialogSuffix’
factorialAnova: no visible global function definition for
‘initializeDialog’
factorialAnova: no visible global function definition for
‘gettextRcmdr’
factorialAnova: no visible global function definition for
‘UpdateModelNumber’
factorialAnova: no visible global function definition for ‘getRcmdr’
factorialAnova: no visible binding for global variable ‘top’
factorialAnova: no visible global function definition for
‘variableListBox’
factorialAnova: no visible global function definition for ‘Factors’
factorialAnova: no visible global function definition for ‘Numeric’
factorialAnova : onOK: no visible global function definition for
‘trim.blanks’
factorialAnova : onOK: no visible global function definition for
‘is.valid.name’
factorialAnova : onOK: no visible global function definition for
‘UpdateModelNumber’
factorialAnova : onOK: no visible global function definition for
‘errorCondition’
factorialAnova : onOK: no visible global function definition for
‘gettextRcmdr’
factorialAnova : onOK: no visible global function definition for
‘listAOVModels’
factorialAnova : onOK: no visible global function definition for
‘checkReplace’
factorialAnova : onOK: no visible binding for global variable ‘top’
factorialAnova : onOK: no visible global function definition for
‘getSelection’
factorialAnova : onOK: no visible global function definition for
‘closeDialog’
factorialAnova : onOK: no visible global function definition for
‘ActiveDataSet’
factorialAnova : onOK: no visible global function definition for
‘doItAndPrint’
factorialAnova : onOK: no visible global function definition for
‘activeModel’
factorialAnova : onOK: no visible global function definition for
‘CommanderWindow’
factorialAnova: no visible global function definition for
‘OKCancelHelp’
factorialAnova: no visible global function definition for ‘labelRcmdr’
factorialAnova: no visible global function definition for ‘getFrame’
factorialAnova: no visible binding for global variable ‘buttonsFrame’
factorialAnova: no visible global function definition for
‘dialogSuffix’
ranblockAnova: no visible global function definition for
‘initializeDialog’
ranblockAnova: no visible global function definition for ‘gettextRcmdr’
ranblockAnova: no visible global function definition for
‘UpdateModelNumber’
ranblockAnova: no visible global function definition for ‘getRcmdr’
ranblockAnova: no visible binding for global variable ‘top’
ranblockAnova: no visible global function definition for
‘variableListBox’
ranblockAnova: no visible global function definition for ‘Factors’
ranblockAnova: no visible global function definition for ‘Numeric’
ranblockAnova : onOK: no visible global function definition for
‘trim.blanks’
ranblockAnova : onOK: no visible global function definition for
‘is.valid.name’
ranblockAnova : onOK: no visible global function definition for
‘UpdateModelNumber’
ranblockAnova : onOK: no visible global function definition for
‘errorCondition’
ranblockAnova : onOK: no visible global function definition for
‘gettextRcmdr’
ranblockAnova : onOK: no visible global function definition for
‘listAOVModels’
ranblockAnova : onOK: no visible global function definition for
‘checkReplace’
ranblockAnova : onOK: no visible binding for global variable ‘top’
ranblockAnova : onOK: no visible global function definition for
‘getSelection’
ranblockAnova : onOK: no visible global function definition for
‘closeDialog’
ranblockAnova : onOK: no visible global function definition for
‘ActiveDataSet’
ranblockAnova : onOK: no visible global function definition for
‘doItAndPrint’
ranblockAnova : onOK: no visible global function definition for
‘justDoIt’
ranblockAnova : onOK: no visible global function definition for
‘logger’
ranblockAnova : onOK: no visible binding for global variable ‘.Pairs’
ranblockAnova : onOK: no visible global function definition for
‘activeModel’
ranblockAnova : onOK: no visible global function definition for
‘CommanderWindow’
ranblockAnova: no visible global function definition for ‘OKCancelHelp’
ranblockAnova: no visible global function definition for ‘labelRcmdr’
ranblockAnova: no visible global function definition for ‘getFrame’
ranblockAnova: no visible binding for global variable ‘buttonsFrame’
ranblockAnova: no visible global function definition for ‘dialogSuffix’
twokfactorialAnova: no visible global function definition for
‘initializeDialog’
twokfactorialAnova: no visible global function definition for
‘gettextRcmdr’
twokfactorialAnova: no visible global function definition for
‘UpdateModelNumber’
twokfactorialAnova: no visible global function definition for
‘getRcmdr’
twokfactorialAnova: no visible binding for global variable ‘top’
twokfactorialAnova: no visible global function definition for
‘variableListBox’
twokfactorialAnova: no visible global function definition for ‘Factors’
twokfactorialAnova: no visible global function definition for ‘Numeric’
twokfactorialAnova : onOK: no visible global function definition for
‘trim.blanks’
twokfactorialAnova : onOK: no visible global function definition for
‘is.valid.name’
twokfactorialAnova : onOK: no visible global function definition for
‘UpdateModelNumber’
twokfactorialAnova : onOK: no visible global function definition for
‘errorCondition’
twokfactorialAnova : onOK: no visible global function definition for
‘gettextRcmdr’
twokfactorialAnova : onOK: no visible global function definition for
‘listAOVModels’
twokfactorialAnova : onOK: no visible global function definition for
‘checkReplace’
twokfactorialAnova : onOK: no visible binding for global variable ‘top’
twokfactorialAnova : onOK: no visible global function definition for
‘getSelection’
twokfactorialAnova : onOK: no visible global function definition for
‘closeDialog’
twokfactorialAnova : onOK: no visible global function definition for
‘ActiveDataSet’
twokfactorialAnova : onOK: no visible global function definition for
‘doItAndPrint’
twokfactorialAnova : onOK: no visible global function definition for
‘activeModel’
twokfactorialAnova : onOK: no visible global function definition for
‘CommanderWindow’
twokfactorialAnova: no visible global function definition for
‘OKCancelHelp’
twokfactorialAnova: no visible global function definition for
‘labelRcmdr’
twokfactorialAnova: no visible global function definition for
‘getFrame’
twokfactorialAnova: no visible binding for global variable
‘buttonsFrame’
twokfactorialAnova: no visible global function definition for
‘dialogSuffix’
Undefined global functions or variables:
.Pairs ActiveDataSet Commander CommanderWindow Factors Numeric
OKCancelHelp UpdateModelNumber activeModel buttonsFrame checkReplace
closeCommander closeDialog dialogSuffix doItAndPrint errorCondition
getFrame getRcmdr getSelection gettextRcmdr initializeDialog
is.valid.name justDoIt labelRcmdr listAOVModels logger top
trim.blanks variableListBox
- checking Rd files ... OK
- checking Rd metadata ... OK
- checking Rd cross-references ... OK
- checking for missing documentation entries ... OK
- checking for code/documentation mismatches ... OK
- checking Rd \usage sections ... OK
- checking Rd contents ... OK
- checking for unstated dependencies in examples ... OK
- checking examples ... NONE
- checking PDF version of manual ... OK
- DONE
Status: 3 NOTEs