- using R version 3.5.0 RC (2018-04-16 r74618)
- using platform: x86_64-pc-linux-gnu (64-bit)
- using session charset: UTF-8
- checking for file ‘nws/DESCRIPTION’ ... OK
- this is package ‘nws’ version ‘1.7.0.1’
- checking package namespace information ... OK
- checking package dependencies ... OK
- checking if this is a source package ... OK
- checking if there is a namespace ... OK
- checking for executable files ... OK
- checking for hidden files and directories ... OK
- checking for portable file names ... OK
- checking for sufficient/correct file permissions ... OK
- checking serialization versions ... OK
- checking whether package ‘nws’ can be installed ... OK
- checking package directory ... OK
- checking DESCRIPTION meta-information ... NOTE
Malformed Description field: should contain one or more complete sentences.
- checking top-level files ... OK
- checking for left-over files ... OK
- checking index information ... OK
- checking package subdirectories ... OK
- checking R files for non-ASCII characters ... OK
- checking R files for syntax errors ... OK
- checking whether the package can be loaded ... OK
- checking whether the package can be loaded with stated dependencies ... OK
- checking whether the package can be unloaded cleanly ... OK
- checking whether the namespace can be loaded with stated dependencies ... OK
- checking whether the namespace can be unloaded cleanly ... OK
- checking loading without being on the library search path ... OK
- checking use of S3 registration ... OK
- checking dependencies in R code ... NOTE
'library' or 'require' call to ‘methods’ which was already attached by Depends.
Please remove these calls from your code.
Package in Depends field not imported from: ‘methods’
These packages need to be imported from (in the NAMESPACE file)
for when this namespace is loaded but not attached.
- checking S3 generic/method consistency ... OK
- checking replacement functions ... OK
- checking foreign function calls ... OK
- checking R code for possible problems ... [8s/10s] NOTE
File ‘nws/R/zzz.R’:
.onLoad calls:
require(methods)
Package startup functions should not change the search path.
See section ‘Good practice’ in '?.onAttach'.
blendOptions: warning in assign(names[i], new[[i]], env = options):
partial argument match of ‘env’ to ‘envir’
docall: warning in get(as.character(fun), env = .GlobalEnv, mode =
"function"): partial argument match of ‘env’ to ‘envir’
logMsg: no visible global function definition for ‘flush.console’
nwsPkgInfo: no visible global function definition for
‘packageDescription’
initialize,nwsServer: no visible global function definition for
‘make.socket’
initialize,nwsServer: no visible global function definition for
‘close.socket’
Undefined global functions or variables:
close.socket flush.console make.socket packageDescription
Consider adding
importFrom("utils", "close.socket", "flush.console", "make.socket",
"packageDescription")
to your NAMESPACE file.
Found the following assignments to the global environment:
File ‘nws/R/workerLoop.R’:
assign("SleighName", displayName, globalenv())
assign("SleighNws", nws, globalenv())
assign("SleighUserNws", userNws, globalenv())
assign("SleighRank", rank, globalenv())
assign("SleighWorkerCount", workerCount, globalenv())
- checking Rd files ... OK
- checking Rd metadata ... OK
- checking Rd line widths ... NOTE
Rd file 'nwsVariable-methods.Rd':
\usage lines wider than 90 characters:
nwsVariable(.Object, xName, mode=c('fifo','lifo','multi','single'),env=parent.frame(),force=FALSE,quietly=FALSE)
These lines will be truncated in the PDF manual.
- checking Rd cross-references ... OK
- checking for missing documentation entries ... OK
- checking for code/documentation mismatches ... OK
- checking Rd \usage sections ... OK
- checking Rd contents ... OK
- checking for unstated dependencies in examples ... OK
- checking contents of ‘data’ directory ... OK
- checking data for non-ASCII characters ... OK
- checking data for ASCII and uncompressed saves ... OK
- checking examples ... [1s/1s] OK
- checking PDF version of manual ... OK
- DONE
Status: 4 NOTEs