- using R version 4.4.0 RC (2024-04-16 r86473)
- using platform: x86_64-pc-linux-gnu
- R was compiled by
gcc-13 (Debian 13.2.0-13) 13.2.0
GNU Fortran (Debian 13.2.0-13) 13.2.0
- running under: Debian GNU/Linux trixie/sid
- using session charset: UTF-8
- checking for file ‘netmeta/DESCRIPTION’ ... OK
- this is package ‘netmeta’ version ‘2.9-0’
- package encoding: UTF-8
- checking package namespace information ... OK
- checking package dependencies ... OK
- checking if this is a source package ... OK
- checking if there is a namespace ... OK
- checking for executable files ... OK
- checking for hidden files and directories ... OK
- checking for portable file names ... OK
- checking for sufficient/correct file permissions ... OK
- checking whether package ‘netmeta’ can be installed ... OK
See the install log for details.
- checking package directory ... OK
- checking for future file timestamps ... OK
- checking ‘build’ directory ... OK
- checking DESCRIPTION meta-information ... OK
- checking top-level files ... OK
- checking for left-over files ... OK
- checking index information ... OK
- checking package subdirectories ... OK
- checking code files for non-ASCII characters ... OK
- checking R files for syntax errors ... OK
- checking whether the package can be loaded ... [4s/6s] OK
- checking whether the package can be loaded with stated dependencies ... [4s/4s] OK
- checking whether the package can be unloaded cleanly ... [4s/5s] OK
- checking whether the namespace can be loaded with stated dependencies ... [3s/4s] OK
- checking whether the namespace can be unloaded cleanly ... [4s/6s] OK
- checking loading without being on the library search path ... [5s/6s] OK
- checking whether startup messages can be suppressed ... [4s/6s] OK
- checking use of S3 registration ... OK
- checking dependencies in R code ... OK
- checking S3 generic/method consistency ... OK
- checking replacement functions ... OK
- checking foreign function calls ... OK
- checking R code for possible problems ... [108s/126s] OK
- checking Rd files ... [2s/2s] OK
- checking Rd metadata ... OK
- checking Rd line widths ... OK
- checking Rd cross-references ... OK
- checking for missing documentation entries ... OK
- checking for code/documentation mismatches ... OK
- checking Rd \usage sections ... OK
- checking Rd contents ... OK
- checking for unstated dependencies in examples ... OK
- checking contents of ‘data’ directory ... OK
- checking data for non-ASCII characters ... [0s/1s] OK
- checking data for ASCII and uncompressed saves ... OK
- checking sizes of PDF files under ‘inst/doc’ ... OK
- checking installed files from ‘inst/doc’ ... OK
- checking files in ‘vignettes’ ... OK
- checking examples ... [353s/442s] OK
Examples with CPU (user + system) or elapsed time > 5s
user system elapsed
Gurusamy2011 12.026 0.260 15.014
Dong2013 9.393 0.173 12.272
netmetabin 9.010 0.012 10.617
netpairwise 8.465 0.043 9.911
plot.rankogram 8.374 0.087 12.003
netmeasures 8.320 0.024 9.698
forest.netmeta 7.944 0.016 10.108
summary.netmeta 7.851 0.060 8.955
invmat 7.689 0.075 10.275
treats 7.755 0.004 10.353
smokingcessation 7.713 0.020 8.586
print.summary.netmeta 7.699 0.024 9.059
netgraph.netmeta 7.594 0.012 9.629
netmatrix 7.505 0.087 9.986
netdistance 7.460 0.079 9.558
as.data.frame.netmeta 7.491 0.040 9.509
netmeta 7.512 0.016 8.888
netgraph 7.483 0.020 8.872
netrank 7.349 0.023 8.795
netbind 7.329 0.008 9.589
forest.netbind 7.293 0.013 10.817
forest.netcomparison 7.044 0.016 10.067
forest.netcomplex 6.954 0.044 8.494
netcomb 6.757 0.024 9.173
Franchini2012 6.633 0.117 8.521
netcontrib 6.406 0.039 7.547
netimpact 6.386 0.007 8.551
print.netimpact 6.360 0.004 8.800
forest.netcomb 6.323 0.032 8.809
netgraph.netimpact 6.313 0.031 7.761
rankogram 6.002 0.016 7.290
summary.netcomb 5.983 0.020 7.261
dietaryfat 5.892 0.075 7.297
print.summary.netcomb 5.853 0.043 7.872
netcomplex 5.829 0.004 7.476
netcomparison 5.784 0.004 7.518
print.netbind 5.711 0.008 7.862
netgraph.netcomb 5.630 0.008 6.093
print.netcomb 5.627 0.008 6.297
Linde2016 5.569 0.020 6.220
netheat 5.553 0.019 6.576
nettable 5.112 0.000 7.290
decomp.design 5.073 0.001 5.563
print.decomp.design 4.992 0.027 6.103
forest.netsplit 4.972 0.043 6.471
netsplit 4.869 0.008 5.769
Woods2010 4.798 0.074 5.815
netleague 4.854 0.000 5.546
Stowe2010 4.658 0.019 5.701
heatplot.netmeta 4.223 0.001 6.174
heatplot 4.114 0.027 5.139
- checking for unstated dependencies in vignettes ... OK
- checking package vignettes ... OK
- checking re-building of vignette outputs ... [1s/1s] OK
- checking PDF version of manual ... [15s/17s] OK
- checking HTML version of manual ... [10s/15s] OK
- checking for non-standard things in the check directory ... OK
- DONE
Status: OK