- using R version 3.5.0 RC (2018-04-16 r74625)
- using platform: x86_64-pc-linux-gnu (64-bit)
- using session charset: UTF-8
- checking for file ‘linkim/DESCRIPTION’ ... OK
- checking extension type ... Package
- this is package ‘linkim’ version ‘0.1’
- checking package namespace information ... OK
- checking package dependencies ... OK
- checking if this is a source package ... OK
- checking if there is a namespace ... OK
- checking for executable files ... OK
- checking for hidden files and directories ... OK
- checking for portable file names ... OK
- checking for sufficient/correct file permissions ... OK
- checking serialization versions ... OK
- checking whether package ‘linkim’ can be installed ... OK
- checking package directory ... OK
- checking DESCRIPTION meta-information ... NOTE
Malformed Description field: should contain one or more complete sentences.
- checking top-level files ... OK
- checking for left-over files ... OK
- checking index information ... OK
- checking package subdirectories ... OK
- checking R files for non-ASCII characters ... OK
- checking R files for syntax errors ... OK
- checking whether the package can be loaded ... OK
- checking whether the package can be loaded with stated dependencies ... OK
- checking whether the package can be unloaded cleanly ... OK
- checking whether the namespace can be loaded with stated dependencies ... OK
- checking whether the namespace can be unloaded cleanly ... OK
- checking loading without being on the library search path ... OK
- checking use of S3 registration ... OK
- checking dependencies in R code ... OK
- checking S3 generic/method consistency ... OK
- checking replacement functions ... OK
- checking foreign function calls ... OK
- checking R code for possible problems ... [6s/9s] NOTE
gcomb: no visible global function definition for ‘complete.cases’
linkim: no visible global function definition for ‘runif’
missing.dist: no visible global function definition for
‘complete.cases’
pgdata1: no visible global function definition for ‘barplot’
pgdata1: no visible global function definition for ‘layout’
pgdata1: no visible global function definition for ‘par’
pgdata1: no visible global function definition for ‘rainbow’
singim: no visible global function definition for ‘complete.cases’
singim: no visible global function definition for ‘runif’
Undefined global functions or variables:
barplot complete.cases layout par rainbow runif
Consider adding
importFrom("grDevices", "rainbow")
importFrom("graphics", "barplot", "layout", "par")
importFrom("stats", "complete.cases", "runif")
to your NAMESPACE file.
- checking Rd files ... OK
- checking Rd metadata ... OK
- checking Rd line widths ... OK
- checking Rd cross-references ... OK
- checking for missing documentation entries ... OK
- checking for code/documentation mismatches ... OK
- checking Rd \usage sections ... OK
- checking Rd contents ... OK
- checking for unstated dependencies in examples ... OK
- checking contents of ‘data’ directory ... OK
- checking data for non-ASCII characters ... OK
- checking data for ASCII and uncompressed saves ... OK
- checking examples ... [25s/32s] OK
Examples with CPU or elapsed time > 5s
user system elapsed
link.im 24.344 0.066 30.666
- checking PDF version of manual ... OK
- DONE
Status: 2 NOTEs