- using R version 3.5.0 RC (2018-04-16 r74618)
- using platform: x86_64-pc-linux-gnu (64-bit)
- using session charset: UTF-8
- checking for file ‘gmp/DESCRIPTION’ ... OK
- this is package ‘gmp’ version ‘0.5-13.1’
- checking package namespace information ... OK
- checking package dependencies ... OK
- checking if this is a source package ... OK
- checking if there is a namespace ... OK
- checking for executable files ... OK
- checking for hidden files and directories ... OK
- checking for portable file names ... OK
- checking for sufficient/correct file permissions ... OK
- checking serialization versions ... OK
- checking whether package ‘gmp’ can be installed ... OK
- checking package directory ... OK
- checking DESCRIPTION meta-information ... OK
- checking top-level files ... OK
- checking for left-over files ... OK
- checking index information ... OK
- checking package subdirectories ... OK
- checking R files for non-ASCII characters ... OK
- checking R files for syntax errors ... OK
- checking whether the package can be loaded ... OK
- checking whether the package can be loaded with stated dependencies ... OK
- checking whether the package can be unloaded cleanly ... OK
- checking whether the namespace can be loaded with stated dependencies ... OK
- checking whether the namespace can be unloaded cleanly ... OK
- checking loading without being on the library search path ... OK
- checking use of S3 registration ... OK
- checking dependencies in R code ... OK
- checking S3 generic/method consistency ... OK
- checking replacement functions ... OK
- checking foreign function calls ... OK
- checking R code for possible problems ... [6s/8s] OK
- checking Rd files ... OK
- checking Rd metadata ... OK
- checking Rd line widths ... OK
- checking Rd cross-references ... OK
- checking for missing documentation entries ... OK
- checking for code/documentation mismatches ... OK
- checking Rd \usage sections ... OK
- checking Rd contents ... OK
- checking for unstated dependencies in examples ... OK
- checking contents of ‘data’ directory ... OK
- checking data for non-ASCII characters ... OK
- checking data for ASCII and uncompressed saves ... OK
- checking line endings in shell scripts ... OK
- checking line endings in C/C++/Fortran sources/headers ... OK
- checking line endings in Makefiles ... OK
- checking compilation flags in Makevars ... OK
- checking for GNU extensions in Makefiles ... OK
- checking for portable use of $(BLAS_LIBS) and $(LAPACK_LIBS) ... OK
- checking pragmas in C/C++ headers and code ... OK
- checking compilation flags used ... OK
- checking compiled code ... OK
- checking examples ... [2s/3s] OK
- checking for unstated dependencies in ‘tests’ ... OK
- checking tests ... [4s/6s] OK
Running ‘arith-ex.R’ [1s/2s]
Running ‘basic-ex.R’ [1s/1s]
Running ‘gmp-test.R’ [1s/2s]
Comparing ‘gmp-test.Rout’ to ‘gmp-test.Rout.save’ ...125,129c125,129
< $ 34_Z : 'bigz' raw 34
< $ 32/7 : 'bigq' raw 32/7
< ..- attr(*, "denominator")= raw [1:16] 01 00 00 00 ...
< $ (31 %% 45): 'bigz' raw (31 %% 45)
< ..- attr(*, "mod")= 'bigz' raw 45
---
> $ 34_Z :Class 'bigz' raw [1:16] 01 00 00 00 ...
> $ 32/7 :Class 'bigq' atomic [1:16] 01 00 00 00 ...
> .. ..- attr(*, "denominator")= raw [1:16] 01 00 00 00 ...
> $ (31 %% 45):Class 'bigz' atomic [1:16] 01 00 00 00 ...
> .. ..- attr(*, "mod")=Class 'bigz' raw [1:16] 01 00 00 00 ...
- checking PDF version of manual ... OK
- DONE
Status: OK