- using R version 3.5.0 RC (2018-04-16 r74618)
- using platform: x86_64-pc-linux-gnu (64-bit)
- using session charset: UTF-8
- checking for file ‘RcmdrPlugin.qual/DESCRIPTION’ ... OK
- checking extension type ... Package
- this is package ‘RcmdrPlugin.qual’ version ‘2.2.6’
- checking package namespace information ... NOTE
Namespaces with empty importFrom:
‘stats’ ‘tcltk’
- checking package dependencies ... OK
- checking if this is a source package ... OK
- checking if there is a namespace ... OK
- checking for executable files ... OK
- checking for hidden files and directories ... OK
- checking for portable file names ... OK
- checking for sufficient/correct file permissions ... OK
- checking serialization versions ... OK
- checking whether package ‘RcmdrPlugin.qual’ can be installed ... OK
- checking package directory ... OK
- checking DESCRIPTION meta-information ... NOTE
Malformed Description field: should contain one or more complete sentences.
- checking top-level files ... OK
- checking for left-over files ... OK
- checking index information ... OK
- checking package subdirectories ... OK
- checking R files for non-ASCII characters ... OK
- checking R files for syntax errors ... OK
- checking whether the package can be loaded ... OK
- checking whether the package can be loaded with stated dependencies ... OK
- checking whether the package can be unloaded cleanly ... OK
- checking whether the namespace can be loaded with stated dependencies ... OK
- checking whether the namespace can be unloaded cleanly ... OK
- checking loading without being on the library search path ... OK
- checking use of S3 registration ... OK
- checking dependencies in R code ... OK
- checking S3 generic/method consistency ... OK
- checking replacement functions ... OK
- checking foreign function calls ... OK
- checking R code for possible problems ... [15s/21s] NOTE
.onAttach: no visible global function definition for ‘packageVersion’
.onAttach: no visible global function definition for ‘.gettext’
cchart: no visible binding for global variable ‘top’
cchart: no visible binding for global variable ‘buttonsFrame’
cschart: no visible binding for global variable ‘top’
cschart : onOK: no visible binding for global variable ‘top’
cschart: no visible binding for global variable ‘buttonsFrame’
cusumMod: no visible binding for global variable ‘top’
cusumMod : onOK: no visible binding for global variable ‘top’
cusumMod: no visible binding for global variable ‘buttonsFrame’
ewMod: no visible binding for global variable ‘top’
ewMod : onOK: no visible binding for global variable ‘top’
ewMod: no visible binding for global variable ‘buttonsFrame’
gof1: no visible global function definition for ‘fitdistr’
gof1: no visible binding for global variable ‘dweibull’
gof1: no visible global function definition for ‘ks.test’
gofMod: no visible binding for global variable ‘top’
gofMod : onOK: no visible binding for global variable ‘top’
gofMod: no visible binding for global variable ‘buttonsFrame’
movranMod: no visible binding for global variable ‘top’
movranMod : onOK: no visible binding for global variable ‘top’
movranMod: no visible binding for global variable ‘buttonsFrame’
movrange1: no visible global function definition for ‘qcc.options’
movrange1: no visible global function definition for ‘plot’
movrange1: no visible global function definition for ‘abline’
npchart: no visible binding for global variable ‘top’
npchart : onOK: no visible binding for global variable ‘top’
npchart: no visible binding for global variable ‘buttonsFrame’
npschart: no visible binding for global variable ‘top’
npschart : onOK: no visible binding for global variable ‘top’
npschart: no visible binding for global variable ‘buttonsFrame’
pareto1: no visible global function definition for ‘barplot’
pareto1: no visible global function definition for ‘abline’
paretoMod: no visible binding for global variable ‘top’
paretoMod : onOK: no visible binding for global variable ‘top’
paretoMod: no visible binding for global variable ‘buttonsFrame’
pchart: no visible binding for global variable ‘top’
pchart : onOK: no visible binding for global variable ‘top’
pchart: no visible binding for global variable ‘buttonsFrame’
pschart: no visible binding for global variable ‘top’
pschart : onOK: no visible binding for global variable ‘top’
pschart: no visible binding for global variable ‘buttonsFrame’
shapeMod: no visible binding for global variable ‘top’
shapeMod : onOK: no visible binding for global variable ‘newDataSet’
shapeMod : onOK: no visible global function definition for ‘newDataSet’
shapeMod: no visible binding for global variable ‘buttonsFrame’
sum1a: no visible global function definition for ‘sd’
uchart: no visible binding for global variable ‘top’
uchart: no visible binding for global variable ‘buttonsFrame’
uschart: no visible binding for global variable ‘top’
uschart : onOK: no visible binding for global variable ‘top’
uschart: no visible binding for global variable ‘buttonsFrame’
xbarnew: no visible binding for global variable ‘top’
xbarnew : onOK: no visible binding for global variable ‘top’
xbarnew: no visible binding for global variable ‘buttonsFrame’
Undefined global functions or variables:
.gettext abline barplot buttonsFrame dweibull fitdistr ks.test
newDataSet packageVersion plot qcc.options sd top
Consider adding
importFrom("graphics", "abline", "barplot", "plot")
importFrom("stats", "dweibull", "ks.test", "sd")
importFrom("utils", "packageVersion")
to your NAMESPACE file.
- checking Rd files ... OK
- checking Rd metadata ... OK
- checking Rd line widths ... OK
- checking Rd cross-references ... OK
- checking for missing documentation entries ... OK
- checking for code/documentation mismatches ... OK
- checking Rd \usage sections ... OK
- checking Rd contents ... OK
- checking for unstated dependencies in examples ... OK
- checking examples ... NONE
- checking PDF version of manual ... OK
- DONE
Status: 3 NOTEs