- using R version 4.1.3 (2022-03-10)
- using platform: x86_64-w64-mingw32 (64-bit)
- using session charset: ISO8859-1
- checking for file 'tau/DESCRIPTION' ... OK
- this is package 'tau' version '0.0-24'
- package encoding: UTF-8
- checking package namespace information ... OK
- checking package dependencies ... OK
- checking if this is a source package ... OK
- checking if there is a namespace ... OK
- checking for hidden files and directories ... OK
- checking for portable file names ... OK
- checking whether package 'tau' can be installed ... OK
- checking installed package size ... OK
- checking package directory ... OK
- checking DESCRIPTION meta-information ... OK
- checking top-level files ... OK
- checking for left-over files ... OK
- checking index information ... OK
- checking package subdirectories ... OK
- checking R files for non-ASCII characters ... OK
- checking R files for syntax errors ... OK
- loading checks for arch 'i386'
** checking whether the package can be loaded ... OK
** checking whether the package can be loaded with stated dependencies ... OK
** checking whether the package can be unloaded cleanly ... OK
** checking whether the namespace can be loaded with stated dependencies ... OK
** checking whether the namespace can be unloaded cleanly ... OK
** checking loading without being on the library search path ... OK
** checking use of S3 registration ... OK
- loading checks for arch 'x64'
** checking whether the package can be loaded ... OK
** checking whether the package can be loaded with stated dependencies ... OK
** checking whether the package can be unloaded cleanly ... OK
** checking whether the namespace can be loaded with stated dependencies ... OK
** checking whether the namespace can be unloaded cleanly ... OK
** checking loading without being on the library search path ... OK
** checking use of S3 registration ... OK
- checking dependencies in R code ... OK
- checking S3 generic/method consistency ... OK
- checking replacement functions ... OK
- checking foreign function calls ... OK
- checking R code for possible problems ... [3s] OK
- checking Rd files ... [1s] OK
- checking Rd metadata ... OK
- checking Rd cross-references ... OK
- checking for missing documentation entries ... OK
- checking for code/documentation mismatches ... OK
- checking Rd \usage sections ... OK
- checking Rd contents ... OK
- checking for unstated dependencies in examples ... OK
- checking R/sysdata.rda ... OK
- checking line endings in C/C++/Fortran sources/headers ... OK
- checking pragmas in C/C++ headers and code ... OK
- checking compiled code ... OK
- checking examples ...
** running examples for arch 'i386' ... [1s] OK
** running examples for arch 'x64' ... [1s] OK
- checking for unstated dependencies in 'tests' ... OK
- checking tests ...
** running tests for arch 'i386' ... [1s] OK
Running 'counting.R' [0s]
Comparing 'counting.Rout' to 'counting.Rout.save' ...19c19
< [1] "abc" "aÄ" "" NA
---
> [1] "abc" "aà " "" NA
23c23
< [1] "_abc_" "_aÄ_" "" NA
---
> [1] "_abc_" "_aà _" "" NA
26a27,28
> counting ... 9 string(s) using 19 nodes [0.00s]
> writing ... 16 strings [0.00s]
32c34
< _aÄ 1 3 latin1
---
> _aà 1 4 UTF-8
36,37c38,39
< aÄ 1 2 latin1
< aÄ_ 1 3 latin1
---
> aà 1 3 UTF-8
> aà _ 1 4 UTF-8
43,44c45,46
< Ä 1 1 latin1
< Ä_ 1 2 latin1
---
> Ã 1 2 UTF-8
> Ã _ 1 3 UTF-8
47a50
> counting ... 9 string(s) using 19 nodes [0.00s]
49a53,54
> counting ... 9 string(s) using 19 nodes [0.00s]
> writing ... 16 strings [0.00s]
55c60
< _aÄ 2 3 latin1
---
> _aà 2 4 UTF-8
59,60c64,65
< aÄ 2 2 latin1
< aÄ_ 2 3 latin1
---
> aà 2 3 UTF-8
> aà _ 2 4 UTF-8
66,67c71,72
< Ä 2 1 latin1
< Ä_ 2 2 latin1
---
> Ã 2 2 UTF-8
> Ã _ 2 3 UTF-8
70a76,77
> counting ... 2 string(s) using 5 nodes [0.00s]
> writing ... 2 strings [0.00s]
74c81
< aÄ 1 2 latin1
---
> aà 1 3 UTF-8
77a85,86
> counting ... 2 string(s) using 5 nodes [0.00s]
> writing ... 4 strings [0.00s]
83c92
< aÄ 1 2 latin1
---
> aà 1 3 UTF-8
86a96,97
> counting ... 2 string(s) using 6 nodes [0.00s]
> writing ... 5 strings [0.00s]
92,93c103,104
< Ä 1 1 latin1
< aÄ 1 2 latin1
---
> Ã 1 2 UTF-8
> aà 1 3 UTF-8
96a108,109
> counting ... 2 string(s) using 6 nodes [0.00s]
> writing ... 5 strings [0.00s]
102,103c115,116
< Ä 1 1 latin1
< Äa 1 2 latin1
---
> Ã 1 2 UTF-8
> Ã a 1 3 UTF-8
106a120
> counting ... 2 string(s) using 5 nodes [0.00s]
108a123,124
> counting ... 2 string(s) using 5 nodes [0.00s]
> writing ... 2 strings [0.00s]
112c128
< aÄ 2 2 latin1
---
> aà 2 3 UTF-8
Running 'counting_useBytes.R' [0s]
Comparing 'counting_useBytes.Rout' to 'counting_useBytes.Rout.save' ...23c23
< [1] "abc" "aÄ" "" NA
---
> [1] "abc" "aà " "" NA
29c29
< [1] "_abc_" "_aÄ_" "" NA
---
> [1] "_abc_" "_aà _" "" NA
32a33,34
> counting ... 10 string(s) using 19 nodes [0.00s]
> writing ... 19 strings [0.00s]
38c40
< _aà 1 3 unknown
---
> _a\xc3 1 3 unknown
42c44
< aà 1 2 unknown
---
> a\xc3 1 2 unknown
49,51c51,53
< 1 1 unknown
< _ 1 2 unknown
< Ã 1 1 unknown
---
> \x84 1 1 unknown
> \x84_ 1 2 unknown
> \xc3 1 1 unknown
56a59
> counting ... 10 string(s) using 19 nodes [0.00s]
58a62,63
> counting ... 10 string(s) using 19 nodes [0.00s]
> writing ... 19 strings [0.00s]
64c69
< _aà 2 3 unknown
---
> _a\xc3 2 3 unknown
68c73
< aà 2 2 unknown
---
> a\xc3 2 2 unknown
75,77c80,82
< 2 1 unknown
< _ 2 2 unknown
< Ã 2 1 unknown
---
> \x84 2 1 unknown
> \x84_ 2 2 unknown
> \xc3 2 1 unknown
82a88,89
> counting ... 2 string(s) using 5 nodes [0.00s]
> writing ... 2 strings [0.00s]
89a97,98
> counting ... 2 string(s) using 5 nodes [0.00s]
> writing ... 5 strings [0.00s]
95c104
< aà 1 2 unknown
---
> a\xc3 1 2 unknown
99a109,110
> counting ... 2 string(s) using 6 nodes [0.00s]
> writing ... 6 strings [0.00s]
105c116
< 1 1 unknown
---
> \x84 1 1 unknown
110a122,123
> counting ... 2 string(s) using 6 nodes [0.00s]
> writing ... 6 strings [0.00s]
116,118c129,131
< 1 1 unknown
< Ã 1 2 unknown
< Ãa 1 3 unknown
---
> \x84 1 1 unknown
> \x84\xc3 1 2 unknown
> \x84\xc3a 1 3 unknown
121a135
> counting ... 2 string(s) using 5 nodes [0.00s]
123a138,139
> counting ... 2 string(s) using 5 nodes [0.00s]
> writing ... 2 strings [0.00s]
** running tests for arch 'x64' ... [1s] OK
Running 'counting.R' [0s]
Comparing 'counting.Rout' to 'counting.Rout.save' ...19c19
< [1] "abc" "aÄ" "" NA
---
> [1] "abc" "aà " "" NA
23c23
< [1] "_abc_" "_aÄ_" "" NA
---
> [1] "_abc_" "_aà _" "" NA
26a27,28
> counting ... 9 string(s) using 19 nodes [0.00s]
> writing ... 16 strings [0.00s]
32c34
< _aÄ 1 3 latin1
---
> _aà 1 4 UTF-8
36,37c38,39
< aÄ 1 2 latin1
< aÄ_ 1 3 latin1
---
> aà 1 3 UTF-8
> aà _ 1 4 UTF-8
43,44c45,46
< Ä 1 1 latin1
< Ä_ 1 2 latin1
---
> Ã 1 2 UTF-8
> Ã _ 1 3 UTF-8
47a50
> counting ... 9 string(s) using 19 nodes [0.00s]
49a53,54
> counting ... 9 string(s) using 19 nodes [0.00s]
> writing ... 16 strings [0.00s]
55c60
< _aÄ 2 3 latin1
---
> _aà 2 4 UTF-8
59,60c64,65
< aÄ 2 2 latin1
< aÄ_ 2 3 latin1
---
> aà 2 3 UTF-8
> aà _ 2 4 UTF-8
66,67c71,72
< Ä 2 1 latin1
< Ä_ 2 2 latin1
---
> Ã 2 2 UTF-8
> Ã _ 2 3 UTF-8
70a76,77
> counting ... 2 string(s) using 5 nodes [0.00s]
> writing ... 2 strings [0.00s]
74c81
< aÄ 1 2 latin1
---
> aà 1 3 UTF-8
77a85,86
> counting ... 2 string(s) using 5 nodes [0.00s]
> writing ... 4 strings [0.00s]
83c92
< aÄ 1 2 latin1
---
> aà 1 3 UTF-8
86a96,97
> counting ... 2 string(s) using 6 nodes [0.00s]
> writing ... 5 strings [0.00s]
92,93c103,104
< Ä 1 1 latin1
< aÄ 1 2 latin1
---
> Ã 1 2 UTF-8
> aà 1 3 UTF-8
96a108,109
> counting ... 2 string(s) using 6 nodes [0.00s]
> writing ... 5 strings [0.00s]
102,103c115,116
< Ä 1 1 latin1
< Äa 1 2 latin1
---
> Ã 1 2 UTF-8
> Ã a 1 3 UTF-8
106a120
> counting ... 2 string(s) using 5 nodes [0.00s]
108a123,124
> counting ... 2 string(s) using 5 nodes [0.00s]
> writing ... 2 strings [0.00s]
112c128
< aÄ 2 2 latin1
---
> aà 2 3 UTF-8
Running 'counting_useBytes.R' [0s]
Comparing 'counting_useBytes.Rout' to 'counting_useBytes.Rout.save' ...23c23
< [1] "abc" "aÄ" "" NA
---
> [1] "abc" "aà " "" NA
29c29
< [1] "_abc_" "_aÄ_" "" NA
---
> [1] "_abc_" "_aà _" "" NA
32a33,34
> counting ... 10 string(s) using 19 nodes [0.00s]
> writing ... 19 strings [0.00s]
38c40
< _aà 1 3 unknown
---
> _a\xc3 1 3 unknown
42c44
< aà 1 2 unknown
---
> a\xc3 1 2 unknown
49,51c51,53
< 1 1 unknown
< _ 1 2 unknown
< Ã 1 1 unknown
---
> \x84 1 1 unknown
> \x84_ 1 2 unknown
> \xc3 1 1 unknown
56a59
> counting ... 10 string(s) using 19 nodes [0.00s]
58a62,63
> counting ... 10 string(s) using 19 nodes [0.00s]
> writing ... 19 strings [0.00s]
64c69
< _aà 2 3 unknown
---
> _a\xc3 2 3 unknown
68c73
< aà 2 2 unknown
---
> a\xc3 2 2 unknown
75,77c80,82
< 2 1 unknown
< _ 2 2 unknown
< Ã 2 1 unknown
---
> \x84 2 1 unknown
> \x84_ 2 2 unknown
> \xc3 2 1 unknown
82a88,89
> counting ... 2 string(s) using 5 nodes [0.00s]
> writing ... 2 strings [0.00s]
89a97,98
> counting ... 2 string(s) using 5 nodes [0.00s]
> writing ... 5 strings [0.00s]
95c104
< aà 1 2 unknown
---
> a\xc3 1 2 unknown
99a109,110
> counting ... 2 string(s) using 6 nodes [0.00s]
> writing ... 6 strings [0.00s]
105c116
< 1 1 unknown
---
> \x84 1 1 unknown
110a122,123
> counting ... 2 string(s) using 6 nodes [0.00s]
> writing ... 6 strings [0.00s]
116,118c129,131
< 1 1 unknown
< Ã 1 2 unknown
< Ãa 1 3 unknown
---
> \x84 1 1 unknown
> \x84\xc3 1 2 unknown
> \x84\xc3a 1 3 unknown
121a135
> counting ... 2 string(s) using 5 nodes [0.00s]
123a138,139
> counting ... 2 string(s) using 5 nodes [0.00s]
> writing ... 2 strings [0.00s]
- checking PDF version of manual ... OK
- DONE
Status: OK