- using R version 3.3.3 (2017-03-06)
- using platform: x86_64-w64-mingw32 (64-bit)
- using session charset: ISO8859-1
- checking for file 'simpleboot/DESCRIPTION' ... OK
- this is package 'simpleboot' version '1.1-3'
- checking package namespace information ... OK
- checking package dependencies ... OK
- checking if this is a source package ... OK
- checking if there is a namespace ... OK
- checking for hidden files and directories ... OK
- checking for portable file names ... OK
- checking whether package 'simpleboot' can be installed ... OK
- checking installed package size ... OK
- checking package directory ... OK
- checking DESCRIPTION meta-information ... NOTE
Malformed Description field: should contain one or more complete sentences.
- checking top-level files ... OK
- checking for left-over files ... OK
- checking index information ... OK
- checking package subdirectories ... OK
- checking R files for non-ASCII characters ... OK
- checking R files for syntax errors ... OK
- checking whether the package can be loaded ... OK
- checking whether the package can be loaded with stated dependencies ... OK
- checking whether the package can be unloaded cleanly ... OK
- checking whether the namespace can be loaded with stated dependencies ... OK
- checking whether the namespace can be unloaded cleanly ... OK
- checking loading without being on the library search path ... OK
- checking use of S3 registration ... OK
- checking dependencies in R code ... NOTE
'library' or 'require' call to 'boot' which was already attached by Depends.
Please remove these calls from your code.
Package in Depends field not imported from: 'boot'
These packages need to be imported from (in the NAMESPACE file)
for when this namespace is loaded but not attached.
- checking S3 generic/method consistency ... OK
- checking replacement functions ... OK
- checking foreign function calls ... OK
- checking R code for possible problems ... NOTE
File 'simpleboot/R/zzz.R':
.onLoad calls:
require(boot)
Package startup functions should not change the search path.
See section 'Good practice' in '?.onAttach'.
lo.boot.resample: warning in sample(1:nrow(orig.data), rep = TRUE, prob
= weights): partial argument match of 'rep' to 'replace'
lo.boot.resample: warning in sample(res, rep = TRUE, prob = weights):
partial argument match of 'rep' to 'replace'
- checking Rd files ... OK
- checking Rd metadata ... OK
- checking Rd cross-references ... OK
- checking for missing documentation entries ... OK
- checking for code/documentation mismatches ... OK
- checking Rd \usage sections ... NOTE
S3 methods shown with full name in documentation object 'pairs.boot':
'pairs.boot'
The \usage entries for S3 methods should use the \method markup and not
their full name.
See chapter 'Writing R documentation files' in the 'Writing R
Extensions' manual.
- checking Rd contents ... OK
- checking for unstated dependencies in examples ... OK
- checking examples ... [32s] OK
- checking for unstated dependencies in 'tests' ... OK
- checking tests ... [2s] OK
Running 'reg-tests.R' [2s]
Comparing 'reg-tests.Rout' to 'reg-tests.Rout.save' ... OK
- checking PDF version of manual ... OK
- DONE
Status: 4 NOTEs