- using R version 3.4.4 (2018-03-15)
- using platform: x86_64-w64-mingw32 (64-bit)
- using session charset: ISO8859-1
- checking for file 'partykit/DESCRIPTION' ... OK
- this is package 'partykit' version '1.2-1'
- checking package namespace information ... OK
- checking package dependencies ... OK
- checking if this is a source package ... OK
- checking if there is a namespace ... OK
- checking for hidden files and directories ... OK
- checking for portable file names ... OK
- checking whether package 'partykit' can be installed ... OK
- checking installed package size ... OK
- checking package directory ... OK
- checking 'build' directory ... OK
- checking DESCRIPTION meta-information ... OK
- checking top-level files ... OK
- checking for left-over files ... OK
- checking index information ... OK
- checking package subdirectories ... OK
- checking R files for non-ASCII characters ... OK
- checking R files for syntax errors ... OK
- loading checks for arch 'i386'
- checking whether the package can be loaded ... OK
- checking whether the package can be loaded with stated dependencies ... OK
- checking whether the package can be unloaded cleanly ... OK
- checking whether the namespace can be loaded with stated dependencies ... OK
- checking whether the namespace can be unloaded cleanly ... OK
- checking loading without being on the library search path ... OK
- checking use of S3 registration ... OK
- loading checks for arch 'x64'
- checking whether the package can be loaded ... OK
- checking whether the package can be loaded with stated dependencies ... OK
- checking whether the package can be unloaded cleanly ... OK
- checking whether the namespace can be loaded with stated dependencies ... OK
- checking whether the namespace can be unloaded cleanly ... OK
- checking loading without being on the library search path ... OK
- checking use of S3 registration ... OK
- checking dependencies in R code ... OK
- checking S3 generic/method consistency ... OK
- checking replacement functions ... OK
- checking foreign function calls ... OK
- checking R code for possible problems ... [22s] OK
- checking Rd files ... OK
- checking Rd metadata ... OK
- checking Rd cross-references ... OK
- checking for missing documentation entries ... OK
- checking for code/documentation mismatches ... OK
- checking Rd \usage sections ... OK
- checking Rd contents ... OK
- checking for unstated dependencies in examples ... OK
- checking contents of 'data' directory ... OK
- checking data for non-ASCII characters ... OK
- checking data for ASCII and uncompressed saves ... OK
- checking line endings in shell scripts ... OK
- checking line endings in C/C++/Fortran sources/headers ... OK
- checking compiled code ... OK
- checking sizes of PDF files under 'inst/doc' ... OK
- checking installed files from 'inst/doc' ... OK
- checking files in 'vignettes' ... OK
- checking examples ...
- running examples for arch 'i386' ... [23s] OK
- checking differences from 'partykit-Ex_i386.Rout' to 'partykit-Ex.Rout.save' ... OK
3a4
> > base::assign(".old_wd", base::getwd(), pos = 'CheckExEnv')
25,26d25
< Warning in doTest(lev, teststat = teststat, pvalue = pvalue, lower = TRUE, :
< cmvnorm: completion with ERROR > EPS
Warning message:
running command 'diff -bw "D:\temp\RtmpeKUcBE\Rdiffa535428fe297d" "D:\temp\RtmpeKUcBE\Rdiffb53546f5a6400"' had status 1
- running examples for arch 'x64' ... [31s] OK
- checking differences from 'partykit-Ex_x64.Rout' to 'partykit-Ex.Rout.save' ... OK
3a4
> > base::assign(".old_wd", base::getwd(), pos = 'CheckExEnv')
Warning message:
running command 'diff -bw "D:\temp\RtmpgxVfM6\Rdiffa1fa4c19383d12" "D:\temp\RtmpgxVfM6\Rdiffb1fa4cd021c62"' had status 1
- checking for unstated dependencies in 'tests' ... OK
- checking tests ...
- running tests for arch 'i386' ... [84s] OK
Running 'bugfixes.R' [7s]
Comparing 'bugfixes.Rout' to 'bugfixes.Rout.save' ...923c923
< | | [3] Age <= 8
---
> | | [3] Age <= 7
925,927c925,927
< | | | [5] Age > 4: 0.105 (n = 400, err = 37.6)
< | | [6] Age > 8
< | | | [7] Age <= 11: 0.163 (n = 300, err = 41.0)
---
> | | | [5] Age > 4: 0.097 (n = 300, err = 26.2)
> | | [6] Age > 7
> | | | [7] Age <= 11: 0.155 (n = 400, err = 52.4)
930,933c930,933
< | | [10] Age <= 23
< | | | [11] Age <= 19: 0.288 (n = 400, err = 81.9)
< | | | [12] Age > 19: 0.355 (n = 400, err = 91.6)
< | | [13] Age > 23: 0.447 (n = 700, err = 173.0)
---
> | | [10] Age <= 22: 0.313 (n = 700, err = 150.5)
> | | [11] Age > 22
> | | | [12] Age <= 26: 0.405 (n = 400, err = 96.4)
> | | | [13] Age > 26: 0.472 (n = 400, err = 99.7)
939,944c939,944
< 4 4 4 4 5 5 5 5 7 7 7 8 8 8 8 11 11 11 11 12 12 12 12 13 13 13
< 4 4 4 4 5 5 5 5 7 7 7 8 8 8 8 11 11 11 11 12 12 12 12 13 13 13
< 13 13 13 13 4 4 4 4 5 5 5 5 7 7 7 8 8 8 8 11 11 11 11 12 12 12
< 13 13 13 13 4 4 4 4 5 5 5 5 7 7 7 8 8 8 8 11 11 11 11 12 12 12
< 12 13 13 13 13 13 13 13
< 12 13 13 13 13 13 13 13
---
> 4 4 4 4 5 5 5 7 7 7 7 8 8 8 8 10 10 10 10 10 10 10 12 12 12 12
> 4 4 4 4 5 5 5 7 7 7 7 8 8 8 8 10 10 10 10 10 10 10 12 12 12 12
> 13 13 13 13 4 4 4 4 5 5 5 7 7 7 7 8 8 8 8 10 10 10 10 10 10 10
> 13 13 13 13 4 4 4 4 5 5 5 7 7 7 7 8 8 8 8 10 10 10 10 10 10 10
> 12 12 12 12 13 13 13 13
> 12 12 12 12 13 13 13 13
Running 'regtest-MIA.R' [3s]
Comparing 'regtest-MIA.Rout' to 'regtest-MIA.Rout.save' ... OK
Running 'regtest-cforest.R' [13s]
Comparing 'regtest-cforest.Rout' to 'regtest-cforest.Rout.save' ... OK
Running 'regtest-ctree.R' [4s]
Comparing 'regtest-ctree.Rout' to 'regtest-ctree.Rout.save' ... OK
Running 'regtest-glmtree.R' [33s]
Running 'regtest-lmtree.R' [4s]
Running 'regtest-nmax.R' [3s]
Comparing 'regtest-nmax.Rout' to 'regtest-nmax.Rout.save' ... OK
Running 'regtest-node.R' [1s]
Comparing 'regtest-node.Rout' to 'regtest-node.Rout.save' ... OK
Running 'regtest-party-random.R' [3s]
Running 'regtest-party.R' [7s]
Comparing 'regtest-party.Rout' to 'regtest-party.Rout.save' ... OK
Running 'regtest-split.R' [1s]
Comparing 'regtest-split.Rout' to 'regtest-split.Rout.save' ... OK
Running 'regtest-weights.R' [3s]
Comparing 'regtest-weights.Rout' to 'regtest-weights.Rout.save' ... OK
- running tests for arch 'x64' ... [83s] OK
Running 'bugfixes.R' [7s]
Comparing 'bugfixes.Rout' to 'bugfixes.Rout.save' ... OK
Running 'regtest-MIA.R' [3s]
Comparing 'regtest-MIA.Rout' to 'regtest-MIA.Rout.save' ... OK
Running 'regtest-cforest.R' [11s]
Comparing 'regtest-cforest.Rout' to 'regtest-cforest.Rout.save' ... OK
Running 'regtest-ctree.R' [3s]
Comparing 'regtest-ctree.Rout' to 'regtest-ctree.Rout.save' ... OK
Running 'regtest-glmtree.R' [34s]
Running 'regtest-lmtree.R' [4s]
Running 'regtest-nmax.R' [3s]
Comparing 'regtest-nmax.Rout' to 'regtest-nmax.Rout.save' ... OK
Running 'regtest-node.R' [2s]
Comparing 'regtest-node.Rout' to 'regtest-node.Rout.save' ... OK
Running 'regtest-party-random.R' [3s]
Running 'regtest-party.R' [6s]
Comparing 'regtest-party.Rout' to 'regtest-party.Rout.save' ... OK
Running 'regtest-split.R' [2s]
Comparing 'regtest-split.Rout' to 'regtest-split.Rout.save' ... OK
Running 'regtest-weights.R' [4s]
Comparing 'regtest-weights.Rout' to 'regtest-weights.Rout.save' ... OK
- checking for unstated dependencies in vignettes ... OK
- checking package vignettes in 'inst/doc' ... OK
- checking running R code from vignettes ... [44s] OK
- checking re-building of vignette outputs ... [67s] OK
- checking PDF version of manual ... OK
- DONE
Status: OK