- using R version 4.1.3 (2022-03-10)
- using platform: x86_64-w64-mingw32 (64-bit)
- using session charset: ISO8859-1
- using option '--no-vignettes'
- checking for file 'micEconCES/DESCRIPTION' ... OK
- this is package 'micEconCES' version '1.0-2'
- package encoding: UTF-8
- checking package namespace information ... OK
- checking package dependencies ... OK
- checking if this is a source package ... OK
- checking if there is a namespace ... OK
- checking for hidden files and directories ... OK
- checking for portable file names ... OK
- checking whether package 'micEconCES' can be installed ... OK
- checking installed package size ... OK
- checking package directory ... OK
- checking DESCRIPTION meta-information ... OK
- checking top-level files ... OK
- checking for left-over files ... OK
- checking index information ... OK
- checking package subdirectories ... OK
- checking R files for non-ASCII characters ... OK
- checking R files for syntax errors ... OK
- checking whether the package can be loaded ... OK
- checking whether the package can be loaded with stated dependencies ... OK
- checking whether the package can be unloaded cleanly ... OK
- checking whether the namespace can be loaded with stated dependencies ... OK
- checking whether the namespace can be unloaded cleanly ... OK
- checking loading without being on the library search path ... OK
- checking use of S3 registration ... OK
- checking dependencies in R code ... OK
- checking S3 generic/method consistency ... OK
- checking replacement functions ... OK
- checking foreign function calls ... OK
- checking R code for possible problems ... [18s] OK
- checking Rd files ... [1s] OK
- checking Rd metadata ... OK
- checking Rd cross-references ... OK
- checking for missing documentation entries ... OK
- checking for code/documentation mismatches ... OK
- checking Rd \usage sections ... OK
- checking Rd contents ... OK
- checking for unstated dependencies in examples ... OK
- checking contents of 'data' directory ... OK
- checking data for non-ASCII characters ... OK
- checking data for ASCII and uncompressed saves ... OK
- checking examples ... [8s] OK
- checking for unstated dependencies in 'tests' ... OK
- checking tests ... [6s] OK
Running 'SunHenKum.R' [2s]
Comparing 'SunHenKum.Rout' to 'SunHenKum.Rout.save' ...29c29
< Henningsen, Arne, Géraldine Henningsen, and Gergo Literáti (2021):
---
> Henningsen, Arne, Géraldine Henningsen, and GergÅ' Literáti (2021):
33c33
< Empirical Microeconomics. Edward Elgar, p. 596 640.
---
> Empirical Microeconomics. Edward Elgar, p. 596â "640.
Running 'xMult.R' [3s]
Comparing 'xMult.Rout' to 'xMult.Rout.save' ...12c12
< Henningsen, Arne, Géraldine Henningsen, and Gergo Literáti (2021):
---
> Henningsen, Arne, Géraldine Henningsen, and GergÅ' Literáti (2021):
16c16
< Empirical Microeconomics. Edward Elgar, p. 596 640.
---
> Empirical Microeconomics. Edward Elgar, p. 596â "640.
- checking PDF version of manual ... OK
- DONE
Status: OK