- using R version 3.3.3 (2017-03-06)
- using platform: x86_64-w64-mingw32 (64-bit)
- using session charset: ISO8859-1
- checking for file 'bbemkr/DESCRIPTION' ... OK
- checking extension type ... Package
- this is package 'bbemkr' version '2.0'
- checking package namespace information ... OK
- checking package dependencies ... OK
- checking if this is a source package ... OK
- checking if there is a namespace ... OK
- checking for hidden files and directories ... OK
- checking for portable file names ... OK
- checking whether package 'bbemkr' can be installed ... OK
- checking installed package size ... OK
- checking package directory ... OK
- checking 'build' directory ... OK
- checking DESCRIPTION meta-information ... NOTE
Malformed Description field: should contain one or more complete sentences.
- checking top-level files ... OK
- checking for left-over files ... OK
- checking index information ... OK
- checking package subdirectories ... OK
- checking R files for non-ASCII characters ... OK
- checking R files for syntax errors ... OK
- checking whether the package can be loaded ... OK
- checking whether the package can be loaded with stated dependencies ... OK
- checking whether the package can be unloaded cleanly ... OK
- checking whether the namespace can be loaded with stated dependencies ... OK
- checking whether the namespace can be unloaded cleanly ... OK
- checking loading without being on the library search path ... OK
- checking use of S3 registration ... OK
- checking dependencies in R code ... OK
- checking S3 generic/method consistency ... OK
- checking replacement functions ... OK
- checking foreign function calls ... OK
- checking R code for possible problems ... NOTE
LaplaceMetropolis_admkr: no visible binding for global variable
'median'
LaplaceMetropolis_admkr: no visible global function definition for
'mad'
LaplaceMetropolis_gaussian: no visible binding for global variable
'median'
LaplaceMetropolis_gaussian: no visible global function definition for
'mad'
cost_admkr: no visible global function definition for 'sd'
cov_chol: no visible global function definition for 'qchisq'
cov_chol_admkr: no visible global function definition for 'qchisq'
gibbs_admkr_erro: no visible global function definition for 'rnorm'
gibbs_admkr_erro: no visible global function definition for 'runif'
gibbs_admkr_nw: no visible global function definition for 'qnorm'
gibbs_admkr_nw: no visible global function definition for 'rnorm'
gibbs_admkr_nw: no visible global function definition for 'runif'
loglikelihood_admkr: no visible global function definition for 'sd'
margin_like_admkr: no visible global function definition for 'sd'
np_gibbs: no visible global function definition for 'qnorm'
np_gibbs: no visible global function definition for 'rnorm'
np_gibbs: no visible global function definition for 'runif'
np_gibbs: no visible global function definition for 'rgamma'
Undefined global functions or variables:
mad median qchisq qnorm rgamma rnorm runif sd
Consider adding
importFrom("stats", "mad", "median", "qchisq", "qnorm", "rgamma",
"rnorm", "runif", "sd")
to your NAMESPACE file.
- checking Rd files ... OK
- checking Rd metadata ... OK
- checking Rd cross-references ... OK
- checking for missing documentation entries ... OK
- checking for code/documentation mismatches ... OK
- checking Rd \usage sections ... OK
- checking Rd contents ... OK
- checking for unstated dependencies in examples ... OK
- checking contents of 'data' directory ... OK
- checking data for non-ASCII characters ... OK
- checking data for ASCII and uncompressed saves ... OK
- checking sizes of PDF files under 'inst/doc' ... OK
- checking installed files from 'inst/doc' ... OK
- checking files in 'vignettes' ... OK
- checking examples ... [2s] OK
- checking for unstated dependencies in vignettes ... OK
- checking package vignettes in 'inst/doc' ... OK
- checking re-building of vignette outputs ... [15s] OK
- checking PDF version of manual ... OK
- DONE
Status: 2 NOTEs