- using R version 3.3.3 (2017-03-06)
- using platform: x86_64-w64-mingw32 (64-bit)
- using session charset: ISO8859-1
- checking for file 'InteractiveIGraph/DESCRIPTION' ... OK
- checking extension type ... Package
- this is package 'InteractiveIGraph' version '1.0.6.1'
- checking package namespace information ... OK
- checking package dependencies ... OK
- checking if this is a source package ... OK
- checking if there is a namespace ... OK
- checking for hidden files and directories ... OK
- checking for portable file names ... OK
- checking whether package 'InteractiveIGraph' can be installed ... OK
- checking installed package size ... OK
- checking package directory ... OK
- checking DESCRIPTION meta-information ... NOTE
Malformed Title field: should not end in a period.
- checking top-level files ... OK
- checking for left-over files ... OK
- checking index information ... OK
- checking package subdirectories ... OK
- checking R files for non-ASCII characters ... OK
- checking R files for syntax errors ... OK
- checking whether the package can be loaded ... OK
- checking whether the package can be loaded with stated dependencies ... OK
- checking whether the package can be unloaded cleanly ... OK
- checking whether the namespace can be loaded with stated dependencies ... OK
- checking whether the namespace can be unloaded cleanly ... OK
- checking loading without being on the library search path ... OK
- checking use of S3 registration ... OK
- checking dependencies in R code ... OK
- checking S3 generic/method consistency ... OK
- checking replacement functions ... OK
- checking foreign function calls ... OK
- checking R code for possible problems ... NOTE
ClearBottomMenuPlot: no visible global function definition for 'rect'
InteractiveIGraph : mousedown: no visible global function definition
for 'grconvertX'
InteractiveIGraph : mousedown: no visible global function definition
for 'grconvertY'
InteractiveIGraph : dragmousemove: no visible global function
definition for 'grconvertX'
InteractiveIGraph : dragmousemove: no visible global function
definition for 'grconvertY'
InteractiveIGraph : dragmousemove: no visible global function
definition for 'polygon'
InteractiveIGraph : mouseup: no visible global function definition for
'grconvertX'
InteractiveIGraph : mouseup: no visible global function definition for
'grconvertY'
InteractiveIGraph : keybd: no visible global function definition for
'readClipboard'
InteractiveIGraph : keybd: no visible global function definition for
'par'
PlotRegionGeneral: no visible global function definition for 'polygon'
plot.InteractiveIGraph: no visible global function definition for
'plot'
plot.InteractiveIGraph: no visible global function definition for 'par'
plot.Menu: no visible global function definition for 'par'
plot.Menu: no visible binding for global variable 'rect'
plot.MenuItem: no visible binding for global variable 'strwidth'
plot.MenuItem: no visible binding for global variable 'strheight'
plot.MenuItem: no visible binding for global variable 'rect'
plot.MenuItem: no visible binding for global variable 'text'
plot.MenuLine: no visible binding for global variable 'rect'
Undefined global functions or variables:
grconvertX grconvertY par plot polygon readClipboard rect strheight
strwidth text
Consider adding
importFrom("graphics", "grconvertX", "grconvertY", "par", "plot",
"polygon", "rect", "strheight", "strwidth", "text")
importFrom("utils", "readClipboard")
to your NAMESPACE file.
- checking Rd files ... OK
- checking Rd metadata ... OK
- checking Rd cross-references ... OK
- checking for missing documentation entries ... OK
- checking for code/documentation mismatches ... OK
- checking Rd \usage sections ... OK
- checking Rd contents ... OK
- checking for unstated dependencies in examples ... OK
- checking sizes of PDF files under 'inst/doc' ... OK
- checking installed files from 'inst/doc' ... OK
- checking examples ... [1s] OK
- checking PDF version of manual ... OK
- DONE
Status: 2 NOTEs