- using R version 3.5.0 RC (2018-04-16 r74618)
- using platform: x86_64-w64-mingw32 (64-bit)
- using session charset: ISO8859-1
- checking for file 'cudia/DESCRIPTION' ... OK
- checking extension type ... Package
- this is package 'cudia' version '0.1'
- checking package namespace information ... OK
- checking package dependencies ... OK
- checking if this is a source package ... OK
- checking if there is a namespace ... OK
- checking for hidden files and directories ... OK
- checking for portable file names ... OK
- checking whether package 'cudia' can be installed ... OK
- checking installed package size ... OK
- checking package directory ... OK
- checking DESCRIPTION meta-information ... OK
- checking top-level files ... OK
- checking for left-over files ... OK
- checking index information ... OK
- checking package subdirectories ... OK
- checking R files for non-ASCII characters ... OK
- checking R files for syntax errors ... OK
- checking whether the package can be loaded ... OK
- checking whether the package can be loaded with stated dependencies ... OK
- checking whether the package can be unloaded cleanly ... OK
- checking whether the namespace can be loaded with stated dependencies ... OK
- checking whether the namespace can be unloaded cleanly ... OK
- checking loading without being on the library search path ... OK
- checking use of S3 registration ... OK
- checking dependencies in R code ... NOTE
Packages in Depends field not imported from:
'MCMCpack' 'mvtnorm'
These packages need to be imported from (in the NAMESPACE file)
for when this namespace is loaded but not attached.
- checking S3 generic/method consistency ... OK
- checking replacement functions ... OK
- checking foreign function calls ... OK
- checking R code for possible problems ... [8s] NOTE
cudiaDet: no visible global function definition for 'model.frame'
cudiaDet: no visible global function definition for 'model.response'
cudiaDet: no visible binding for global variable 'sd'
cudiaDet: no visible global function definition for 'rdirichlet'
cudiaDet: no visible global function definition for 'rnorm'
cudiaDet: no visible global function definition for 'lm.ridge'
plot.cudia: no visible global function definition for 'par'
plot.cudia: no visible global function definition for 'plot'
Undefined global functions or variables:
lm.ridge model.frame model.response par plot rdirichlet rnorm sd
Consider adding
importFrom("graphics", "par", "plot")
importFrom("stats", "model.frame", "model.response", "rnorm", "sd")
to your NAMESPACE file.
- checking Rd files ... OK
- checking Rd metadata ... OK
- checking Rd cross-references ... OK
- checking for missing documentation entries ... OK
- checking for code/documentation mismatches ... OK
- checking Rd \usage sections ... OK
- checking Rd contents ... OK
- checking for unstated dependencies in examples ... OK
- checking contents of 'data' directory ... OK
- checking data for non-ASCII characters ... OK
- checking data for ASCII and uncompressed saves ... OK
- checking examples ... [5s] OK
- checking PDF version of manual ... OK
- DONE
Status: 2 NOTEs