- using R version 3.5.0 RC (2018-04-16 r74620)
- using platform: x86_64-w64-mingw32 (64-bit)
- using session charset: ISO8859-1
- checking for file 'SPARQL/DESCRIPTION' ... OK
- checking extension type ... Package
- this is package 'SPARQL' version '1.16'
- checking package namespace information ... OK
- checking package dependencies ... OK
- checking if this is a source package ... OK
- checking if there is a namespace ... OK
- checking for hidden files and directories ... OK
- checking for portable file names ... OK
- checking whether package 'SPARQL' can be installed ... OK
- checking installed package size ... OK
- checking package directory ... OK
- checking DESCRIPTION meta-information ... OK
- checking top-level files ... OK
- checking for left-over files ... OK
- checking index information ... OK
- checking package subdirectories ... OK
- checking R files for non-ASCII characters ... OK
- checking R files for syntax errors ... OK
- checking whether the package can be loaded ... OK
- checking whether the package can be loaded with stated dependencies ... OK
- checking whether the package can be unloaded cleanly ... OK
- checking whether the namespace can be loaded with stated dependencies ... OK
- checking whether the namespace can be unloaded cleanly ... OK
- checking loading without being on the library search path ... OK
- checking use of S3 registration ... OK
- checking dependencies in R code ... NOTE
Packages in Depends field not imported from:
'RCurl' 'XML'
These packages need to be imported from (in the NAMESPACE file)
for when this namespace is loaded but not attached.
- checking S3 generic/method consistency ... OK
- checking replacement functions ... OK
- checking foreign function calls ... OK
- checking R code for possible problems ... [3s] NOTE
SPARQL : <anonymous>: no visible global function definition for
'URLencode'
SPARQL: no visible binding for global variable 'getURL'
SPARQL: no visible global function definition for 'URLencode'
SPARQL: no visible binding for global variable 'xmlParse'
SPARQL: no visible global function definition for 'getNodeSet'
SPARQL: no visible global function definition for 'xpathApply'
SPARQL: no visible binding for global variable 'postForm'
get_attr: no visible global function definition for 'getNodeSet'
get_attr : <anonymous> : <anonymous>: no visible global function
definition for 'getNodeSet'
get_attr : <anonymous> : <anonymous>: no visible global function
definition for 'xmlDoc'
get_value: no visible global function definition for 'xmlDoc'
get_value: no visible global function definition for 'xpathSApply'
get_value: no visible binding for global variable 'xmlValue'
get_value: no visible global function definition for 'xpathApply'
get_value: no visible binding for global variable 'xmlGetAttr'
readCSVstring: no visible global function definition for 'read.csv'
readTSVstring: no visible global function definition for 'read.delim'
Undefined global functions or variables:
URLencode getNodeSet getURL postForm read.csv read.delim xmlDoc
xmlGetAttr xmlParse xmlValue xpathApply xpathSApply
Consider adding
importFrom("utils", "URLencode", "read.csv", "read.delim")
to your NAMESPACE file.
- checking Rd files ... OK
- checking Rd metadata ... OK
- checking Rd cross-references ... OK
- checking for missing documentation entries ... OK
- checking for code/documentation mismatches ... OK
- checking Rd \usage sections ... OK
- checking Rd contents ... OK
- checking for unstated dependencies in examples ... OK
- checking examples ... [1s] OK
- checking PDF version of manual ... OK
- DONE
Status: 2 NOTEs