- using R version 3.5.0 RC (2018-04-16 r74618)
- using platform: x86_64-w64-mingw32 (64-bit)
- using session charset: ISO8859-1
- checking for file 'ProbForecastGOP/DESCRIPTION' ... OK
- checking extension type ... Package
- this is package 'ProbForecastGOP' version '1.3.2'
- checking package namespace information ... OK
- checking package dependencies ... OK
- checking if this is a source package ... OK
- checking if there is a namespace ... OK
- checking for hidden files and directories ... OK
- checking for portable file names ... OK
- checking whether package 'ProbForecastGOP' can be installed ... OK
- checking installed package size ... OK
- checking package directory ... OK
- checking DESCRIPTION meta-information ... OK
- checking top-level files ... OK
- checking for left-over files ... OK
- checking index information ... OK
- checking package subdirectories ... OK
- checking R files for non-ASCII characters ... OK
- checking R files for syntax errors ... OK
- checking whether the package can be loaded ... OK
- checking whether the package can be loaded with stated dependencies ... OK
- checking whether the package can be unloaded cleanly ... OK
- checking whether the namespace can be loaded with stated dependencies ... OK
- checking whether the namespace can be unloaded cleanly ... OK
- checking loading without being on the library search path ... OK
- checking use of S3 registration ... OK
- checking dependencies in R code ... OK
- checking S3 generic/method consistency ... OK
- checking replacement functions ... OK
- checking foreign function calls ... OK
- checking R code for possible problems ... [15s] NOTE
Emp.variog: no visible global function definition for 'lm'
Emp.variog: no visible global function definition for 'var'
Emp.variog: no visible binding for global variable 'median'
Emp.variog: no visible global function definition for 'quantile'
EmpDir.variog: no visible global function definition for 'lm'
EmpDir.variog: no visible global function definition for 'var'
EmpDir.variog: no visible binding for global variable 'median'
EmpDir.variog: no visible global function definition for 'quantile'
Field.sim: no visible global function definition for 'lm'
Field.sim: no visible global function definition for 'qnorm'
Field.sim: no visible global function definition for 'par'
ProbForecastGOP: no visible global function definition for 'lm'
ProbForecastGOP: no visible global function definition for 'var'
ProbForecastGOP: no visible binding for global variable 'median'
ProbForecastGOP: no visible global function definition for 'quantile'
ProbForecastGOP: no visible global function definition for 'qnorm'
ProbForecastGOP: no visible global function definition for 'par'
avg.variog: no visible global function definition for 'var'
avg.variog: no visible binding for global variable 'median'
avg.variog: no visible global function definition for 'quantile'
avg.variog.dir: no visible binding for global variable 'median'
avg.variog.dir: no visible global function definition for 'quantile'
ens.plot: no visible global function definition for 'rainbow'
model.fit: no visible global function definition for 'lowess'
model.fit: no visible global function definition for 'optim'
plotfields: no visible global function definition for 'par'
plotfields: no visible global function definition for 'rainbow'
Undefined global functions or variables:
lm lowess median optim par qnorm quantile rainbow var
Consider adding
importFrom("grDevices", "rainbow")
importFrom("graphics", "par")
importFrom("stats", "lm", "lowess", "median", "optim", "qnorm",
"quantile", "var")
to your NAMESPACE file.
- checking Rd files ... NOTE
prepare_Rd: ProbForecastGOP-package.Rd:42-43: Dropping empty section \seealso
- checking Rd metadata ... OK
- checking Rd cross-references ... OK
- checking for missing documentation entries ... OK
- checking for code/documentation mismatches ... OK
- checking Rd \usage sections ... OK
- checking Rd contents ... OK
- checking for unstated dependencies in examples ... OK
- checking contents of 'data' directory ... OK
- checking data for non-ASCII characters ... OK
- checking data for ASCII and uncompressed saves ... OK
- checking sizes of PDF files under 'inst/doc' ... OK
- checking installed files from 'inst/doc' ... OK
- checking examples ... [39s] OK
- checking PDF version of manual ... OK
- DONE
Status: 2 NOTEs