- using R Under development (unstable) (2018-04-21 r74624)
- using platform: x86_64-pc-linux-gnu (64-bit)
- using session charset: UTF-8
- using option ‘--no-stop-on-test-error’
- checking for file ‘wSVM/DESCRIPTION’ ... OK
- this is package ‘wSVM’ version ‘0.1-7’
- checking package namespace information ... OK
- checking package dependencies ... OK
- checking if this is a source package ... OK
- checking if there is a namespace ... OK
- checking for executable files ... OK
- checking for hidden files and directories ... OK
- checking for portable file names ... OK
- checking for sufficient/correct file permissions ... OK
- checking whether package ‘wSVM’ can be installed ... OK
- checking installed package size ... OK
- checking package directory ... OK
- checking DESCRIPTION meta-information ... OK
- checking top-level files ... NOTE
File
LICENCE
is not mentioned in the DESCRIPTION file.
- checking for left-over files ... OK
- checking index information ... OK
- checking package subdirectories ... OK
- checking R files for non-ASCII characters ... OK
- checking R files for syntax errors ... OK
- checking whether the package can be loaded ... OK
- checking whether the package can be loaded with stated dependencies ... OK
- checking whether the package can be unloaded cleanly ... OK
- checking whether the namespace can be loaded with stated dependencies ... OK
- checking whether the namespace can be unloaded cleanly ... OK
- checking loading without being on the library search path ... OK
- checking use of S3 registration ... OK
- checking dependencies in R code ... NOTE
'library' or 'require' call to ‘MASS’ which was already attached by Depends.
Please remove these calls from your code.
- checking S3 generic/method consistency ... OK
- checking replacement functions ... OK
- checking foreign function calls ... OK
- checking R code for possible problems ... NOTE
simul.wsvm: no visible binding for global variable ‘mixture.example’
wsvm.boost: no visible global function definition for ‘plot’
Undefined global functions or variables:
mixture.example plot
Consider adding
importFrom("graphics", "plot")
to your NAMESPACE file.
- checking Rd files ... OK
- checking Rd metadata ... OK
- checking Rd line widths ... NOTE
Rd file 'simul.wsvm.Rd':
\usage lines wider than 90 characters:
simul.wsvm(set.seeds = 123, obs.num = 1000, mu = c(0,0), cov.mat = 0.2*diag(2), X = NULL, Y = NULL)
Rd file 'wsvm.boost.Rd':
\usage lines wider than 90 characters:
wsvm.boost(X, Y, new.X, new.Y, c.n, B = 50, kernel.type = list(type = "rbf", par= 0.5), C = 4, eps = 1e-10, plotting = FALSE)
These lines will be truncated in the PDF manual.
- checking Rd cross-references ... OK
- checking for missing documentation entries ... OK
- checking for code/documentation mismatches ... OK
- checking Rd \usage sections ... OK
- checking Rd contents ... OK
- checking for unstated dependencies in examples ... OK
- checking contents of ‘data’ directory ... OK
- checking data for non-ASCII characters ... OK
- checking data for ASCII and uncompressed saves ... OK
- checking examples ... [18s/19s] OK
- checking PDF version of manual ... OK
- DONE
Status: 4 NOTEs