- using R Under development (unstable) (2018-04-21 r74624)
- using platform: x86_64-pc-linux-gnu (64-bit)
- using session charset: UTF-8
- using option ‘--no-stop-on-test-error’
- checking for file ‘vwr/DESCRIPTION’ ... OK
- checking extension type ... Package
- this is package ‘vwr’ version ‘0.3.0’
- package encoding: UTF-8
- checking package namespace information ... OK
- checking package dependencies ... OK
- checking if this is a source package ... OK
- checking if there is a namespace ... OK
- checking for executable files ... OK
- checking for hidden files and directories ... OK
- checking for portable file names ... OK
- checking for sufficient/correct file permissions ... OK
- checking whether package ‘vwr’ can be installed ... [33s/38s] OK
- checking installed package size ... OK
- checking package directory ... OK
- checking DESCRIPTION meta-information ... OK
- checking top-level files ... NOTE
Non-standard file/directory found at top level:
‘vwr-Ex.R’
- checking for left-over files ... OK
- checking index information ... OK
- checking package subdirectories ... OK
- checking R files for non-ASCII characters ... OK
- checking R files for syntax errors ... OK
- checking whether the package can be loaded ... OK
- checking whether the package can be loaded with stated dependencies ... OK
- checking whether the package can be unloaded cleanly ... OK
- checking whether the namespace can be loaded with stated dependencies ... OK
- checking whether the namespace can be unloaded cleanly ... OK
- checking loading without being on the library search path ... OK
- checking use of S3 registration ... OK
- checking dependencies in R code ... NOTE
Packages in Depends field not imported from:
‘lattice’ ‘latticeExtra’ ‘stringdist’
These packages need to be imported from (in the NAMESPACE file)
for when this namespace is loaded but not attached.
- checking S3 generic/method consistency ... OK
- checking replacement functions ... OK
- checking foreign function calls ... OK
- checking R code for possible problems ... NOTE
ald: no visible global function definition for ‘detectCores’
ald: no visible global function definition for ‘mclapply’
coltheart.N: no visible global function definition for ‘detectCores’
coltheart.N: no visible global function definition for ‘mclapply’
hamming.distance: no visible global function definition for
‘stringdist’
ldknn: no visible global function definition for ‘detectCores’
ldknn: no visible global function definition for ‘mclapply’
ldknn.odds: no visible global function definition for ‘glm’
ldknn.odds: no visible binding for global variable ‘binomial’
ldknn.odds: no visible global function definition for ‘coefficients’
levenshtein.damerau.distance: no visible global function definition for
‘stringdist’
levenshtein.distance: no visible global function definition for
‘stringdist’
plot.ldknn.run: no visible global function definition for ‘histogram’
plot.ldknn.run: no visible global function definition for
‘theEconomist.theme’
plot.ldknn.run: no visible global function definition for ‘xyplot’
plot.ldknn.run: no visible global function definition for ‘as.layer’
Undefined global functions or variables:
as.layer binomial coefficients detectCores glm histogram mclapply
stringdist theEconomist.theme xyplot
Consider adding
importFrom("stats", "binomial", "coefficients", "glm")
to your NAMESPACE file.
- checking Rd files ... OK
- checking Rd metadata ... OK
- checking Rd line widths ... OK
- checking Rd cross-references ... OK
- checking for missing documentation entries ... OK
- checking for code/documentation mismatches ... OK
- checking Rd \usage sections ... OK
- checking Rd contents ... OK
- checking for unstated dependencies in examples ... OK
- checking contents of ‘data’ directory ... OK
- checking data for non-ASCII characters ... NOTE
Note: found 358074 marked UTF-8 strings
- checking data for ASCII and uncompressed saves ... OK
- checking examples ... OK
- checking PDF version of manual ... OK
- DONE
Status: 4 NOTEs