- using R Under development (unstable) (2025-10-22 r88969)
- using platform: x86_64-pc-linux-gnu
- R was compiled by
gcc (GCC) 15.1.1 20250521 (Red Hat 15.1.1-2)
GNU Fortran (GCC) 15.1.1 20250521 (Red Hat 15.1.1-2)
- running under: Fedora Linux 42 (Workstation Edition)
- using session charset: UTF-8
- using option ‘--no-stop-on-test-error’
- checking for file ‘umx/DESCRIPTION’ ... OK
- this is package ‘umx’ version ‘4.59.0’
- package encoding: UTF-8
- checking package namespace information ... OK
- checking package dependencies ... OK
- checking if this is a source package ... OK
- checking if there is a namespace ... OK
- checking for executable files ... OK
- checking for hidden files and directories ... OK
- checking for portable file names ... OK
- checking for sufficient/correct file permissions ... OK
- checking whether package ‘umx’ can be installed ... [71s/189s] OK
See the install log for details.
- checking package directory ... OK
- checking DESCRIPTION meta-information ... OK
- checking top-level files ... OK
- checking for left-over files ... OK
- checking index information ... OK
- checking package subdirectories ... OK
- checking code files for non-ASCII characters ... OK
- checking R files for syntax errors ... OK
- checking whether the package can be loaded ... [7s/17s] OK
- checking whether the package can be loaded with stated dependencies ... [6s/15s] OK
- checking whether the package can be unloaded cleanly ... [7s/17s] OK
- checking whether the namespace can be loaded with stated dependencies ... [6s/21s] OK
- checking whether the namespace can be unloaded cleanly ... [7s/13s] OK
- checking loading without being on the library search path ... [7s/20s] OK
- checking whether startup messages can be suppressed ... [7s/18s] OK
- checking use of S3 registration ... OK
- checking dependencies in R code ... NOTE
Namespace in Imports field not imported from: ‘psychTools’
All declared Imports should be used.
- checking S3 generic/method consistency ... OK
- checking replacement functions ... OK
- checking foreign function calls ... OK
- checking R code for possible problems ... [133s/231s] OK
- checking Rd files ... [9s/13s] NOTE
checkRd: (-1) power.ACE.test.Rd:84: height/width attributes should be in pixels
checkRd: (-1) umxACE.Rd:105: height/width attributes should be in pixels
checkRd: (-1) umxACE.Rd:114: height/width attributes should be in pixels
checkRd: (-1) umxACEcov.Rd:82: height/width attributes should be in pixels
checkRd: (-1) umxACEv.Rd:104: height/width attributes should be in pixels
checkRd: (-1) umxCP.Rd:117: height/width attributes should be in pixels
checkRd: (-1) umxDiffMZ.Rd:48: height/width attributes should be in pixels
checkRd: (-1) umxDiffMZ.Rd:54: height/width attributes should be in pixels
checkRd: (-1) umxDiscTwin.Rd:54: height/width attributes should be in pixels
checkRd: (-1) umxDiscTwin.Rd:64: height/width attributes should be in pixels
checkRd: (-1) umxDoC.Rd:69: height/width attributes should be in pixels
checkRd: (-1) umxEFA.Rd:74: height/width attributes should be in pixels
checkRd: (-1) umxGxE.Rd:76: height/width attributes should be in pixels
checkRd: (-1) umxIP.Rd:101: height/width attributes should be in pixels
checkRd: (-1) umxLav2RAM.Rd:104-111: Only 4 columns allowed in this table (row 1 has 3)
checkRd: (-1) umxLav2RAM.Rd:104-111: Only 4 columns allowed in this table (row 2 has 3)
checkRd: (-1) umxLav2RAM.Rd:104-111: Only 4 columns allowed in this table (row 3 has 3)
checkRd: (-1) umxLav2RAM.Rd:104-111: Only 4 columns allowed in this table (row 4 has 3)
checkRd: (-1) umxLav2RAM.Rd:104-111: Only 4 columns allowed in this table (row 5 has 3)
checkRd: (-1) umxLav2RAM.Rd:104-111: Only 4 columns allowed in this table (row 6 has 3)
checkRd: (-1) umxPower.Rd:60: height/width attributes should be in pixels
checkRd: (-1) umxSimplex.Rd:78: height/width attributes should be in pixels
checkRd: (-1) umxTwoStage.Rd:54: height/width attributes should be in pixels
- checking Rd metadata ... OK
- checking Rd line widths ... OK
- checking Rd cross-references ... OK
- checking for missing documentation entries ... OK
- checking for code/documentation mismatches ... OK
- checking Rd \usage sections ... OK
- checking Rd contents ... OK
- checking for unstated dependencies in examples ... OK
- checking contents of ‘data’ directory ... OK
- checking data for non-ASCII characters ... OK
- checking LazyData ... OK
- checking data for ASCII and uncompressed saves ... OK
- checking examples ... [37s/41s] OK
- checking for unstated dependencies in ‘tests’ ... OK
- checking tests ... OK
Running ‘testthat.R’
- checking PDF version of manual ... [71s/80s] OK
- checking HTML version of manual ... [41s/44s] OK
- checking for non-standard things in the check directory ... OK
- checking for detritus in the temp directory ... OK
- DONE
Status: 2 NOTEs