- using R Under development (unstable) (2018-04-14 r74601)
- using platform: x86_64-pc-linux-gnu (64-bit)
- using session charset: UTF-8
- using option ‘--no-stop-on-test-error’
- checking for file ‘IBrokers/DESCRIPTION’ ... OK
- checking extension type ... Package
- this is package ‘IBrokers’ version ‘0.9-12’
- checking package namespace information ... OK
- checking package dependencies ... OK
- checking if this is a source package ... OK
- checking if there is a namespace ... OK
- checking for executable files ... OK
- checking for hidden files and directories ... OK
- checking for portable file names ... OK
- checking for sufficient/correct file permissions ... OK
- checking whether package ‘IBrokers’ can be installed ... OK
- checking installed package size ... OK
- checking package directory ... OK
- checking ‘build’ directory ... OK
- checking DESCRIPTION meta-information ... OK
- checking top-level files ... OK
- checking for left-over files ... OK
- checking index information ... OK
- checking package subdirectories ... OK
- checking R files for non-ASCII characters ... OK
- checking R files for syntax errors ... OK
- checking whether the package can be loaded ... OK
- checking whether the package can be loaded with stated dependencies ... OK
- checking whether the package can be unloaded cleanly ... OK
- checking whether the namespace can be loaded with stated dependencies ... OK
- checking whether the namespace can be unloaded cleanly ... OK
- checking loading without being on the library search path ... OK
- checking use of S3 registration ... OK
- checking dependencies in R code ... OK
- checking S3 generic/method consistency ... OK
- checking replacement functions ... OK
- checking foreign function calls ... OK
- checking R code for possible problems ... [13s/16s] NOTE
..placeOrder: no visible global function definition for ‘str’
.reqMktData.vignette: no visible global function definition for
‘flush.console’
e_portfolio_value: no visible global function definition for ‘str’
print.eventPortfolioValue: no visible global function definition for
‘str’
print.twsContract: no visible global function definition for ‘str’
print.twsContractDetails: no visible global function definition for
‘str’
print.twsOrder: no visible global function definition for ‘str’
print.twsOrderState: no visible global function definition for ‘str’
print.twsScannerSubscription: no visible global function definition for
‘str’
reqAccountUpdates: no visible binding for global variable ‘timestamp’
reqContractDetails: no visible binding for global variable ‘timestamp’
reqHistoricalData: no visible global function definition for
‘flush.console’
reqHistoricalData: no visible global function definition for
‘write.table’
Undefined global functions or variables:
flush.console str timestamp write.table
Consider adding
importFrom("utils", "flush.console", "str", "timestamp", "write.table")
to your NAMESPACE file.
- checking Rd files ... OK
- checking Rd metadata ... OK
- checking Rd line widths ... OK
- checking Rd cross-references ... OK
- checking for missing documentation entries ... OK
- checking for code/documentation mismatches ... OK
- checking Rd \usage sections ... OK
- checking Rd contents ... OK
- checking for unstated dependencies in examples ... OK
- checking sizes of PDF files under ‘inst/doc’ ... OK
- checking installed files from ‘inst/doc’ ... OK
- checking files in ‘vignettes’ ... OK
- checking examples ... OK
- checking for unstated dependencies in vignettes ... OK
- checking package vignettes in ‘inst/doc’ ... OK
- checking re-building of vignette outputs ... [7s/19s] OK
- checking PDF version of manual ... OK
- DONE
Status: 1 NOTE