- using R Under development (unstable) (2018-04-20 r74620)
- using platform: x86_64-pc-linux-gnu (64-bit)
- using session charset: UTF-8
- using option ‘--no-stop-on-test-error’
- checking for file ‘stppResid/DESCRIPTION’ ... OK
- checking extension type ... Package
- this is package ‘stppResid’ version ‘1.1’
- checking package namespace information ... OK
- checking package dependencies ... OK
- checking if this is a source package ... OK
- checking if there is a namespace ... OK
- checking for executable files ... OK
- checking for hidden files and directories ... OK
- checking for portable file names ... OK
- checking for sufficient/correct file permissions ... OK
- checking whether package ‘stppResid’ can be installed ... OK
- checking installed package size ... OK
- checking package directory ... OK
- checking DESCRIPTION meta-information ... NOTE
Malformed Title field: should not end in a period.
- checking top-level files ... OK
- checking for left-over files ... OK
- checking index information ... OK
- checking package subdirectories ... OK
- checking R files for non-ASCII characters ... OK
- checking R files for syntax errors ... OK
- checking whether the package can be loaded ... OK
- checking whether the package can be loaded with stated dependencies ... OK
- checking whether the package can be unloaded cleanly ... OK
- checking whether the namespace can be loaded with stated dependencies ... OK
- checking whether the namespace can be unloaded cleanly ... OK
- checking loading without being on the library search path ... OK
- checking use of S3 registration ... OK
- checking dependencies in R code ... NOTE
Packages in Depends field not imported from:
‘cubature’ ‘deldir’ ‘splancs’
These packages need to be imported from (in the NAMESPACE file)
for when this namespace is loaded but not attached.
- checking S3 generic/method consistency ... NOTE
Found the following apparent S3 methods exported but not registered:
plot.devresid plot.gridresid plot.stpp plot.superthin plot.supresid
plot.tessdev plot.tessresid plot.thinresid print.devresid
print.gridresid print.stgrid print.stpp print.stwin print.superthin
print.supresid print.tessdev print.tessresid print.thinresid
summary.superthin summary.supresid summary.thinresid
See section ‘Registering S3 methods’ in the ‘Writing R Extensions’
manual.
- checking replacement functions ... OK
- checking foreign function calls ... OK
- checking R code for possible problems ... [15s/16s] NOTE
bin.info : xpoints: no visible global function definition for ‘runif’
bin.info : ypoints: no visible global function definition for ‘runif’
bin.info : fun2: no visible global function definition for ‘tail’
bin.info: no visible global function definition for ‘runif’
bin.info: no visible binding for global variable ‘sd’
bin.info: no visible global function definition for ‘sd’
bin.info.MISER : fun2: no visible global function definition for ‘tail’
bin.info.MISER : int.fun: no visible global function definition for
‘sd’
bin.info.MISER: no visible global function definition for ‘runif’
bin.info.MISER : miser: no visible global function definition for
‘median’
bin.info.MISER : miser: no visible global function definition for ‘sd’
bin.info.MISER : miser: no visible global function definition for
‘runif’
bin.info.cubature : fun2: no visible global function definition for
‘tail’
bin.info.cubature : compute.fun: no visible global function definition
for ‘adaptIntegrate’
devbin.info.MISER : fun2: no visible global function definition for
‘tail’
devbin.info.MISER : int.fun: no visible global function definition for
‘sd’
devbin.info.MISER: no visible global function definition for ‘runif’
devbin.info.MISER : miser: no visible global function definition for
‘median’
devbin.info.MISER : miser: no visible global function definition for
‘sd’
devbin.info.MISER : miser: no visible global function definition for
‘runif’
devresid: no visible global function definition for ‘aggregate’
gridresid: no visible global function definition for ‘aggregate’
plot.devresid: no visible global function definition for ‘heat.colors’
plot.devresid: no visible global function definition for ‘tail’
plot.devresid: no visible global function definition for ‘layout’
plot.devresid: no visible global function definition for ‘par’
plot.devresid: no visible global function definition for ‘image’
plot.devresid: no visible global function definition for ‘points’
plot.devresid: no visible global function definition for ‘plot’
plot.devresid: no visible global function definition for ‘lines’
plot.devresid: no visible global function definition for ‘gray’
plot.devresid: no visible global function definition for ‘text’
plot.devresid: no visible global function definition for ‘quantile’
plot.devresid: no visible global function definition for ‘median’
plot.devresid: no visible global function definition for ‘mtext’
plot.gridresid: no visible global function definition for ‘heat.colors’
plot.gridresid: no visible global function definition for ‘tail’
plot.gridresid: no visible global function definition for ‘layout’
plot.gridresid: no visible global function definition for ‘par’
plot.gridresid: no visible global function definition for ‘image’
plot.gridresid: no visible global function definition for ‘points’
plot.gridresid: no visible global function definition for ‘plot’
plot.gridresid: no visible global function definition for ‘lines’
plot.gridresid: no visible global function definition for ‘gray’
plot.gridresid: no visible global function definition for ‘text’
plot.gridresid: no visible global function definition for ‘quantile’
plot.gridresid: no visible global function definition for ‘median’
plot.gridresid: no visible global function definition for ‘mtext’
plot.stpp: no visible global function definition for ‘plot’
plot.superthin: no visible global function definition for ‘plot’
plot.superthin: no visible global function definition for ‘points’
plot.supresid: no visible global function definition for ‘plot’
plot.supresid: no visible global function definition for ‘points’
plot.tessdev: no visible global function definition for ‘heat.colors’
plot.tessdev: no visible global function definition for ‘layout’
plot.tessdev: no visible global function definition for ‘par’
plot.tessdev: no visible global function definition for ‘plot’
plot.tessdev: no visible global function definition for ‘polygon’
plot.tessdev: no visible global function definition for ‘points’
plot.tessdev: no visible global function definition for ‘image’
plot.tessdev: no visible global function definition for ‘lines’
plot.tessdev: no visible global function definition for ‘gray’
plot.tessdev: no visible global function definition for ‘text’
plot.tessdev: no visible global function definition for ‘quantile’
plot.tessdev: no visible global function definition for ‘median’
plot.tessdev: no visible global function definition for ‘mtext’
plot.tessresid: no visible global function definition for ‘heat.colors’
plot.tessresid: no visible global function definition for ‘layout’
plot.tessresid: no visible global function definition for ‘par’
plot.tessresid: no visible global function definition for ‘plot’
plot.tessresid: no visible global function definition for ‘polygon’
plot.tessresid: no visible global function definition for ‘points’
plot.tessresid: no visible global function definition for ‘image’
plot.tessresid: no visible global function definition for ‘lines’
plot.tessresid: no visible global function definition for ‘gray’
plot.tessresid: no visible global function definition for ‘text’
plot.tessresid: no visible global function definition for ‘quantile’
plot.tessresid: no visible global function definition for ‘median’
plot.tessresid: no visible global function definition for ‘mtext’
plot.thinresid: no visible global function definition for ‘plot’
summary.superthin: no visible global function definition for ‘ppois’
summary.supresid: no visible global function definition for ‘ppois’
summary.thinresid: no visible global function definition for ‘ppois’
superthin: no visible global function definition for ‘rpois’
superthin: no visible global function definition for ‘runif’
superthin : fun2: no visible global function definition for ‘tail’
supresid: no visible global function definition for ‘rpois’
supresid: no visible global function definition for ‘runif’
supresid : fun2: no visible global function definition for ‘tail’
tess.info : fun2: no visible global function definition for ‘tail’
tess.info : new.points: no visible global function definition for
‘as.points’
tess.info : new.points: no visible global function definition for ‘csr’
tess.info: no visible global function definition for ‘runif’
tess.info: no visible binding for global variable ‘sd’
tess.info: no visible global function definition for ‘sd’
tess.info.MISER : fun2: no visible global function definition for
‘tail’
tess.info.MISER : int.fun: no visible global function definition for
‘as.points’
tess.info.MISER : int.fun: no visible global function definition for
‘inpip’
tess.info.MISER : int.fun: no visible global function definition for
‘sd’
tess.info.MISER: no visible global function definition for ‘runif’
tess.info.MISER : miser: no visible global function definition for
‘median’
tess.info.MISER : miser: no visible global function definition for ‘sd’
tess.info.MISER : miser: no visible global function definition for
‘runif’
tessdev: no visible global function definition for ‘deldir’
tessdev: no visible global function definition for ‘tile.list’
tessdev : sum.l: no visible global function definition for ‘as.points’
tessdev : sum.l: no visible global function definition for ‘inpip’
tessdev.info : fun2.1: no visible global function definition for ‘tail’
tessdev.info : fun2.2: no visible global function definition for ‘tail’
tessdev.info : all: no visible global function definition for
‘as.points’
tessdev.info : all: no visible global function definition for ‘inpip’
tessdev.info : all: no visible global function definition for ‘sd’
tessdev.info: no visible global function definition for ‘runif’
tessresid: no visible global function definition for ‘deldir’
tessresid: no visible global function definition for ‘tile.list’
tessresid : num: no visible global function definition for ‘as.points’
tessresid : num: no visible global function definition for ‘inpip’
thinresid: no visible global function definition for ‘runif’
Undefined global functions or variables:
adaptIntegrate aggregate as.points csr deldir gray heat.colors image
inpip layout lines median mtext par plot points polygon ppois
quantile rpois runif sd tail text tile.list
Consider adding
importFrom("grDevices", "gray", "heat.colors")
importFrom("graphics", "image", "layout", "lines", "mtext", "par",
"plot", "points", "polygon", "text")
importFrom("stats", "aggregate", "median", "ppois", "quantile",
"rpois", "runif", "sd")
importFrom("utils", "tail")
to your NAMESPACE file.
- checking Rd files ... OK
- checking Rd metadata ... OK
- checking Rd line widths ... NOTE
Rd file 'gridresid.Rd':
\usage lines wider than 90 characters:
gridresid(X, cifunction, theta = NULL, lambda = NULL, grid = c(10, 10), gf = NULL, resid = c("raw", "pearson", "inverse"), algthm = c(" ... [TRUNCATED]
These lines will be truncated in the PDF manual.
- checking Rd cross-references ... OK
- checking for missing documentation entries ... OK
- checking for code/documentation mismatches ... OK
- checking Rd \usage sections ... OK
- checking Rd contents ... OK
- checking for unstated dependencies in examples ... OK
- checking contents of ‘data’ directory ... OK
- checking data for non-ASCII characters ... OK
- checking data for ASCII and uncompressed saves ... OK
- checking examples ... [10s/12s] OK
- checking PDF version of manual ... OK
- DONE
Status: 5 NOTEs