- using R Under development (unstable) (2018-04-20 r74620)
- using platform: x86_64-pc-linux-gnu (64-bit)
- using session charset: UTF-8
- using option ‘--no-stop-on-test-error’
- checking for file ‘portfolioSim/DESCRIPTION’ ... OK
- this is package ‘portfolioSim’ version ‘0.2-7’
- checking package namespace information ... OK
- checking package dependencies ... OK
- checking if this is a source package ... OK
- checking if there is a namespace ... OK
- checking for executable files ... OK
- checking for hidden files and directories ... OK
- checking for portable file names ... OK
- checking for sufficient/correct file permissions ... OK
- checking whether package ‘portfolioSim’ can be installed ... OK
- checking installed package size ... OK
- checking package directory ... OK
- checking DESCRIPTION meta-information ... OK
- checking top-level files ... OK
- checking for left-over files ... OK
- checking index information ... OK
- checking package subdirectories ... OK
- checking R files for non-ASCII characters ... OK
- checking R files for syntax errors ... OK
- checking whether the package can be loaded ... OK
- checking whether the package can be loaded with stated dependencies ... OK
- checking whether the package can be unloaded cleanly ... OK
- checking whether the namespace can be loaded with stated dependencies ... OK
- checking whether the namespace can be unloaded cleanly ... OK
- checking loading without being on the library search path ... OK
- checking use of S3 registration ... OK
- checking dependencies in R code ... NOTE
'library' or 'require' call to ‘methods’ which was already attached by Depends.
Please remove these calls from your code.
Packages in Depends field not imported from:
‘lattice’ ‘methods’
These packages need to be imported from (in the NAMESPACE file)
for when this namespace is loaded but not attached.
- checking S3 generic/method consistency ... OK
- checking replacement functions ... OK
- checking foreign function calls ... OK
- checking R code for possible problems ... [7s/10s] NOTE
File ‘portfolioSim/R/AllClasses.R’:
.onLoad calls:
require(methods)
Package startup functions should not change the search path.
See section ‘Good practice’ in '?.onAttach'.
contributionSummaryDf,simResult : <anonymous>: no visible global
function definition for ‘aggregate’
getSimTrades,stiFromSignal-orderable-portfolio-simData-logical: no
visible binding for global variable ‘shares’
loadIn,simResult-character-missing: no visible binding for global
variable ‘master.freq’
loadIn,simResult-character-missing: no visible binding for global
variable ‘master.errors’
loadIn,simResult-character-missing: no visible binding for global
variable ‘master.type’
loadIn,simResult-character-missing: no visible binding for global
variable ‘master.summary.interface’
loadIn,simResultSinglePeriod-character-missing: no visible binding for
global variable ‘x’
plot,simResult-missing: no visible global function definition for
‘xyplot’
runSim,portfolioSim-logical: no visible binding for global variable
‘id’
runSim,portfolioSim-logical: no visible global function definition for
‘updateSummary’
securityPerfSummaryDf,simResult: no visible global function definition
for ‘aggregate’
summary,simResult: no visible global function definition for ‘sd’
summary,simResult: no visible global function definition for ‘head’
summary,simResult: no visible global function definition for ‘tail’
Undefined global functions or variables:
aggregate head id master.errors master.freq master.summary.interface
master.type sd shares tail updateSummary x xyplot
Consider adding
importFrom("stats", "aggregate", "sd")
importFrom("utils", "head", "tail")
to your NAMESPACE file.
- checking Rd files ... OK
- checking Rd metadata ... OK
- checking Rd line widths ... OK
- checking Rd cross-references ... OK
- checking for missing documentation entries ... OK
- checking for code/documentation mismatches ... OK
- checking Rd \usage sections ... OK
- checking Rd contents ... OK
- checking for unstated dependencies in examples ... OK
- checking contents of ‘data’ directory ... OK
- checking data for non-ASCII characters ... OK
- checking data for ASCII and uncompressed saves ... OK
- checking sizes of PDF files under ‘inst/doc’ ... OK
- checking installed files from ‘inst/doc’ ... OK
- checking files in ‘vignettes’ ... OK
- checking examples ... OK
- checking for unstated dependencies in ‘tests’ ... OK
- checking tests ... [7s/10s] OK
Running ‘portfolioSim.class.test.R’
Running ‘portfolioSim.runSim.test.R’
Running ‘sdiDf.getSimData.test.R’
Running ‘simData.class.test.R’
Running ‘simTrades.class.test.R’
Running ‘stiFromSignal.getSimTrades.test.R’
- checking for unstated dependencies in vignettes ... OK
- checking package vignettes in ‘inst/doc’ ... OK
- checking re-building of vignette outputs ... [207s/267s] OK
- checking PDF version of manual ... OK
- DONE
Status: 2 NOTEs