- using R Under development (unstable) (2018-04-13 r74592)
- using platform: x86_64-pc-linux-gnu (64-bit)
- using session charset: UTF-8
- using option ‘--no-stop-on-test-error’
- checking for file ‘notifyR/DESCRIPTION’ ... OK
- checking extension type ... Package
- this is package ‘notifyR’ version ‘1.02’
- checking package namespace information ... OK
- checking package dependencies ... OK
- checking if this is a source package ... OK
- checking if there is a namespace ... OK
- checking for executable files ... OK
- checking for hidden files and directories ... OK
- checking for portable file names ... OK
- checking for sufficient/correct file permissions ... OK
- checking whether package ‘notifyR’ can be installed ... OK
- checking installed package size ... OK
- checking package directory ... OK
- checking DESCRIPTION meta-information ... OK
- checking top-level files ... OK
- checking for left-over files ... OK
- checking index information ... OK
- checking package subdirectories ... OK
- checking R files for non-ASCII characters ... OK
- checking R files for syntax errors ... OK
- checking whether the package can be loaded ... OK
- checking whether the package can be loaded with stated dependencies ... OK
- checking whether the package can be unloaded cleanly ... OK
- checking whether the namespace can be loaded with stated dependencies ... OK
- checking whether the namespace can be unloaded cleanly ... OK
- checking loading without being on the library search path ... OK
- checking use of S3 registration ... OK
- checking dependencies in R code ... OK
- checking S3 generic/method consistency ... OK
- checking replacement functions ... OK
- checking foreign function calls ... OK
- checking R code for possible problems ... OK
- checking Rd files ... OK
- checking Rd metadata ... OK
- checking Rd line widths ... NOTE
Rd file 'notifyR-package.Rd':
\examples lines wider than 100 characters:
send_push(userkey,message="finished.",title="World Simulation",url="http://www.myRresults.com/",url_title="View Results online.",priori ... [TRUNCATED]
Rd file 'send_push.Rd':
\usage lines wider than 90 characters:
send_push(user, message, title = "", device = "", url = "", url_title = "", priority = FALSE, timestamp = Sys.time())
\examples lines wider than 100 characters:
send_push(userkey,message="finished.",title="World Simulation",url="http://www.myRresults.com/",url_title="View Results online.",priori ... [TRUNCATED]
These lines will be truncated in the PDF manual.
- checking Rd cross-references ... OK
- checking for missing documentation entries ... OK
- checking for code/documentation mismatches ... OK
- checking Rd \usage sections ... OK
- checking Rd contents ... OK
- checking for unstated dependencies in examples ... OK
- checking examples ... OK
- checking PDF version of manual ... OK
- DONE
Status: 1 NOTE