- using R Under development (unstable) (2018-04-20 r74620)
- using platform: x86_64-pc-linux-gnu (64-bit)
- using session charset: UTF-8
- using option ‘--no-stop-on-test-error’
- checking for file ‘mco/DESCRIPTION’ ... OK
- this is package ‘mco’ version ‘1.0-15.1’
- checking package namespace information ... OK
- checking package dependencies ... OK
- checking if this is a source package ... OK
- checking if there is a namespace ... OK
- checking for executable files ... OK
- checking for hidden files and directories ... OK
- checking for portable file names ... OK
- checking for sufficient/correct file permissions ... OK
- checking whether package ‘mco’ can be installed ... OK
- checking installed package size ... OK
- checking package directory ... OK
- checking DESCRIPTION meta-information ... NOTE
Malformed Description field: should contain one or more complete sentences.
- checking top-level files ... OK
- checking for left-over files ... OK
- checking index information ... OK
- checking package subdirectories ... OK
- checking R files for non-ASCII characters ... OK
- checking R files for syntax errors ... OK
- checking whether the package can be loaded ... OK
- checking whether the package can be loaded with stated dependencies ... OK
- checking whether the package can be unloaded cleanly ... OK
- checking whether the namespace can be loaded with stated dependencies ... OK
- checking whether the namespace can be unloaded cleanly ... OK
- checking loading without being on the library search path ... OK
- checking use of S3 registration ... OK
- checking dependencies in R code ... NOTE
'library' or 'require' call to ‘scatterplot3d’ in package code.
Please use :: or requireNamespace() instead.
See section 'Suggested packages' in the 'Writing R Extensions' manual.
- checking S3 generic/method consistency ... OK
- checking replacement functions ... OK
- checking foreign function calls ... OK
- checking R code for possible problems ... NOTE
plot.nsga2: no visible global function definition for ‘plot’
plot.nsga2: no visible global function definition for ‘lines’
plot.nsga2: no visible global function definition for ‘pairs’
plot.nsga2.collection: no visible global function definition for
‘devAskNewPage’
plot.nsga2.collection: no visible binding for global variable ‘plot’
Undefined global functions or variables:
devAskNewPage lines pairs plot
Consider adding
importFrom("grDevices", "devAskNewPage")
importFrom("graphics", "lines", "pairs", "plot")
to your NAMESPACE file.
- checking Rd files ... OK
- checking Rd metadata ... OK
- checking Rd line widths ... OK
- checking Rd cross-references ... OK
- checking for missing documentation entries ... OK
- checking for code/documentation mismatches ... OK
- checking Rd \usage sections ... OK
- checking Rd contents ... OK
- checking for unstated dependencies in examples ... OK
- checking line endings in C/C++/Fortran sources/headers ... OK
- checking line endings in Makefiles ... OK
- checking compilation flags in Makevars ... OK
- checking for GNU extensions in Makefiles ... OK
- checking for portable use of $(BLAS_LIBS) and $(LAPACK_LIBS) ... OK
- checking pragmas in C/C++ headers and code ... OK
- checking compilation flags used ... OK
- checking compiled code ... NOTE
File ‘mco/libs/mco.so’:
Found no calls to: ‘R_registerRoutines’, ‘R_useDynamicSymbols’
It is good practice to register native routines and to disable symbol
search.
See ‘Writing portable packages’ in the ‘Writing R Extensions’ manual.
- checking examples ... OK
- checking for unstated dependencies in ‘tests’ ... OK
- checking tests ... [13s/15s] OK
Running ‘testthat.R’ [12s/15s]
- checking PDF version of manual ... OK
- DONE
Status: 4 NOTEs