- using R Under development (unstable) (2024-04-24 r86484)
- using platform: x86_64-pc-linux-gnu
- R was compiled by
clang version 18.1.4
flang-new version 18.1.4
- running under: Fedora Linux 36 (Workstation Edition)
- using session charset: UTF-8
- using option ‘--no-stop-on-test-error’
- checking for file ‘gtsummary/DESCRIPTION’ ... OK
- this is package ‘gtsummary’ version ‘1.7.2’
- package encoding: UTF-8
- checking package namespace information ... OK
- checking package dependencies ... OK
- checking if this is a source package ... OK
- checking if there is a namespace ... OK
- checking for executable files ... OK
- checking for hidden files and directories ... OK
- checking for portable file names ... OK
- checking for sufficient/correct file permissions ... OK
- checking whether package ‘gtsummary’ can be installed ... [35s/93s] OK
See the install log for details.
- checking installed package size ... OK
- checking package directory ... OK
- checking ‘build’ directory ... OK
- checking DESCRIPTION meta-information ... OK
- checking top-level files ... OK
- checking for left-over files ... OK
- checking index information ... OK
- checking package subdirectories ... OK
- checking code files for non-ASCII characters ... OK
- checking R files for syntax errors ... OK
- checking whether the package can be loaded ... OK
- checking whether the package can be loaded with stated dependencies ... OK
- checking whether the package can be unloaded cleanly ... OK
- checking whether the namespace can be loaded with stated dependencies ... OK
- checking whether the namespace can be unloaded cleanly ... OK
- checking loading without being on the library search path ... OK
- checking whether startup messages can be suppressed ... OK
- checking use of S3 registration ... OK
- checking dependencies in R code ... OK
- checking S3 generic/method consistency ... OK
- checking replacement functions ... OK
- checking foreign function calls ... OK
- checking R code for possible problems ... [55s/159s] OK
- checking Rd files ... NOTE
checkRd: (-1) as_flex_table.Rd:24: Lost braces; missing escapes or markup?
24 | A {flextable} object
| ^
checkRd: (-1) as_hux_table.Rd:37: Lost braces; missing escapes or markup?
37 | A {huxtable} object
| ^
checkRd: (-1) as_kable_extra.Rd:42: Lost braces; missing escapes or markup?
42 | and {kableExtra}; \code{as_kable_extra()} supports arguments in \code{knitr::kable()}.
| ^
checkRd: (-1) as_kable_extra.Rd:37: Lost braces; missing escapes or markup?
37 | A {kableExtra} table
| ^
checkRd: (-1) select_helpers.Rd:53: Lost braces; missing escapes or markup?
53 | Set of functions to supplement the {tidyselect} set of
| ^
checkRd: (-1) tbl_summary.Rd:91: Lost braces; missing escapes or markup?
91 | from the \\{tidyselect\\} package and \\{gtsummary\\} package are available to
| ^
checkRd: (-1) tbl_summary.Rd:91: Lost braces; missing escapes or markup?
91 | from the \\{tidyselect\\} package and \\{gtsummary\\} package are available to
| ^
checkRd: (-1) tbl_svysummary.Rd:183: Lost braces; missing escapes or markup?
183 | from the \\{tidyselect\\} package and \\{gtsummary\\} package are available to
| ^
checkRd: (-1) tbl_svysummary.Rd:183: Lost braces; missing escapes or markup?
183 | from the \\{tidyselect\\} package and \\{gtsummary\\} package are available to
| ^
- checking Rd metadata ... OK
- checking Rd line widths ... OK
- checking Rd cross-references ... OK
- checking for missing documentation entries ... OK
- checking for code/documentation mismatches ... OK
- checking Rd \usage sections ... OK
- checking Rd contents ... OK
- checking for unstated dependencies in examples ... OK
- checking contents of ‘data’ directory ... OK
- checking data for non-ASCII characters ... OK
- checking LazyData ... OK
- checking data for ASCII and uncompressed saves ... OK
- checking R/sysdata.rda ... OK
- checking installed files from ‘inst/doc’ ... OK
- checking files in ‘vignettes’ ... OK
- checking examples ... [48s/93s] OK
- checking for unstated dependencies in ‘tests’ ... OK
- checking tests ... [43s/36s] OK
Running ‘spelling.R’
Running ‘testthat.R’ [42s/34s]
- checking for unstated dependencies in vignettes ... OK
- checking package vignettes ... OK
- checking re-building of vignette outputs ... [50s/150s] OK
- checking PDF version of manual ... [23s/69s] OK
- checking HTML version of manual ... [11s/25s] OK
- checking for non-standard things in the check directory ... OK
- checking for detritus in the temp directory ... OK
- DONE
Status: 1 NOTE