- using R Under development (unstable) (2024-03-25 r86192)
- using platform: x86_64-pc-linux-gnu
- R was compiled by
clang version 18.1.2
flang-new version 18.1.2
- running under: Fedora Linux 36 (Workstation Edition)
- using session charset: UTF-8
- using option ‘--no-stop-on-test-error’
- checking for file ‘googleVis/DESCRIPTION’ ... OK
- checking extension type ... Package
- this is package ‘googleVis’ version ‘0.7.1’
- package encoding: UTF-8
- checking package namespace information ... OK
- checking package dependencies ... OK
- checking if this is a source package ... OK
- checking if there is a namespace ... OK
- checking for executable files ... OK
- checking for hidden files and directories ... OK
- checking for portable file names ... OK
- checking for sufficient/correct file permissions ... OK
- checking whether package ‘googleVis’ can be installed ... [8s/30s] OK
See the install log for details.
- checking installed package size ... OK
- checking package directory ... OK
- checking ‘build’ directory ... OK
- checking DESCRIPTION meta-information ... OK
- checking top-level files ... OK
- checking for left-over files ... OK
- checking index information ... OK
- checking package subdirectories ... OK
- checking code files for non-ASCII characters ... OK
- checking R files for syntax errors ... OK
- checking whether the package can be loaded ... OK
- checking whether the package can be loaded with stated dependencies ... OK
- checking whether the package can be unloaded cleanly ... OK
- checking whether the namespace can be loaded with stated dependencies ... OK
- checking whether the namespace can be unloaded cleanly ... OK
- checking loading without being on the library search path ... OK
- checking whether startup messages can be suppressed ... OK
- checking use of S3 registration ... OK
- checking dependencies in R code ... OK
- checking S3 generic/method consistency ... OK
- checking replacement functions ... OK
- checking foreign function calls ... OK
- checking R code for possible problems ... [13s/38s] OK
- checking Rd files ... NOTE
checkRd: (-1) gvisAnnotatedTimeLine.Rd:60-61: Lost braces; missing escapes or markup?
60 | \Sexpr[results=rd]{paste(readLines(file.path(".", "inst",
| ^
checkRd: (-1) gvisAnnotatedTimeLine.Rd:60-61: Lost braces in \itemize; meant \describe ?
checkRd: (-1) gvisAnnotatedTimeLine.Rd:90: Lost braces
90 | Use code{\link{gvisAnnotationChart}} for a non-Flash version of this plot.
| ^
checkRd: (-1) gvisAnnotationChart.Rd:60-61: Lost braces; missing escapes or markup?
60 | \Sexpr[results=rd]{paste(readLines(file.path(".", "inst",
| ^
checkRd: (-1) gvisAnnotationChart.Rd:60-61: Lost braces in \itemize; meant \describe ?
checkRd: (-1) gvisAreaChart.Rd:29-30: Lost braces; missing escapes or markup?
29 | \Sexpr[results=rd]{paste(readLines(file.path(".", "inst",
| ^
checkRd: (-1) gvisAreaChart.Rd:29-30: Lost braces in \itemize; meant \describe ?
checkRd: (-1) gvisBarChart.Rd:29-30: Lost braces; missing escapes or markup?
29 | \Sexpr[results=rd]{paste(readLines(file.path(".", "inst",
| ^
checkRd: (-1) gvisBarChart.Rd:29-30: Lost braces in \itemize; meant \describe ?
checkRd: (-1) gvisBubbleChart.Rd:50-51: Lost braces; missing escapes or markup?
50 | \Sexpr[results=rd]{paste(readLines(file.path(".", "inst",
| ^
checkRd: (-1) gvisBubbleChart.Rd:50-51: Lost braces in \itemize; meant \describe ?
checkRd: (-1) gvisCalendar.Rd:32-33: Lost braces; missing escapes or markup?
32 | \Sexpr[results=rd]{paste(readLines(file.path(".", "inst",
| ^
checkRd: (-1) gvisCalendar.Rd:32-33: Lost braces in \itemize; meant \describe ?
checkRd: (-1) gvisCandlestickChart.Rd:51-52: Lost braces; missing escapes or markup?
51 | \Sexpr[results=rd]{paste(readLines(file.path(".", "inst",
| ^
checkRd: (-1) gvisCandlestickChart.Rd:51-52: Lost braces in \itemize; meant \describe ?
checkRd: (-1) gvisColumnChart.Rd:29-30: Lost braces; missing escapes or markup?
29 | \Sexpr[results=rd]{paste(readLines(file.path(".", "inst",
| ^
checkRd: (-1) gvisColumnChart.Rd:29-30: Lost braces in \itemize; meant \describe ?
checkRd: (-1) gvisComboChart.Rd:31-32: Lost braces; missing escapes or markup?
31 | \Sexpr[results=rd]{paste(readLines(file.path(".", "inst",
| ^
checkRd: (-1) gvisComboChart.Rd:31-32: Lost braces in \itemize; meant \describe ?
checkRd: (-1) gvisGantt.Rd:60-61: Lost braces; missing escapes or markup?
60 | \Sexpr[results=rd]{paste(readLines(file.path(".", "inst",
| ^
checkRd: (-1) gvisGantt.Rd:60-61: Lost braces in \itemize; meant \describe ?
checkRd: (-1) gvisGauge.Rd:29-30: Lost braces; missing escapes or markup?
29 | \Sexpr[results=rd]{paste(readLines(file.path(".", "inst",
| ^
checkRd: (-1) gvisGauge.Rd:29-30: Lost braces in \itemize; meant \describe ?
checkRd: (-1) gvisGeoChart.Rd:64-65: Lost braces; missing escapes or markup?
64 | \Sexpr[results=rd]{paste(readLines(file.path(".", "inst",
| ^
checkRd: (-1) gvisGeoChart.Rd:64-65: Lost braces in \itemize; meant \describe ?
checkRd: (-1) gvisGeoMap.Rd:58-59: Lost braces; missing escapes or markup?
58 | \Sexpr[results=rd]{paste(readLines(file.path(".", "inst",
| ^
checkRd: (-1) gvisGeoMap.Rd:58-59: Lost braces in \itemize; meant \describe ?
checkRd: (-1) gvisHistogram.Rd:24-25: Lost braces; missing escapes or markup?
24 | \Sexpr[results=rd]{paste(readLines(file.path(".", "inst",
| ^
checkRd: (-1) gvisHistogram.Rd:24-25: Lost braces in \itemize; meant \describe ?
checkRd: (-1) gvisLineChart.Rd:29-30: Lost braces; missing escapes or markup?
29 | \Sexpr[results=rd]{paste(readLines(file.path(".", "inst",
| ^
checkRd: (-1) gvisLineChart.Rd:29-30: Lost braces in \itemize; meant \describe ?
checkRd: (-1) gvisMap.Rd:34-35: Lost braces; missing escapes or markup?
34 | \Sexpr[results=rd]{paste(readLines(file.path(".", "inst",
| ^
checkRd: (-1) gvisMap.Rd:34-35: Lost braces in \itemize; meant \describe ?
checkRd: (-1) gvisMotionChart.Rd:70-71: Lost braces; missing escapes or markup?
70 | \Sexpr[results=rd]{paste(readLines(file.path(".", "inst",
| ^
checkRd: (-1) gvisMotionChart.Rd:70-71: Lost braces in \itemize; meant \describe ?
checkRd: (-1) gvisOrgChart.Rd:46-47: Lost braces; missing escapes or markup?
46 | \Sexpr[results=rd]{paste(readLines(file.path(".", "inst",
| ^
checkRd: (-1) gvisOrgChart.Rd:46-47: Lost braces in \itemize; meant \describe ?
checkRd: (-1) gvisPieChart.Rd:29-30: Lost braces; missing escapes or markup?
29 | \Sexpr[results=rd]{paste(readLines(file.path(".", "inst",
| ^
checkRd: (-1) gvisPieChart.Rd:29-30: Lost braces in \itemize; meant \describe ?
checkRd: (-1) gvisSankey.Rd:32-33: Lost braces; missing escapes or markup?
32 | \Sexpr[results=rd]{paste(readLines(file.path(".", "inst",
| ^
checkRd: (-1) gvisSankey.Rd:32-33: Lost braces in \itemize; meant \describe ?
checkRd: (-1) gvisScatterChart.Rd:26-27: Lost braces; missing escapes or markup?
26 | \Sexpr[results=rd]{paste(readLines(file.path(".", "inst",
| ^
checkRd: (-1) gvisScatterChart.Rd:26-27: Lost braces in \itemize; meant \describe ?
checkRd: (-1) gvisSteppedAreaChart.Rd:30-31: Lost braces; missing escapes or markup?
30 | \Sexpr[results=rd]{paste(readLines(file.path(".", "inst",
| ^
checkRd: (-1) gvisSteppedAreaChart.Rd:30-31: Lost braces in \itemize; meant \describe ?
checkRd: (-1) gvisTable.Rd:23-24: Lost braces; missing escapes or markup?
23 | \Sexpr[results=rd]{paste(readLines(file.path(".", "inst",
| ^
checkRd: (-1) gvisTable.Rd:23-24: Lost braces in \itemize; meant \describe ?
checkRd: (-1) gvisTable.Rd:32: Lost braces; missing escapes or markup?
32 | For instance, {pattern:'#,###\%'} will result in output values "1,000\%",
| ^
checkRd: (-1) gvisTimeline.Rd:42-43: Lost braces; missing escapes or markup?
42 | \Sexpr[results=rd]{paste(readLines(file.path(".", "inst",
| ^
checkRd: (-1) gvisTimeline.Rd:42-43: Lost braces in \itemize; meant \describe ?
checkRd: (-1) gvisTreeMap.Rd:56-57: Lost braces; missing escapes or markup?
56 | \Sexpr[results=rd]{paste(readLines(file.path(".", "inst",
| ^
checkRd: (-1) gvisTreeMap.Rd:56-57: Lost braces in \itemize; meant \describe ?
checkRd: (-1) gvisWordTree.Rd:49-50: Lost braces; missing escapes or markup?
49 | \Sexpr[results=rd]{paste(readLines(file.path(".", "inst",
| ^
checkRd: (-1) gvisWordTree.Rd:49-50: Lost braces in \itemize; meant \describe ?
checkRd: (-1) gvisWordTree.Rd:54: Lost braces in \itemize; meant \describe ?
checkRd: (-1) gvisWordTree.Rd:55: Lost braces in \itemize; meant \describe ?
- checking Rd metadata ... OK
- checking Rd line widths ... OK
- checking Rd cross-references ... OK
- checking for missing documentation entries ... OK
- checking for code/documentation mismatches ... OK
- checking Rd \usage sections ... OK
- checking Rd contents ... OK
- checking for unstated dependencies in examples ... OK
- checking contents of ‘data’ directory ... OK
- checking data for non-ASCII characters ... OK
- checking LazyData ... OK
- checking data for ASCII and uncompressed saves ... OK
- checking installed files from ‘inst/doc’ ... OK
- checking files in ‘vignettes’ ... OK
- checking examples ... OK
- checking for unstated dependencies in vignettes ... OK
- checking package vignettes ... OK
- checking re-building of vignette outputs ... [13s/37s] OK
- checking PDF version of manual ... [14s/37s] OK
- checking HTML version of manual ... [7s/22s] OK
- checking for non-standard things in the check directory ... OK
- checking for detritus in the temp directory ... OK
- DONE
Status: 1 NOTE