- using R Under development (unstable) (2024-04-24 r86484)
- using platform: x86_64-pc-linux-gnu
- R was compiled by
clang version 18.1.4
flang-new version 18.1.4
- running under: Fedora Linux 36 (Workstation Edition)
- using session charset: UTF-8
- using option ‘--no-stop-on-test-error’
- checking for file ‘RobustCalibration/DESCRIPTION’ ... OK
- checking extension type ... Package
- this is package ‘RobustCalibration’ version ‘0.5.4’
- checking package namespace information ... OK
- checking package dependencies ... OK
- checking if this is a source package ... OK
- checking if there is a namespace ... OK
- checking for executable files ... OK
- checking for hidden files and directories ... OK
- checking for portable file names ... OK
- checking for sufficient/correct file permissions ... OK
- checking whether package ‘RobustCalibration’ can be installed ... [87s/88s] OK
See the install log for details.
- used C compiler: ‘clang version 18.1.4’
- used C++ compiler: ‘clang version 18.1.4’
- checking installed package size ... OK
- checking package directory ... OK
- checking DESCRIPTION meta-information ... OK
- checking top-level files ... OK
- checking for left-over files ... OK
- checking index information ... OK
- checking package subdirectories ... OK
- checking code files for non-ASCII characters ... OK
- checking R files for syntax errors ... OK
- checking whether the package can be loaded ... OK
- checking whether the package can be loaded with stated dependencies ... OK
- checking whether the package can be unloaded cleanly ... OK
- checking whether the namespace can be loaded with stated dependencies ... OK
- checking whether the namespace can be unloaded cleanly ... OK
- checking loading without being on the library search path ... OK
- checking whether startup messages can be suppressed ... OK
- checking use of S3 registration ... OK
- checking dependencies in R code ... OK
- checking S3 generic/method consistency ... OK
- checking replacement functions ... OK
- checking foreign function calls ... OK
- checking R code for possible problems ... [29s/38s] OK
- checking Rd files ... NOTE
checkRd: (-1) rcalibration_MS-class.Rd:21: Lost braces; missing escapes or markup?
21 | \item{\code{input}:}{Object of class \code{list}. Each element is a \code{matrix} of the design of experiments in each source with dimension n_i x p_{x,i}, for i=1,...,num_sources.}
| ^
checkRd: (-1) separable_kernel.Rd:26: Lost braces
26 | A vector specifying the type of kernels of each coordinate of the input. \code{matern_3_2} and \code{matern_5_2} are \code{Matern correlation} with roughness parameter 3/2 and 5/2 respectively. \code{pow_exp} is power exponential correlation with roughness parameter alpha. If \code{pow_exp} is to be used, one needs to specify its roughness parameter alpha. The default choice is \code{matern_5_2}. The \code{periodic_gauss} means the Gaussian kernel with periodic folding method with be used. The code{periodic_exp} means the exponential kernel with periodic folding method will be used.
| ^
- checking Rd metadata ... OK
- checking Rd line widths ... OK
- checking Rd cross-references ... OK
- checking for missing documentation entries ... OK
- checking for code/documentation mismatches ... OK
- checking Rd \usage sections ... OK
- checking Rd contents ... OK
- checking for unstated dependencies in examples ... OK
- checking line endings in C/C++/Fortran sources/headers ... OK
- checking pragmas in C/C++ headers and code ... OK
- checking compilation flags used ... OK
- checking compiled code ... OK
- checking examples ... [41s/48s] OK
- checking PDF version of manual ... [10s/15s] OK
- checking HTML version of manual ... OK
- checking for non-standard things in the check directory ... OK
- checking for detritus in the temp directory ... OK
- DONE
Status: 1 NOTE